BEGIN:VCALENDAR
VERSION:2.0
PRODID:-//StackedGame.com - ECPv5.14.1//NONSGML v1.0//EN
CALSCALE:GREGORIAN
METHOD:PUBLISH
X-WR-CALNAME:StackedGame.com
X-ORIGINAL-URL:https://events.stackedgame.com
X-WR-CALDESC:Events for StackedGame.com
REFRESH-INTERVAL;VALUE=DURATION:PT1H
X-Robots-Tag:noindex
X-PUBLISHED-TTL:PT1H
BEGIN:VTIMEZONE
TZID:UTC
BEGIN:STANDARD
TZOFFSETFROM:+0000
TZOFFSETTO:+0000
TZNAME:UTC
DTSTART:20220101T000000
END:STANDARD
END:VTIMEZONE
BEGIN:VEVENT
DTSTART;TZID=UTC:20220905T080000
DTEND;TZID=UTC:20220907T170000
DTSTAMP:20260420T021357
CREATED:20220906T071631Z
LAST-MODIFIED:20240116T141706Z
UID:34935-1662364800-1662570000@events.stackedgame.com
SUMMARY:ESI LONDON
DESCRIPTION:From ESI: Our flagship ESI London show made a triumphant return to the physical events space in 2021\, and for 2022\, we’re committed to making it even bigger and even better.\n\nOur usual concoction of the very best networking\, education\, content and hospitality will return to the UK’s capital\, with some more surprises in store.\n\nWith full details to be revealed in due course\, ESI London 2022 will be our largest and most ambitious event yet\, as we continue to listen to feedback\, push the boundaries\, and ultimately deliver the most memorable and valuable industry events we can.
URL:https://events.stackedgame.com/events/esi-london/
LOCATION:Wembley Park\, Wembley HA9 0JT\, United Kingdom Wembley United Kingdom\, Wembley Park\, Wembley\, HA9 0JT\, United Kingdom
ATTACH;FMTTYPE=image/jpeg:https://cdn1.events.stackedgame.com/wp-content/uploads/sell/Jordan/E_34935/banner-esi-london-2022jpg.jpg
END:VEVENT
END:VCALENDAR