BEGIN:VCALENDAR
VERSION:2.0
PRODID:-//StackedGame.com - ECPv5.14.1//NONSGML v1.0//EN
CALSCALE:GREGORIAN
METHOD:PUBLISH
X-WR-CALNAME:StackedGame.com
X-ORIGINAL-URL:https://events.stackedgame.com
X-WR-CALDESC:Events for StackedGame.com
REFRESH-INTERVAL;VALUE=DURATION:PT1H
X-Robots-Tag:noindex
X-PUBLISHED-TTL:PT1H
BEGIN:VTIMEZONE
TZID:UTC
BEGIN:STANDARD
TZOFFSETFROM:+0000
TZOFFSETTO:+0000
TZNAME:UTC
DTSTART:20250101T000000
END:STANDARD
END:VTIMEZONE
BEGIN:VEVENT
DTSTART;TZID=UTC:20251101T090000
DTEND;TZID=UTC:20251102T190000
DTSTAMP:20260420T033642
CREATED:20250804T010516Z
LAST-MODIFIED:20250804T010516Z
UID:40065-1761987600-1762110000@events.stackedgame.com
SUMMARY:Effing-Con 2025
DESCRIPTION:Get ready to level up your weekend with Effing‑Con 2025—Effingham\, Illinois’s ultimate gamer hangout! Taking place at Village Square Mall over November 1–2\, this convention brings together video gamers\, tabletop fans\, TCG enthusiasts\, and cosplay lovers for an unforgettable local experience. \n\n	\n🎮 Gaming tournaments: Smash Bros raffles\, Mario Kart challenges\, plus open-play stations for retro and modern titles. \n\n	\n🧩 Tabletop & TCG zones: Local groups\, demos\, and friendly competitions in board and card games. \n\n	\n🎭 Cosplay corner & panels: Share your hanabi\, show off your costumes\, or jump in a cosplay contest. \n\n	\n📜 Interactive events like roleplay vs rollplay workshops\, arcade history tours\, trivia\, and more. \n\n	\n🛍️ Vendor & art alley: Explore indie creators and local gaming merch—room to discovery. \n\n\nAll this excitement comes at a killer price—general admission for just $5\, with free access for students and younger gamers. With two days of inclusive\, family-friendly programming\, Effing‑Con is all about fun\, community\, and celebrating game culture your way. \nWhether you come solo\, bring your group\, or cosplay your heart out\, Effing‑Con 2025 is the cozy\, heartfelt convention experience for true gaming fans. Don’t miss it—join the fun in Effingham this fall!
URL:https://events.stackedgame.com/events/effing-con-2025/
LOCATION:Village Square Mall\, Effingham\, Illinois\, Effingham\, IL\, 62401\, United States
CATEGORIES:Board Game,General Gaming
ATTACH;FMTTYPE=image/png:https://cdn1.events.stackedgame.com/wp-content/uploads/sell/EventsSimon/E_40065/effingconpng-1754269518.png
END:VEVENT
END:VCALENDAR