BEGIN:VCALENDAR
VERSION:2.0
PRODID:-//StackedGame.com - ECPv5.14.1//NONSGML v1.0//EN
CALSCALE:GREGORIAN
METHOD:PUBLISH
X-WR-CALNAME:StackedGame.com
X-ORIGINAL-URL:https://events.stackedgame.com
X-WR-CALDESC:Events for StackedGame.com
REFRESH-INTERVAL;VALUE=DURATION:PT1H
X-Robots-Tag:noindex
X-PUBLISHED-TTL:PT1H
BEGIN:VTIMEZONE
TZID:America/New_York
BEGIN:DAYLIGHT
TZOFFSETFROM:-0500
TZOFFSETTO:-0400
TZNAME:EDT
DTSTART:20250309T070000
END:DAYLIGHT
BEGIN:STANDARD
TZOFFSETFROM:-0400
TZOFFSETTO:-0500
TZNAME:EST
DTSTART:20251102T060000
END:STANDARD
END:VTIMEZONE
BEGIN:VEVENT
DTSTART;TZID=America/New_York:20250103T140000
DTEND;TZID=America/New_York:20250105T200000
DTSTAMP:20260420T051801
CREATED:20241102T170955Z
LAST-MODIFIED:20241102T170955Z
UID:38100-1735912800-1736107200@events.stackedgame.com
SUMMARY:Animate! Raleigh 2025
DESCRIPTION:Animate! Raleigh is a convention focusing on anime and pop culture with various activities and panels. We feature entertainment\, Q&As\, video and tabletop gaming\, panels\, costume contests\, cosplay wrestling\, and so much more fandom for you to explore.
URL:https://events.stackedgame.com/events/animate-raleigh-2025/
LOCATION:Raleigh Convention Center\, 500 S. Salisbury St\, Raleigh\, NC\, 27601\, United States
CATEGORIES:Anime & Manga
ATTACH;FMTTYPE=image/png:https://cdn1.events.stackedgame.com/wp-content/uploads/animate-raleigh-2025featured-imagepng.png
ORGANIZER;CN="GalaxyCon":MAILTO:animate@galaxycon.com
END:VEVENT
BEGIN:VEVENT
DTSTART;TZID=America/New_York:20250522T180000
DTEND;TZID=America/New_York:20250525T170000
DTSTAMP:20260420T051801
CREATED:20241109T122059Z
LAST-MODIFIED:20241109T122209Z
UID:38062-1747936800-1748192400@events.stackedgame.com
SUMMARY:Animazement 2025
DESCRIPTION:Animazement is an annual convention in Raleigh celebrating Japanese visual culture including anime and manga with special guests from Japan. \nAnimazement is Raleigh’s premier Japanese animation and culture convention! Enjoy concerts\, educational panels\, limited merchandise\, unique artwork\, and more!
URL:https://events.stackedgame.com/events/animazement-2025/
LOCATION:Raleigh Convention Center\, 500 S. Salisbury St\, Raleigh\, NC\, 27601\, United States
CATEGORIES:Anime & Manga,Comicon
ATTACH;FMTTYPE=image/png:https://cdn1.events.stackedgame.com/wp-content/uploads/animazement-2025featured-imagepng.png
ORGANIZER;CN="Educational%20Growth%20Across%20Oceans%20%28EGAO%29":MAILTO:registration@animazement.org
END:VEVENT
END:VCALENDAR