BEGIN:VCALENDAR
VERSION:2.0
PRODID:-//StackedGame.com - ECPv5.14.1//NONSGML v1.0//EN
CALSCALE:GREGORIAN
METHOD:PUBLISH
X-WR-CALNAME:StackedGame.com
X-ORIGINAL-URL:https://events.stackedgame.com
X-WR-CALDESC:Events for StackedGame.com
REFRESH-INTERVAL;VALUE=DURATION:PT1H
X-Robots-Tag:noindex
X-PUBLISHED-TTL:PT1H
BEGIN:VTIMEZONE
TZID:UTC
BEGIN:STANDARD
TZOFFSETFROM:+0000
TZOFFSETTO:+0000
TZNAME:UTC
DTSTART:20240101T000000
END:STANDARD
END:VTIMEZONE
BEGIN:VEVENT
DTSTART;VALUE=DATE:20240420
DTEND;VALUE=DATE:20240422
DTSTAMP:20260420T033641
CREATED:20231218T062050Z
LAST-MODIFIED:20240119T095327Z
UID:36701-1713571200-1713743999@events.stackedgame.com
SUMMARY:Portsmouth Anime & Gaming Con 2024
DESCRIPTION:Anime Convention with Gaming and Video Gaming programming\n\nOrganized by Animeleague \nAnimeleague exists to bring anime fans\, gaming fans\, cosplayers and general geeks together. We do this through online forums\, social media\, real-life meetups and conventions to help build one big family and community of friends together. We run over fifty events a year ranging from small free community meetups to free minicons to full-scale conventions.
URL:https://events.stackedgame.com/events/portsmouth-anime-gaming-con-2024/
LOCATION:Portsmouth Marriott Hotel\, Portsmouth\, Florida\, United Kingdom
CATEGORIES:Anime & Manga
ATTACH;FMTTYPE=image/png:https://cdn1.events.stackedgame.com/wp-content/uploads/sell/Simon/E_36701/portsmouthanimegamingcon2024png.png
END:VEVENT
END:VCALENDAR