BEGIN:VCALENDAR
VERSION:2.0
PRODID:-//StackedGame.com - ECPv5.14.1//NONSGML v1.0//EN
CALSCALE:GREGORIAN
METHOD:PUBLISH
X-WR-CALNAME:StackedGame.com
X-ORIGINAL-URL:https://events.stackedgame.com
X-WR-CALDESC:Events for StackedGame.com
REFRESH-INTERVAL;VALUE=DURATION:PT1H
X-Robots-Tag:noindex
X-PUBLISHED-TTL:PT1H
BEGIN:VTIMEZONE
TZID:Europe/London
BEGIN:DAYLIGHT
TZOFFSETFROM:+0000
TZOFFSETTO:+0100
TZNAME:BST
DTSTART:20250330T010000
END:DAYLIGHT
BEGIN:STANDARD
TZOFFSETFROM:+0100
TZOFFSETTO:+0000
TZNAME:GMT
DTSTART:20251026T010000
END:STANDARD
END:VTIMEZONE
BEGIN:VEVENT
DTSTART;VALUE=DATE:20250726
DTEND;VALUE=DATE:20250728
DTSTAMP:20260419T134207
CREATED:20241015T035857Z
LAST-MODIFIED:20241027T120604Z
UID:38371-1753488000-1753660799@events.stackedgame.com
SUMMARY:MCM Comic Con Manchester 2025
DESCRIPTION:COMIC CON MANCHESTER is one of the UK’s largest pop culture conventions\, attracting over ten thousand fans annually to our home venue\, Bowlers Exhibition Centre in Manchester.  The main attraction every year is of course the star guests\, and we always endeavour to bring you a variety of exciting names from movies\, tv\, streaming\, gaming\, anime and sports entertainment. In previous years Comic Con Manchester has been proud to host the likes of Tyler Hoechlin\, Zachary Quinto\, Seth Green\, Zachary Levi and Elizabeth Berkeley. \n 
URL:https://events.stackedgame.com/events/mcm-comic-con-manchester-2025/
LOCATION:Manchester Central\, Manchester Central Convention Complex\, Petersfield\, Windmill Street\, Manchester\, M2 3GX\, United Kingdom
CATEGORIES:Comicon,Cosplay
ATTACH;FMTTYPE=image/png:https://cdn1.events.stackedgame.com/wp-content/uploads/mcm-comic-con-manchester-2025featured-imagepng.png
ORGANIZER;CN="ReedPop":MAILTO:info@reedpop.com
GEO:53.4773;-2.2466
X-APPLE-STRUCTURED-LOCATION;VALUE=URI;X-ADDRESS=Manchester Central Manchester Central Convention Complex Petersfield Windmill Street Manchester M2 3GX United Kingdom;X-APPLE-RADIUS=500;X-TITLE=Manchester Central Convention Complex\, Petersfield\, Windmill Street:geo:-2.2466,53.4773
END:VEVENT
END:VCALENDAR