BEGIN:VCALENDAR
VERSION:2.0
PRODID:-//StackedGame.com - ECPv5.14.1//NONSGML v1.0//EN
CALSCALE:GREGORIAN
METHOD:PUBLISH
X-WR-CALNAME:StackedGame.com
X-ORIGINAL-URL:https://events.stackedgame.com
X-WR-CALDESC:Events for StackedGame.com
REFRESH-INTERVAL;VALUE=DURATION:PT1H
X-Robots-Tag:noindex
X-PUBLISHED-TTL:PT1H
BEGIN:VTIMEZONE
TZID:UTC
BEGIN:STANDARD
TZOFFSETFROM:+0000
TZOFFSETTO:+0000
TZNAME:UTC
DTSTART:20240101T000000
END:STANDARD
END:VTIMEZONE
BEGIN:VEVENT
DTSTART;TZID=UTC:20240928T080000
DTEND;TZID=UTC:20240929T170000
DTSTAMP:20260420T033642
CREATED:20240711T024833Z
LAST-MODIFIED:20240923T072003Z
UID:37298-1727510400-1727629200@events.stackedgame.com
SUMMARY:LGX 2024
DESCRIPTION:Luxembourg Gaming Xperience (LGX)\, organized by Media Partners Group\, is a dynamic event designed for gamers of all ages. The event features a wide range of activities\, including competitive gaming tournaments\, cosplay contests\, and panels with influencers and developers. Attendees can explore the latest games\, participate in VR experiences\, and visit vendor stalls offering gaming merchandise. \nLGX also includes an artist alley where creators showcase their work\, and interactive workshops where participants can learn about game development\, cosplay crafting\, and more. The event is known for its inclusive and community-driven atmosphere\, making it a popular destination for both casual and hardcore gamers.
URL:https://events.stackedgame.com/events/lgx-2024/
LOCATION:LuxExpo The Box\, Luxembourg\, 10\, Circuit de la Foire Internationale\, Luxembourg\, Luxembourg
CATEGORIES:Anime & Manga,Cosplay,Esports,Game Merchandise,Game Development,General Gaming
ATTACH;FMTTYPE=image/png:https://cdn1.events.stackedgame.com/wp-content/uploads/sell/Simon/E_37298/logoc237701png.png
END:VEVENT
END:VCALENDAR