BEGIN:VCALENDAR
VERSION:2.0
PRODID:-//StackedGame.com - ECPv5.14.1//NONSGML v1.0//EN
CALSCALE:GREGORIAN
METHOD:PUBLISH
X-WR-CALNAME:StackedGame.com
X-ORIGINAL-URL:https://events.stackedgame.com
X-WR-CALDESC:Events for StackedGame.com
REFRESH-INTERVAL;VALUE=DURATION:PT1H
X-Robots-Tag:noindex
X-PUBLISHED-TTL:PT1H
BEGIN:VTIMEZONE
TZID:Africa/Abidjan
BEGIN:STANDARD
TZOFFSETFROM:+0000
TZOFFSETTO:+0000
TZNAME:GMT
DTSTART:20250101T000000
END:STANDARD
END:VTIMEZONE
BEGIN:VEVENT
DTSTART;VALUE=DATE:20250320
DTEND;VALUE=DATE:20250324
DTSTAMP:20260420T033427
CREATED:20241112T120936Z
LAST-MODIFIED:20241112T120936Z
UID:38065-1742428800-1742774399@events.stackedgame.com
SUMMARY:Zenkaikon 2025
DESCRIPTION:Zenkaikon is an annual celebration of anime\, sci-fi\, and gaming in Lancaster\, featuring panels\, workshops\, and cosplay contests \njoin us for our annual celebration of anime\, science fiction\, fantasy\, comics\, games\, and fandom in Lancaster\, PA. Our three-plus day event includes panels\, workshops\, screenings\, cosplay\, video and tabletop gaming\, LARP\, AMVs\, dances\, vendors\, artists\, and more!
URL:https://events.stackedgame.com/events/zenkaikon-2025/
LOCATION:Lancaster County Convention Center\, 25 S Queen St\, Lancaster\, PA\, 17603\, United States
CATEGORIES:Anime & Manga,Cosplay
ATTACH;FMTTYPE=image/png:https://cdn1.events.stackedgame.com/wp-content/uploads/zenkaikon-2025featured-imagepng.png
ORGANIZER;CN="Zenkaikon%20Entertainment%20Inc.":MAILTO:info@zenkaikon.com
GEO:40.0379;-76.3055
X-APPLE-STRUCTURED-LOCATION;VALUE=URI;X-ADDRESS=Lancaster County Convention Center 25 S Queen St Lancaster PA 17603 United States;X-APPLE-RADIUS=500;X-TITLE=25 S Queen St:geo:-76.3055,40.0379
END:VEVENT
END:VCALENDAR