BEGIN:VCALENDAR
VERSION:2.0
PRODID:-//StackedGame.com - ECPv5.14.1//NONSGML v1.0//EN
CALSCALE:GREGORIAN
METHOD:PUBLISH
X-WR-CALNAME:StackedGame.com
X-ORIGINAL-URL:https://events.stackedgame.com
X-WR-CALDESC:Events for StackedGame.com
REFRESH-INTERVAL;VALUE=DURATION:PT1H
X-Robots-Tag:noindex
X-PUBLISHED-TTL:PT1H
BEGIN:VTIMEZONE
TZID:UTC
BEGIN:STANDARD
TZOFFSETFROM:+0000
TZOFFSETTO:+0000
TZNAME:UTC
DTSTART:20250101T000000
END:STANDARD
END:VTIMEZONE
BEGIN:VEVENT
DTSTART;TZID=UTC:20251121T100000
DTEND;TZID=UTC:20251123T000000
DTSTAMP:20260420T033640
CREATED:20250820T044150Z
LAST-MODIFIED:20250820T044150Z
UID:40250-1763719200-1763856000@events.stackedgame.com
SUMMARY:Planet Anime Kansas City 2025
DESCRIPTION:Dive into Planet Anime Kansas City 2025—the ultimate anime weekend extravaganza swooping into the Kansas City Convention Center from November 21–23. A unique spin-off of Planet Comicon\, this anime-first event promises: \nFan-favorite voice actors bringing their energy to the stage. \nCosplay battles\, anime screenings\, panels\, community meetups\, and themed car showcases. \nArtistic exploration through Artists Alley and expansive vendor lounges. \nSmart access: Red Panda VIPs may enter early\, enjoying prime positioning and perks. \nComprehensive support for all attendees with thoughtful accessibility services and venue guidance. \nWhether you’re a seasoned con-goer or a beginner cosplayer\, Planet Anime KC offers anime lovers a warm\, immersive\, and unforgettable weekend adventure unlike any other.
URL:https://events.stackedgame.com/events/planet-anime-kansas-city-2025/
LOCATION:Kansas City Convention Center\, 301 West 13th Street\, Kansas City\, MO 64105\, KS\, United States
CATEGORIES:Anime & Manga,Cosplay
ATTACH;FMTTYPE=image/png:https://cdn1.events.stackedgame.com/wp-content/uploads/sell/EventsSimon/E_40250/images9png-1755664912.png
END:VEVENT
END:VCALENDAR