BEGIN:VCALENDAR
VERSION:2.0
PRODID:-//StackedGame.com - ECPv5.14.1//NONSGML v1.0//EN
CALSCALE:GREGORIAN
METHOD:PUBLISH
X-WR-CALNAME:StackedGame.com
X-ORIGINAL-URL:https://events.stackedgame.com
X-WR-CALDESC:Events for StackedGame.com
REFRESH-INTERVAL;VALUE=DURATION:PT1H
X-Robots-Tag:noindex
X-PUBLISHED-TTL:PT1H
BEGIN:VTIMEZONE
TZID:UTC
BEGIN:STANDARD
TZOFFSETFROM:+0000
TZOFFSETTO:+0000
TZNAME:UTC
DTSTART:20230101T000000
END:STANDARD
END:VTIMEZONE
BEGIN:VEVENT
DTSTART;TZID=UTC:20231128T080000
DTEND;TZID=UTC:20231129T170000
DTSTAMP:20260420T020949
CREATED:20231001T184130Z
LAST-MODIFIED:20240116T231001Z
UID:36353-1701158400-1701277200@events.stackedgame.com
SUMMARY:Nordic Game Helsinki 2023
DESCRIPTION:Gathering thousands of industry professionals in the spring and autumn each year\, Nordic Game is the leading games conference in Europe.\n\nNordic Game the best speakers from the global industry and our own Nordic heroes\, access to countless games industry professionals via our Expo\, Developer Showcase and MeetToMatch\, a host of networking and social events in Helsinki\, Malmö and on the Nordic Game Discord server\, as well as the highly anticipated Nordic Game Awards and much more.
URL:https://events.stackedgame.com/events/nordic-game-helsinki-2023/
LOCATION:Hotel Kamp\, Helsinki\, Finland
ATTACH;FMTTYPE=image/jpeg:https://cdn1.events.stackedgame.com/wp-content/uploads/sell/Jordan/E_36353/banner-nordic-game-helsinki-2023jpg.jpg
END:VEVENT
END:VCALENDAR