BEGIN:VCALENDAR
VERSION:2.0
PRODID:-//StackedGame.com - ECPv5.14.1//NONSGML v1.0//EN
CALSCALE:GREGORIAN
METHOD:PUBLISH
X-WR-CALNAME:StackedGame.com
X-ORIGINAL-URL:https://events.stackedgame.com
X-WR-CALDESC:Events for StackedGame.com
REFRESH-INTERVAL;VALUE=DURATION:PT1H
X-Robots-Tag:noindex
X-PUBLISHED-TTL:PT1H
BEGIN:VTIMEZONE
TZID:America/New_York
BEGIN:DAYLIGHT
TZOFFSETFROM:-0500
TZOFFSETTO:-0400
TZNAME:EDT
DTSTART:20250309T070000
END:DAYLIGHT
BEGIN:STANDARD
TZOFFSETFROM:-0400
TZOFFSETTO:-0500
TZNAME:EST
DTSTART:20251102T060000
END:STANDARD
END:VTIMEZONE
BEGIN:VEVENT
DTSTART;TZID=America/New_York:20250105T100000
DTEND;TZID=America/New_York:20250105T170000
DTSTAMP:20260419T225325
CREATED:20241108T120910Z
LAST-MODIFIED:20241108T120910Z
UID:38105-1736071200-1736096400@events.stackedgame.com
SUMMARY:Rochester Anime-Fest 2025
DESCRIPTION:Rochester Anime-Fest is an anime collectors’ mecca convention located in the beautiful City of Rochester\, New York. Striving to be New York’s best and truest anime convention featuring fandoms of multiple genres. As a long-time collector of anime\, manga and pop culture items the promoter brings Rochester an event that will satisfy all anime fandom!
URL:https://events.stackedgame.com/events/rochester-anime-fest-2025/
LOCATION:DoubleTree by Hilton Hotel Rochester\, 1111 Jefferson Rd\, Rochester\, NY\, 14623\, United States
CATEGORIES:Anime & Manga
ATTACH;FMTTYPE=image/png:https://cdn1.events.stackedgame.com/wp-content/uploads/rochester-anime-fest-2025featured-imagepng-1.png
GEO:43.0895;-77.6366
X-APPLE-STRUCTURED-LOCATION;VALUE=URI;X-ADDRESS=DoubleTree by Hilton Hotel Rochester 1111 Jefferson Rd Rochester NY 14623 United States;X-APPLE-RADIUS=500;X-TITLE=1111 Jefferson Rd:geo:-77.6366,43.0895
END:VEVENT
END:VCALENDAR