BEGIN:VCALENDAR
VERSION:2.0
PRODID:-//StackedGame.com - ECPv5.14.1//NONSGML v1.0//EN
CALSCALE:GREGORIAN
METHOD:PUBLISH
X-WR-CALNAME:StackedGame.com
X-ORIGINAL-URL:https://events.stackedgame.com
X-WR-CALDESC:Events for StackedGame.com
REFRESH-INTERVAL;VALUE=DURATION:PT1H
X-Robots-Tag:noindex
X-PUBLISHED-TTL:PT1H
BEGIN:VTIMEZONE
TZID:UTC
BEGIN:STANDARD
TZOFFSETFROM:+0000
TZOFFSETTO:+0000
TZNAME:UTC
DTSTART:20240101T000000
END:STANDARD
END:VTIMEZONE
BEGIN:VEVENT
DTSTART;VALUE=DATE:20240517
DTEND;VALUE=DATE:20240520
DTSTAMP:20260419T153913
CREATED:20231217T115906Z
LAST-MODIFIED:20240119T095004Z
UID:36671-1715904000-1716163199@events.stackedgame.com
SUMMARY:Anime Central 2024
DESCRIPTION:Anime Convention \nAnime Central (ACen) is the largest anime\, manga and Japanese popular culture convention in Chicago and the Midwest. Our event is located less than 30 minutes from downtown Chicago\, in Rosemont\, IL.\n\nAs part of its mission\, ACen brings fans together with guests from the Japanese and US sectors of the anime and manga industry\, as well as gaming\, cinema\, and Asian culture personalities. The event includes a huge exhibit hall\, a massive video game room\, concerts\, dances\, educational panels and workshops\, premiere screenings\, autograph sessions\, 24-hour video rooms\, tabletop gaming and much\, much more!
URL:https://events.stackedgame.com/events/anime-central-2024/
LOCATION:Donald E. Stephens Convention Center / Hyatt Regency O’Hare\, 5555 N. River Road\, Rosemont\, California\, 60018\, United States
CATEGORIES:Anime & Manga
ATTACH;FMTTYPE=image/png:https://cdn1.events.stackedgame.com/wp-content/uploads/sell/Simon/E_36671/animecentral2024png.png
END:VEVENT
END:VCALENDAR