BEGIN:VCALENDAR
VERSION:2.0
PRODID:-//StackedGame.com - ECPv5.14.1//NONSGML v1.0//EN
CALSCALE:GREGORIAN
METHOD:PUBLISH
X-WR-CALNAME:StackedGame.com
X-ORIGINAL-URL:https://events.stackedgame.com
X-WR-CALDESC:Events for StackedGame.com
REFRESH-INTERVAL;VALUE=DURATION:PT1H
X-Robots-Tag:noindex
X-PUBLISHED-TTL:PT1H
BEGIN:VTIMEZONE
TZID:UTC
BEGIN:STANDARD
TZOFFSETFROM:+0000
TZOFFSETTO:+0000
TZNAME:UTC
DTSTART:20240101T000000
END:STANDARD
END:VTIMEZONE
BEGIN:VEVENT
DTSTART;VALUE=DATE:20241012
DTEND;VALUE=DATE:20241014
DTSTAMP:20260420T021204
CREATED:20240708T064852Z
LAST-MODIFIED:20240708T064852Z
UID:37197-1728691200-1728863999@events.stackedgame.com
SUMMARY:RetroFest Arkansas 2024
DESCRIPTION:Step back in time at RetroFest Arkansas\, the ultimate celebration of all things retro\, on October 12th and 13th\, 2024\, in Conway\, Arkansas. This two-day extravaganza transforms the city into a vibrant hub of nostalgia and vintage charm. \nRelive the golden age of gaming with a treasure trove of classic video games. From 8-bit to 16-bit consoles\, every pixel and chiptune melody will transport you to the formative years of digital entertainment. \nBut RetroFest isn’t just about games. It’s a haven for vintage fashion enthusiasts\, offering an array of clothing that captures the essence of bygone eras. From the roaring ’20s to the bold styles of the ’80s\, you’ll find pieces that evoke the spirit of the past. \nMeet iconic TV and movie personalities who defined generations. Hear their behind-the-scenes stories\, and maybe even snag an autograph or two. \nBeyond video games and fashion\, RetroFest is packed with nostalgia-inducing items. From collectible toys to vinyl records\, every corner of the convention offers treasures that will trigger fond memories and delight collectors. \nRetroFest Arkansas isn’t just an event; it’s a journey through time. Mark your calendars and get ready to immerse yourself in a world where the past comes alive\, only at RetroFest Arkansas. \n\n\n\n\n\n\n\n\n 
URL:https://events.stackedgame.com/events/retrofest-arkansas-2024/
LOCATION:Conway Expo and Event Center\, Conway\, Arkansas\, United States
CATEGORIES:General Gaming
ATTACH;FMTTYPE=image/png:https://cdn1.events.stackedgame.com/wp-content/uploads/sell/Simon/E_37197/logoc23757png.png
END:VEVENT
END:VCALENDAR