BEGIN:VCALENDAR
VERSION:2.0
PRODID:-//StackedGame.com - ECPv5.14.1//NONSGML v1.0//EN
CALSCALE:GREGORIAN
METHOD:PUBLISH
X-WR-CALNAME:StackedGame.com
X-ORIGINAL-URL:https://events.stackedgame.com
X-WR-CALDESC:Events for StackedGame.com
REFRESH-INTERVAL;VALUE=DURATION:PT1H
X-Robots-Tag:noindex
X-PUBLISHED-TTL:PT1H
BEGIN:VTIMEZONE
TZID:UTC
BEGIN:STANDARD
TZOFFSETFROM:+0000
TZOFFSETTO:+0000
TZNAME:UTC
DTSTART:20220101T000000
END:STANDARD
END:VTIMEZONE
BEGIN:VEVENT
DTSTART;VALUE=DATE:20231007
DTEND;VALUE=DATE:20231010
DTSTAMP:20260420T033258
CREATED:20221215T235447Z
LAST-MODIFIED:20240116T231124Z
UID:35788-1696636800-1696895999@events.stackedgame.com
SUMMARY:TwitchCon
DESCRIPTION:Gaming and streaming convention –  \nTwitchCon is a semi-annual gaming convention for the livestreaming video platform Twitch. The convention is organized by Twitch Interactive and focuses on the general culture of livestreaming and video gaming. \nTwitchCon is back IRL\, celebrating all the stuff we love with all our favorite peeps and oh yeah\, you’re totally invited. New friends\, old friends\, creators\, esports\, mods\, memories for life\, and so much more. It’s alllllll going to be there.
URL:https://events.stackedgame.com/events/twitchcon/
LOCATION:paris\, France
ATTACH;FMTTYPE=image/jpeg:https://cdn1.events.stackedgame.com/wp-content/uploads/sell/Simon/E_35788/ezgifcom-gif-maker1jpg.jpg
END:VEVENT
BEGIN:VEVENT
DTSTART;TZID=UTC:20221007T080000
DTEND;TZID=UTC:20221009T170000
DTSTAMP:20260420T033258
CREATED:20220919T110930Z
LAST-MODIFIED:20240116T142448Z
UID:35238-1665129600-1665334800@events.stackedgame.com
SUMMARY:TwitchCon San Diego 2022
DESCRIPTION:TwitchCon San Diego 2022\nCalling all streamers and viewers! Mark your calendars because this is the moment we’ve all been waiting for — TwitchCon is back for the Ultimate Squad Up and here are all the deets! TwitchCon Amsterdam will be held at RAI Amsterdam on 16-17 July and TwitchCon San Diego will be back at the San Diego Convention Center on 7-9 October.\n\nHaven’t been to TwitchCon? It’s an epic celebration for people who love Twitch — creators\, chatters\, cosplayers\, mods and more! And since it’s been like forever since we’ve been together in person\, we thought what better way to kick off this reunion than to team up with you in Amsterdam to put on the coolest IRL party yet?
URL:https://events.stackedgame.com/events/twitchcon-san-diego-2022/
LOCATION:San Diego Convention Center\, 111 W Harbor Dr\, San Diego\, CA\, 92101\, United States
ATTACH;FMTTYPE=image/jpeg:https://cdn1.events.stackedgame.com/wp-content/uploads/sell/Jordan/E_35238/twitchcon-2022jpg.jpg
END:VEVENT
END:VCALENDAR