BEGIN:VCALENDAR
VERSION:2.0
PRODID:-//StackedGame.com - ECPv5.14.1//NONSGML v1.0//EN
CALSCALE:GREGORIAN
METHOD:PUBLISH
X-WR-CALNAME:StackedGame.com
X-ORIGINAL-URL:https://events.stackedgame.com
X-WR-CALDESC:Events for StackedGame.com
REFRESH-INTERVAL;VALUE=DURATION:PT1H
X-Robots-Tag:noindex
X-PUBLISHED-TTL:PT1H
BEGIN:VTIMEZONE
TZID:UTC
BEGIN:STANDARD
TZOFFSETFROM:+0000
TZOFFSETTO:+0000
TZNAME:UTC
DTSTART:20240101T000000
END:STANDARD
END:VTIMEZONE
BEGIN:VEVENT
DTSTART;TZID=UTC:20241128T160000
DTEND;TZID=UTC:20241129T020000
DTSTAMP:20260420T033149
CREATED:20241022T045632Z
LAST-MODIFIED:20241022T110708Z
UID:39241-1732809600-1732845600@events.stackedgame.com
SUMMARY:Comicon Arabia 2024
DESCRIPTION:Comic Con Arabia (CCA) is the major pop culture event in the Kingdom of Saudi Arabia. A two-day festival that gives geeks a chance to geek about everything pop culture related. Showcasing comic books\, manga\, anime\, film\, television\, science fiction\, video games\, collectibles\, and popular entertainment activities like cosplay. \nThe first edition of Comic Con Arabia was the first-ever mixed-gender event in Riyadh. It gathered more than 24\,000 fans. Its prime international guest is Jason Momoa\, a.k.a Aquaman\, from DC Universe. It also featured voice artists from top animes like Naruto\, Dragon Ball\, Fullmetal Alchemist\, and many more. Additionally\, there were different workshops\, like costume workshops by expert Marvel costume creator Christopher Donio. Due to immense success\, even during the pandemic Comic Con Arabia moved to a virtual space and eComic Con Live (ECCL) happened! All the fans love about Comic Con was available online – from panel discussions to workshops – and it kicked off with the cosplay competition bringing celebrity judges like Michael ‘Knightmage’ Wilson\, Cavin Lam\, and Sakura Flor. \nAfter the removal of the restriction Comic Con Arabia\, with its extraordinary comeback\, took place in Jeddah. A mix of focus on comics\, sci-fi\, and films or series with guests from famous TV shows such as Alexander Ludwig from Vikings and Itziar Ituno from La Casa de Papel. It also put a Samurai artist\, in the spotlight and performed his artistry. Of course\, the cosplay competition and eSports took over the last day of the latest edition of Comic Con Arabia. The pop culture event that garnered over 50\,000 fans is returning to Riyadh\, promising a bigger spectacle than its successful comeback in Jeddah! \nAs one of the most anticipated events in the Kingdom’s calendar\, Comic Con aims to bring together thousands of enthusiasts to celebrate their shared interests. Keep the goal of developing a platform to highlight local talents\, welcome international artists\, and connect fans to creators bridging the gap between popular culture and Saudi Arabia’s lifestyle.
URL:https://events.stackedgame.com/events/comicon-arabia/
LOCATION:Jeddah Convention Center\, An Nuzhah\, 6343 - حي - 2479\, Jeddah\, Makkah Province\, 23532\, Saudi Arabia
CATEGORIES:Board Game,Comicon,Cosplay,Game Art & Creatives,Game Development,General Gaming
ATTACH;FMTTYPE=image/jpeg:https://cdn1.events.stackedgame.com/wp-content/uploads/sell/DanAvenger/temp/comicconarabia2024injeddah2024nov28jeddahconventioncenter94443-full-en1725275065jpg.jpg
ORGANIZER;CN="THE1":MAILTO:info@comicconarabia.com
GEO:21.5433;39.1728
X-APPLE-STRUCTURED-LOCATION;VALUE=URI;X-ADDRESS=Jeddah Convention Center An Nuzhah 6343 - حي - 2479 Jeddah Makkah Province 23532 Saudi Arabia;X-APPLE-RADIUS=500;X-TITLE=An Nuzhah\, 6343 - حي - 2479:geo:39.1728,21.5433
END:VEVENT
END:VCALENDAR