BEGIN:VCALENDAR
VERSION:2.0
PRODID:-//StackedGame.com - ECPv5.14.1//NONSGML v1.0//EN
CALSCALE:GREGORIAN
METHOD:PUBLISH
X-WR-CALNAME:StackedGame.com
X-ORIGINAL-URL:https://events.stackedgame.com
X-WR-CALDESC:Events for StackedGame.com
REFRESH-INTERVAL;VALUE=DURATION:PT1H
X-Robots-Tag:noindex
X-PUBLISHED-TTL:PT1H
BEGIN:VTIMEZONE
TZID:UTC
BEGIN:STANDARD
TZOFFSETFROM:+0000
TZOFFSETTO:+0000
TZNAME:UTC
DTSTART:20250101T000000
END:STANDARD
END:VTIMEZONE
BEGIN:VEVENT
DTSTART;VALUE=DATE:20250618
DTEND;VALUE=DATE:20250623
DTSTAMP:20260420T023207
CREATED:20250611T144816Z
LAST-MODIFIED:20250611T144816Z
UID:39568-1750204800-1750636799@events.stackedgame.com
SUMMARY:Origins Game Fair 2025
DESCRIPTION:Origins Game Fair is an annual tabletop gaming convention hosted by The Game Manufacturers Association\, held in Columbus\, OH. The event features over 6\,000 gaming events\, a dynamic vendor hall\, special programming\, cosplay\, and a welcoming community for all levels of gamers. The 2025 event marks the 50th anniversary of the convention\, making it a milestone celebration for the gaming community.
URL:https://events.stackedgame.com/events/origins-game-fair-2025/
LOCATION:Hyatt Regency Columbus & Greater Columbus Convention Center\, 400 North High Street\, Columbus\, OH\, 43215\, United States
CATEGORIES:Board Game,Esports,Indie Games,Retro Games,General Gaming
ATTACH;FMTTYPE=image/png:https://cdn1.events.stackedgame.com/wp-content/uploads/sell/DanAvenger/temp/originsgamefairpng.png
END:VEVENT
END:VCALENDAR