BEGIN:VCALENDAR
VERSION:2.0
PRODID:-//StackedGame.com - ECPv5.14.1//NONSGML v1.0//EN
CALSCALE:GREGORIAN
METHOD:PUBLISH
X-WR-CALNAME:StackedGame.com
X-ORIGINAL-URL:https://events.stackedgame.com
X-WR-CALDESC:Events for StackedGame.com
REFRESH-INTERVAL;VALUE=DURATION:PT1H
X-Robots-Tag:noindex
X-PUBLISHED-TTL:PT1H
BEGIN:VTIMEZONE
TZID:UTC
BEGIN:STANDARD
TZOFFSETFROM:+0000
TZOFFSETTO:+0000
TZNAME:UTC
DTSTART:20230101T000000
END:STANDARD
END:VTIMEZONE
BEGIN:VEVENT
DTSTART;TZID=UTC:20230320T080000
DTEND;TZID=UTC:20230324T170000
DTSTAMP:20260420T033149
CREATED:20220920T133158Z
LAST-MODIFIED:20240116T134053Z
UID:35347-1679299200-1679677200@events.stackedgame.com
SUMMARY:GDC 2023 (Hybrid)
DESCRIPTION:GDC 2023 (Hybrid)\nThe Game Developers Conference (GDC) brings the game development community together to exchange ideas\, solve problems\, and shape the future of the industry across five days of education\, inspiration\, and networking. Attendees include programmers\, artists\, producers\, game designers\, audio professionals\, and business leaders.
URL:https://events.stackedgame.com/events/gdc-2023-hybrid/
LOCATION:Moscone Center\, 747 Howard St\, San Francisco\, California\, 94103\, United States
ATTACH;FMTTYPE=image/jpeg:https://cdn1.events.stackedgame.com/wp-content/uploads/sell/Jordan/E_35347/gdc-spacelogo-600jpg.jpg
END:VEVENT
END:VCALENDAR