BEGIN:VCALENDAR
VERSION:2.0
PRODID:-//StackedGame.com - ECPv5.14.1//NONSGML v1.0//EN
CALSCALE:GREGORIAN
METHOD:PUBLISH
X-WR-CALNAME:StackedGame.com
X-ORIGINAL-URL:https://events.stackedgame.com
X-WR-CALDESC:Events for StackedGame.com
REFRESH-INTERVAL;VALUE=DURATION:PT1H
X-Robots-Tag:noindex
X-PUBLISHED-TTL:PT1H
BEGIN:VTIMEZONE
TZID:UTC
BEGIN:STANDARD
TZOFFSETFROM:+0000
TZOFFSETTO:+0000
TZNAME:UTC
DTSTART:20250101T000000
END:STANDARD
END:VTIMEZONE
BEGIN:VEVENT
DTSTART;VALUE=DATE:20250817
DTEND;VALUE=DATE:20250820
DTSTAMP:20260420T033150
CREATED:20250623T172654Z
LAST-MODIFIED:20250623T172654Z
UID:39711-1755388800-1755647999@events.stackedgame.com
SUMMARY:Devcom 2025
DESCRIPTION:Devcom Developer Conference 2025 (#ddc2025) is Europe’s largest and most influential game developer event\, serving as the official developer conference of gamescom. It brings together thousands of international game industry professionals\, including developers\, publishers\, service providers\, and students. The event features over 210 sessions led by 350+ speakers across 18 stages\, covering talks\, panels\, fireside chats\, roundtables\, and hands-on workshops. Attendees can expect extensive networking opportunities\, a vibrant expo area\, business matchmaking\, and exclusive side events\, making it a central hub for knowledge sharing\, business development\, and community building in the games industry.
URL:https://events.stackedgame.com/events/devcom-2025/
LOCATION:Confex Center\, Koelnmesse\, Messeplatz 1\, Cologne\, North Rhine-Westphalia\, 50679\, Germany
CATEGORIES:Game Art & Creatives,Gaming Careers,Game Development,Indie Games
ATTACH;FMTTYPE=image/png:https://cdn1.events.stackedgame.com/wp-content/uploads/sell/DanAvenger/temp/devcom25png.png
ORGANIZER;CN="devcom%20GmbH":MAILTO:info@devcom.global
END:VEVENT
END:VCALENDAR