BEGIN:VCALENDAR
VERSION:2.0
PRODID:-//StackedGame.com - ECPv5.14.1//NONSGML v1.0//EN
CALSCALE:GREGORIAN
METHOD:PUBLISH
X-WR-CALNAME:StackedGame.com
X-ORIGINAL-URL:https://events.stackedgame.com
X-WR-CALDESC:Events for StackedGame.com
REFRESH-INTERVAL;VALUE=DURATION:PT1H
X-Robots-Tag:noindex
X-PUBLISHED-TTL:PT1H
BEGIN:VTIMEZONE
TZID:America/New_York
BEGIN:DAYLIGHT
TZOFFSETFROM:-0500
TZOFFSETTO:-0400
TZNAME:EDT
DTSTART:20240310T070000
END:DAYLIGHT
BEGIN:STANDARD
TZOFFSETFROM:-0400
TZOFFSETTO:-0500
TZNAME:EST
DTSTART:20241103T060000
END:STANDARD
END:VTIMEZONE
BEGIN:VEVENT
DTSTART;TZID=America/New_York:20241115T110000
DTEND;TZID=America/New_York:20241117T150000
DTSTAMP:20260419T115936
CREATED:20241014T082714Z
LAST-MODIFIED:20241021T115132Z
UID:38041-1731668400-1731855600@events.stackedgame.com
SUMMARY:Anime Iwai 2024
DESCRIPTION:Anime Iwai is held at the Palm Beach Garden Marriott. The event includes various activities related to anime culture. \nAre you a passionate fan and want to show off your devotion to your favorite characters? Has your thespian heart been yearning for a moment in the limelight after being stuck at home for so long? Ready to debut that one-of-a-kind costume you’ve been working on for months? Register for one of our costume contests for a chance to earn some recognition and sweet prizes in the process!
URL:https://events.stackedgame.com/events/anime-iwai-2024/
LOCATION:Palm Beach Gardens Marriott\, 4000 RCA Blvd\, Palm Beach Gardens\, FL\, 33410\, United States
CATEGORIES:Anime & Manga,Cosplay
ATTACH;FMTTYPE=image/png:https://cdn1.events.stackedgame.com/wp-content/uploads/anime-iwai-2024featured-imagpng-1.png
ORGANIZER;CN="Anime%20Iwai":MAILTO:info@animeiwai.com
GEO:26.8399;-80.0897
X-APPLE-STRUCTURED-LOCATION;VALUE=URI;X-ADDRESS=Palm Beach Gardens Marriott 4000 RCA Blvd Palm Beach Gardens FL 33410 United States;X-APPLE-RADIUS=500;X-TITLE=4000 RCA Blvd:geo:-80.0897,26.8399
END:VEVENT
END:VCALENDAR