BEGIN:VCALENDAR
VERSION:2.0
PRODID:-//StackedGame.com - ECPv5.14.1//NONSGML v1.0//EN
CALSCALE:GREGORIAN
METHOD:PUBLISH
X-WR-CALNAME:StackedGame.com
X-ORIGINAL-URL:https://events.stackedgame.com
X-WR-CALDESC:Events for StackedGame.com
REFRESH-INTERVAL;VALUE=DURATION:PT1H
X-Robots-Tag:noindex
X-PUBLISHED-TTL:PT1H
BEGIN:VTIMEZONE
TZID:America/New_York
BEGIN:DAYLIGHT
TZOFFSETFROM:-0500
TZOFFSETTO:-0400
TZNAME:EDT
DTSTART:20250309T070000
END:DAYLIGHT
BEGIN:STANDARD
TZOFFSETFROM:-0400
TZOFFSETTO:-0500
TZNAME:EST
DTSTART:20251102T060000
END:STANDARD
END:VTIMEZONE
BEGIN:VEVENT
DTSTART;VALUE=DATE:20250221
DTEND;VALUE=DATE:20250224
DTSTAMP:20260419T194243
CREATED:20241102T173218Z
LAST-MODIFIED:20241102T173312Z
UID:38098-1740096000-1740355199@events.stackedgame.com
SUMMARY:Bangor Anime 2025
DESCRIPTION:Bangor Anime is a convention featuring anime screenings and cosplay contests for fans of all ages. Taking place at the Bangor Grande Hotel February 21st-23rd\, 2025. We will have Anime voice actors\, vendors\, artist\, one piece\, Pokémon\, and Yu-gi-oh card gaming tournaments. As well as video gaming and cosplay contest.
URL:https://events.stackedgame.com/events/bangor-anime-2025/
LOCATION:Cross Insurance Center\, 515 Main St\, Bangor\, ME\, 04401\, United States
CATEGORIES:Anime & Manga
ATTACH;FMTTYPE=image/png:https://cdn1.events.stackedgame.com/wp-content/uploads/bangor-anime-2025featured-imagepng.png
GEO:44.7887;-68.7813
X-APPLE-STRUCTURED-LOCATION;VALUE=URI;X-ADDRESS=Cross Insurance Center 515 Main St Bangor ME 04401 United States;X-APPLE-RADIUS=500;X-TITLE=515 Main St:geo:-68.7813,44.7887
END:VEVENT
END:VCALENDAR