BEGIN:VCALENDAR
VERSION:2.0
PRODID:-//StackedGame.com - ECPv5.14.1//NONSGML v1.0//EN
CALSCALE:GREGORIAN
METHOD:PUBLISH
X-WR-CALNAME:StackedGame.com
X-ORIGINAL-URL:https://events.stackedgame.com
X-WR-CALDESC:Events for StackedGame.com
REFRESH-INTERVAL;VALUE=DURATION:PT1H
X-Robots-Tag:noindex
X-PUBLISHED-TTL:PT1H
BEGIN:VTIMEZONE
TZID:UTC
BEGIN:STANDARD
TZOFFSETFROM:+0000
TZOFFSETTO:+0000
TZNAME:UTC
DTSTART:20260101T000000
END:STANDARD
END:VTIMEZONE
BEGIN:VEVENT
DTSTART;VALUE=DATE:20260814
DTEND;VALUE=DATE:20260817
DTSTAMP:20260422T020824
CREATED:20260220T051806Z
LAST-MODIFIED:20260220T051806Z
UID:40449-1786665600-1786924799@events.stackedgame.com
SUMMARY:Kitacon 2026
DESCRIPTION:Kitacon 2026 brings the UK anime community together for a full hotel-con takeover in Birmingham. Unlike massive expo-centre events\, Kitacon thrives on its immersive atmosphere — most attendees stay in the same venue\, meaning panels flow into evening socials\, themed parties\, gaming rooms\, and late-night activities without ever leaving the building. \nExpect cosplay showcases\, live performances\, Japanese culture panels\, game rooms running deep into the night\, and a tight-knit community vibe that makes it feel less like a trade show and more like a fandom retreat. \nIf you want an anime convention that feels social\, energetic\, and fully immersive from check-in to closing ceremony\, Kitacon 2026 is built for that experience.
URL:https://events.stackedgame.com/events/kitacon-2026/
LOCATION:Warwick Arts Centre / University of Warwick\, Coventry\, UK\, Warwick Arts Centre / University of Warwick\, United Kingdom
CATEGORIES:Cosplay,General Gaming
ATTACH;FMTTYPE=image/jpeg:https://cdn1.events.stackedgame.com/wp-content/uploads/sell/EventsSimon/E_40449/s-logoc26969jpg-1771564688.jpg
END:VEVENT
BEGIN:VEVENT
DTSTART;TZID=UTC:20260814T100000
DTEND;TZID=UTC:20260816T190000
DTSTAMP:20260422T020824
CREATED:20260220T051052Z
LAST-MODIFIED:20260220T051052Z
UID:40441-1786701600-1786906800@events.stackedgame.com
SUMMARY:Another Anime Convention 2026
DESCRIPTION:Another Anime Convention 2026 is back for its 20th anniversary\, bringing anime fans together in Manchester\, New Hampshire for a full weekend of fandom fun. Panels\, workshops\, and interactive game shows fill the schedule\, while the masquerade and cosplay contests give creatives a stage to shine. With karaoke\, game rooms\, charity events\, artist alley\, and a massive vendor hall\, there’s always something to dive into. \nWhether you’re chasing that perfect signature from voice actors\, debating on the best anime series of the year\, exploring indie artist booths\, or just hanging with fellow fans in costume\, AAC 2026 delivers a packed\, vibe-rich celebration that’s stood the test of time.
URL:https://events.stackedgame.com/events/another-anime-convention-2026/
LOCATION:DoubleTree by Hilton Clarksville Riverview\, DoubleTree by Hilton Clarksville Riverview\, TN\, TN\, United States
CATEGORIES:Anime & Manga,Cosplay,Sci-Fi & Fantasy,General Gaming
ATTACH;FMTTYPE=image/jpeg:https://cdn1.events.stackedgame.com/wp-content/uploads/sell/EventsSimon/E_40441/anotherermaniepng-1771564253.jpg
END:VEVENT
BEGIN:VEVENT
DTSTART;VALUE=DATE:20260815
DTEND;VALUE=DATE:20260816
DTSTAMP:20260422T020824
CREATED:20260220T052117Z
LAST-MODIFIED:20260220T052117Z
UID:40455-1786752000-1786838399@events.stackedgame.com
SUMMARY:BrickUniverse Tri-Cities\, VA 2026
DESCRIPTION:BrickUniverse Tri-Cities 2026 delivers a hands-on LEGO experience built for all ages. Massive custom-built displays showcase everything from sprawling cityscapes to pop culture replicas\, while professional LEGO artists share techniques and inspiration. \nTimed sessions keep the event comfortable and interactive\, giving families space to explore\, build\, and engage without overwhelming crowds. Whether you’re bringing kids to spark creativity or you’re an adult fan hunting exclusive brick merchandise\, BrickUniverse keeps the focus on imagination and community. \nIf you want a structured\, high-quality LEGO expo experience in Virginia’s Tri-Cities region\, August 15\, 2026 is locked in.
URL:https://events.stackedgame.com/events/brickuniverse-tri-cities-va-2026/
LOCATION:The Greater Richmond Convention Center\, 403 N 3rd St\, VA\, United States
CATEGORIES:Board Game,Retro Games
ATTACH;FMTTYPE=image/jpeg:https://cdn1.events.stackedgame.com/wp-content/uploads/sell/EventsSimon/E_40455/brijckedjpg-1771564879.jpg
END:VEVENT
BEGIN:VEVENT
DTSTART;TZID=UTC:20260815T100000
DTEND;TZID=UTC:20260816T180000
DTSTAMP:20260422T020824
CREATED:20260220T052411Z
LAST-MODIFIED:20260220T052411Z
UID:40460-1786788000-1786903200@events.stackedgame.com
SUMMARY:Collect-A-Con San Antonio 2026
DESCRIPTION:Collect-A-Con San Antonio 2026 turns the Henry B. Gonzalez Convention Center into a full-scale collector playground. Long vendor rows stacked with Pokémon slabs\, sports cards\, sealed product\, graded comics\, and anime merch create a constant buzz of buying\, trading\, and negotiating. \nVIP early entry lets serious collectors hunt deals before the floor fully opens\, while general admission crowds bring the energy mid-morning. Expect live card breaks\, grading company booths\, voice actor appearances\, cosplay roaming the aisles\, and nonstop trade conversations. \nIf you’re deep into TCG investing\, nostalgic Pokémon collecting\, or just love the atmosphere of a high-volume card show\, this is one of the biggest Texas stops of the year.
URL:https://events.stackedgame.com/events/collect-a-con-san-antonio-2026/
LOCATION:Freeman Coliseum Expo Hall\, 3201 E Houston St.\, San Antonio\, TX\, 78219\, United States
CATEGORIES:Anime & Manga,Board Game,Comicon
ATTACH;FMTTYPE=image/jpeg:https://cdn1.events.stackedgame.com/wp-content/uploads/sell/EventsSimon/E_40460/collectaconjpg-1771565052.jpg
END:VEVENT
BEGIN:VEVENT
DTSTART;VALUE=DATE:20260816
DTEND;VALUE=DATE:20260817
DTSTAMP:20260422T020824
CREATED:20260221T030449Z
LAST-MODIFIED:20260221T030449Z
UID:40463-1786838400-1786924799@events.stackedgame.com
SUMMARY:PokeKon Fest - Niagara Falls
DESCRIPTION:PokeKon Fest Niagara Falls 2026 is built for serious collectors and casual Pokémon fans alike. The Niagara Falls Convention Center fills with card vendors\, grading services\, tournament tables\, and cosplay roaming every aisle. \nVIP entry lets collectors get first crack at rare slabs and sealed product before the main doors open at 10 AM. Throughout the day\, expect trading circles\, competitive battles\, vendor exclusives\, and community energy centered entirely around Pokémon culture. \nIf your weekend revolves around TCG deals\, nostalgic anime vibes\, and meeting other fans deep into the hobby\, June 6\, 2026 in Niagara Falls is locked in.
URL:https://events.stackedgame.com/events/pokekon-fest-niagara-falls/
LOCATION:Niagara Falls Convention Center\, 101 Old Falls St\, NY\, United States
CATEGORIES:Anime & Manga,Board Game,Cosplay,General Gaming
ATTACH;FMTTYPE=image/jpeg:https://cdn1.events.stackedgame.com/wp-content/uploads/sell/EventsSimon/E_40463/pokeokonjpg-1771643091.jpg
END:VEVENT
END:VCALENDAR