BEGIN:VCALENDAR
VERSION:2.0
PRODID:-//StackedGame.com - ECPv5.14.1//NONSGML v1.0//EN
CALSCALE:GREGORIAN
METHOD:PUBLISH
X-WR-CALNAME:StackedGame.com
X-ORIGINAL-URL:https://events.stackedgame.com
X-WR-CALDESC:Events for StackedGame.com
REFRESH-INTERVAL;VALUE=DURATION:PT1H
X-Robots-Tag:noindex
X-PUBLISHED-TTL:PT1H
BEGIN:VTIMEZONE
TZID:UTC
BEGIN:STANDARD
TZOFFSETFROM:+0000
TZOFFSETTO:+0000
TZNAME:UTC
DTSTART:20260101T000000
END:STANDARD
END:VTIMEZONE
BEGIN:VEVENT
DTSTART;VALUE=DATE:20260104
DTEND;VALUE=DATE:20260109
DTSTAMP:20260423T014651
CREATED:20250703T173007Z
LAST-MODIFIED:20250703T174058Z
UID:39870-1767484800-1767916799@events.stackedgame.com
SUMMARY:Winter Fantasy 2026
DESCRIPTION:Step into a world where snowflakes swirl outside and dice clatter inside—Winter Fantasy 2026 is coming to Fort Wayne\, Indiana\, from February 4th to 8th\, and you’re invited to the ultimate tabletop gaming celebration! Whether you’re a seasoned dungeon master\, a card-slinging strategist\, or just looking to roll your first d20\, this event is your chance to dive into five days packed with adventure\, camaraderie\, and unforgettable stories. \nWhat Awaits You at Winter Fantasy 2026? \nEpic Gaming Galore: From classic Dungeons & Dragons campaigns to thrilling new releases\, join hundreds of tables running non-stop games. Try your hand at legendary living campaigns\, exclusive tournament play\, and special interactive events you won’t find anywhere else. \nOld Friends & New Allies: Reunite with familiar faces or forge new friendships over shared quests and critical hits. Winter Fantasy is famous for its welcoming community vibe—everyone’s here for the love of the game. \nSpecial Events & Surprises: Expect unique scenarios\, author-run adventures\, and possibly the return of fan-favorite features like the Gen Con boardgame library (fingers crossed for 2026!). There’s always something unexpected around the corner. \nConvenient Location: All the action unfolds at the Grand Wayne Convention Center\, right in the heart of Fort Wayne—easy to reach\, with plenty of nearby hotels and food options to keep you fueled for adventure. \nA Storied Tradition: Since 1977\, Winter Fantasy has been a cornerstone of the tabletop community\, hosting legendary campaigns and debuting new worlds. Be part of the legacy and help write the next chapter. \nWhy Winter Fantasy?\nBecause when winter winds howl\, gamers gather! Whether you’re here for the nostalgia\, the competition\, or just to roll some dice and laugh with friends\, Winter Fantasy 2026 is your home away from home this February. \nMark your calendar\, gather your party\, and prepare for a week of epic tales and critical fun. Winter is coming—and so is the adventure of a lifetime!
URL:https://events.stackedgame.com/events/winter-fantasy-2026/
LOCATION:Grand Wayne Convention Center\, 120 W Jefferson Blvd\, Fort Wayne\, IN\, 46802\, United States
CATEGORIES:Board Game,Indie Games,Sci-Fi & Fantasy,General Gaming
ATTACH;FMTTYPE=image/png:https://cdn1.events.stackedgame.com/wp-content/uploads/sell/DanAvenger/temp/winterfantasy2026png.png
ORGANIZER;CN="Baldman%20Games":MAILTO:thebaldman@baldmangames.com
END:VEVENT
BEGIN:VEVENT
DTSTART;VALUE=DATE:20260108
DTEND;VALUE=DATE:20260112
DTSTAMP:20260423T014651
CREATED:20250702T204315Z
LAST-MODIFIED:20250702T204446Z
UID:39847-1767830400-1768175999@events.stackedgame.com
SUMMARY:Super MAGFest 2026
DESCRIPTION:Prepare for an unforgettable celebration of gaming\, music\, and geek culture at Super MAGFest 2026! Set to take place at the iconic Gaylord National Resort & Convention Center in National Harbor\, Maryland\, Super MAGFest (Music and Gaming Festival) is the ultimate four-day\, non-stop party for fans of video games\, chiptune music\, and creative fandom. \nWhat makes Super MAGFest 2026 a must-attend event? \n24-Hour Gaming Wonderland: From the moment the doors open\, the action never stops! Enjoy round-the-clock access to a massive arcade floor packed with hundreds of classic and modern arcade cabinets\, pinball machines\, and consoles—no quarters needed. \nEpic Live Music: MAGFest is legendary for its lineup of live music\, featuring chiptune artists\, video game cover bands\, and high-energy concerts that keep the party going late into the night. \nCreative Community: Dive into a vibrant world of indie game developers\, fan art\, workshops\, and panels. Meet creators\, learn new skills\, and get inspired by the passion and talent on display. \nCosplay and Culture: Whether you’re a seasoned cosplayer or just love to admire the creativity\, Super MAGFest is a hub for imaginative costumes\, themed photoshoots\, and spontaneous dance parties. \nTournaments and Challenges: Test your skills in a variety of video game tournaments\, rhythm game showdowns\, and quirky competitions for all skill levels. \nWhy is Super MAGFest special?\nUnlike traditional conventions\, MAGFest is a festival—an immersive\, community-driven experience where music and gaming blend seamlessly. It’s a place where friendships are forged over late-night Mario Kart battles\, and the energy is electric from start to finish. Whether you’re a retro gaming enthusiast\, a music lover\, or just looking for a unique\, high-energy weekend\, Super MAGFest 2026 promises unforgettable memories and nonstop fun. \nMark your calendar\, gather your friends\, and get ready for four days of pure joy at Super MAGFest 2026!
URL:https://events.stackedgame.com/events/super-magfest-2026/
LOCATION:Gaylord National Resort Hotel and Convention Center\, 201 Waterfront St\, National Harbor\, MD\, 20745\, United States
CATEGORIES:Cosplay,Game Art & Creatives,Indie Games,Retro Games
ATTACH;FMTTYPE=image/jpeg:https://cdn1.events.stackedgame.com/wp-content/uploads/sell/DanAvenger/temp/supermagfest2026jpg.jpg
ORGANIZER;CN="MAGFest":MAILTO:contact@magfest.org
END:VEVENT
BEGIN:VEVENT
DTSTART;VALUE=DATE:20260108
DTEND;VALUE=DATE:20260112
DTSTAMP:20260423T014651
CREATED:20250903T100229Z
LAST-MODIFIED:20250903T100229Z
UID:40370-1767830400-1768175999@events.stackedgame.com
SUMMARY:Midwinter Gaming Convention 2026
DESCRIPTION:Midwinter Gaming Convention 2026\nBundle up and dive into the ultimate gaming extravaganza at the Midwinter Gaming Convention 2026\, where frosty Wisconsin winters meet sizzling gaming action! From January 8-11\, 2026\, join thousands of passionate gamers at The Ingleside Hotel in Pewaukee\, WI\, for an unforgettable celebration of gaming culture. Expect a vibrant\, cozy\, and thrilling atmosphere filled with epic competitions\, immersive experiences\, and a tight-knit community that lives and breathes gaming. \nWhat to Expect\n\n	Epic Tournaments: Battle it out in electrifying esports tournaments featuring top titles like Starstrike Legends\, Quantum Clash\, and Mythic Realms. Whether you’re a seasoned pro or a casual contender\, there’s a bracket waiting for you to claim victory!\n	Tabletop Adventures: Roll the dice and embark on legendary quests in our sprawling tabletop gaming hall. From Dungeons & Dragons to the hottest new board games\, gather your crew and let epic stories unfold.\n	Cosplay Extravaganza: Unleash your creativity in our cosplay contest\, where stunning costumes and boundless passion steal the spotlight. Strut your stuff\, snap epic photos\, and compete for incredible prizes!\n	Indie Game Spotlight: Discover hidden treasures in our Indie Arcade\, showcasing innovative games from rising developers. Playtest fresh titles\, meet the creators\, and find your next gaming obsession.\n	Retro Rewind Zone: Take a nostalgic trip with classic arcade cabinets\, retro consoles\, and timeless games. Challenge friends to a Pixel Fighter duel or relive the glory days of gaming.\n	Panels & Workshops: Learn from industry pros\, voice actors\, and game designers in captivating panels and hands-on workshops. Dive into game development\, storytelling\, and the future of gaming.\n	VR & AR Experiences: Step into mind-bending virtual and augmented reality worlds. From pulse-pounding adventures to serene escapes\, our cutting-edge tech zone will leave you in awe.\n	Community Hub: Connect with fellow gamers\, join LAN parties\, or relax in our cozy lounge areas. Swap strategies\, forge new friendships\, and celebrate the gaming community that brings us together.\n\nWhy You Can’t Miss It\nMidwinter Gaming Convention 2026 is more than an event—it’s a vibrant celebration of creativity\, competition\, and connection. Whether you’re dominating the tournament stage\, perfecting your cosplay\, or soaking in the electric atmosphere\, there’s something for every gamer. With dazzling setups\, immersive experiences\, and surprises at every turn\, this winter escape at The Ingleside Hotel will warm your heart and fuel your passion. \nDetails\n\n	When: January 8-11\, 2026\n	Where: The Ingleside Hotel\, Pewaukee\, WI\n	Tickets: Single-day and weekend passes available. VIP packages include exclusive swag\, early access\, and priority seating for major events!\n\nGrab your controllers\, sharpen your dice\, and join us at The Ingleside Hotel for the Midwinter Gaming Convention 2026! Let’s make this winter the hottest gaming season yet!
URL:https://events.stackedgame.com/events/midwinter-gaming-convention-2026/
LOCATION:The Ingleside Hotel\, 2810 Golf Road\, Pewaukee\, WI\, 53072\, United States
CATEGORIES:Board Game,Game Art & Creatives,Indie Games,General Gaming
ATTACH;FMTTYPE=image/png:https://cdn1.events.stackedgame.com/wp-content/uploads/sell/DanEvents/E_40370/midwintergamingconvention2026png-1756893751.png
ORGANIZER;CN="Daydream%20Productions%20LLC":MAILTO:daydreamproductionsllc@gmail.com
END:VEVENT
END:VCALENDAR