BEGIN:VCALENDAR
VERSION:2.0
PRODID:-//StackedGame.com - ECPv5.14.1//NONSGML v1.0//EN
CALSCALE:GREGORIAN
METHOD:PUBLISH
X-WR-CALNAME:StackedGame.com
X-ORIGINAL-URL:https://events.stackedgame.com
X-WR-CALDESC:Events for StackedGame.com
REFRESH-INTERVAL;VALUE=DURATION:PT1H
X-Robots-Tag:noindex
X-PUBLISHED-TTL:PT1H
BEGIN:VTIMEZONE
TZID:UTC
BEGIN:STANDARD
TZOFFSETFROM:+0000
TZOFFSETTO:+0000
TZNAME:UTC
DTSTART:20250101T000000
END:STANDARD
END:VTIMEZONE
BEGIN:VEVENT
DTSTART;VALUE=DATE:20251215
DTEND;VALUE=DATE:20251219
DTSTAMP:20260422T095119
CREATED:20250902T101529Z
LAST-MODIFIED:20250902T101529Z
UID:40349-1765756800-1766102399@events.stackedgame.com
SUMMARY:SIGGRAPH Asia 2025
DESCRIPTION:SIGGRAPH Asia 2025: Where Gaming Innovation Meets Creative Magic!\nGet ready to dive into the future of gaming and digital creativity at SIGGRAPH Asia 2025\, landing at the Tokyo International Forum from December 2-5\, 2025! This isn’t just a conference—it’s a mind-blowing celebration of cutting-edge technology\, groundbreaking visuals\, and the artistry that powers the gaming world. Whether you’re a game developer\, animator\, VFX artist\, tech enthusiast\, or just obsessed with the magic behind your favorite games\, SIGGRAPH Asia 2025 is your portal to a world of innovation and inspiration in the heart of Tokyo. \nWhat’s on the Horizon?\nPrepare for four epic days packed with immersive experiences across a sprawling exhibition floor and conference halls buzzing with creativity! Here’s a glimpse of what’s waiting for you: \n🎮 Game-Changing Tech Demos\nStep into the next generation of gaming at the Exhibition Floor\, where industry titans like NVIDIA\, Unity\, and Epic Games showcase jaw-dropping advancements in real-time rendering\, AI-driven animation\, and immersive VR/AR experiences. Get hands-on with the latest game engines\, explore photorealistic worlds\, and witness tech demos that push the boundaries of what’s possible in gaming. From ray tracing to procedural storytelling\, you’ll see the tools shaping tomorrow’s blockbusters! \n🎨 Art & Animation Showcases\nMarvel at the Computer Animation Festival\, where stunning game cinematics\, animated shorts\, and VFX breakdowns steal the show. Watch breathtaking cutscenes from upcoming AAA titles and indie gems\, curated to inspire artists and gamers alike. Plus\, dive into live artist sessions where top animators and concept artists reveal how they craft iconic characters and immersive worlds that bring games to life. \n🧠 Insightful Talks & Panels\nLevel up your knowledge with Keynotes and Technical Talks from gaming industry legends! Learn from the minds behind your favorite titles as they share insights on game design\, AI integration\, motion capture\, and procedural world-building. Whether you’re curious about crafting open-world environments or mastering shader techniques\, these sessions offer a deep dive into the tech and creativity driving modern games. \n🕹️ Emerging Technologies Zone\nGet ready to lose yourself in the Emerging Technologies Zone\, a playground of futuristic gaming experiences! Test cutting-edge haptics\, brain-computer interfaces\, and mixed-reality setups that blur the line between player and game. From VR adventures that feel too real to AI-powered NPCs that adapt to your every move\, this is where you’ll experience the future of gaming firsthand. \n🎭 Real-Time Live! Showdown\nBuckle up for the Real-Time Live! showcase\, where developers and artists compete to blow your mind with live demos of real-time graphics\, interactive storytelling\, and game mechanics created on the spot. Expect high-energy performances\, unexpected twists\, and a front-row seat to the tech that’s revolutionizing gaming. It’s like watching a live coding battle meets a visual effects extravaganza! \n🤝 Networking & Career Connections\nDreaming of a career in gaming? The Job Fair and networking events connect you with top studios\, tech companies\, and recruiters looking for the next big talent. Rub shoulders with industry pros\, pitch your portfolio\, and discover opportunities to break into game development\, animation\, or VFX. Plus\, informal meetups and workshops make it easy to connect with like-minded creators from around the globe. \n🖼️ Art Gallery & Indie Spotlight\nExplore the Art Gallery\, where stunning concept art\, 3D models\, and interactive installations bring game worlds to life. The Indie Spotlight zone shines a light on Asia’s rising indie game developers\, showcasing unique titles packed with creativity and heart. Playtest innovative games\, meet the creators\, and discover your next obsession before it hits the mainstream. \nWhy You Can’t Miss SIGGRAPH Asia 2025\nSIGGRAPH Asia 2025 is more than an event—it’s a global hub where gaming\, technology\, and creativity collide. With over 10\,000 attendees\, a buzzing exhibition floor\, and a community passionate about pushing boundaries\, this is your chance to be part of the future of gaming. Whether you’re a developer chasing the next big breakthrough\, an artist crafting epic worlds\, or a gamer eager to peek behind the curtain\, SIGGRAPH Asia delivers an unforgettable experience. \n📅 When: December 2-5\, 2025\n📍 Where: Tokyo International Forum\, Tokyo\, Japan\n🕒 Hours: Varies by day; check the schedule for keynotes\, exhibitions\, and workshops\n🎫 Tickets: Early-bird passes available now—secure your spot for Asia’s premier tech and gaming event! \nGrab your controllers\, sharpen your creative skills\, and get ready to explore the cutting edge of gaming at SIGGRAPH Asia 2025. This is where the future of play is born—will you be there to shape it?
URL:https://events.stackedgame.com/events/siggraph-asia-2025/
LOCATION:Hong Kong Convention and Exhibition Centre\, 1 Expo Drive\, Wanchai\, Hong Kong Island\, Hong Kong\, China
CATEGORIES:Game Art & Creatives,Game Development,Sci-Fi & Fantasy,General Gaming
ATTACH;FMTTYPE=image/png:https://cdn1.events.stackedgame.com/wp-content/uploads/sell/DanEvents/E_40349/siggraphasia2025png-1756808130.png
ORGANIZER;CN="ACM%20Siggraph":MAILTO:acmhelp@acm.org
END:VEVENT
BEGIN:VEVENT
DTSTART;TZID=UTC:20251218T080000
DTEND;TZID=UTC:20251221T170000
DTSTAMP:20260422T095119
CREATED:20250820T045718Z
LAST-MODIFIED:20250820T045718Z
UID:40271-1766044800-1766336400@events.stackedgame.com
SUMMARY:Anime Weekend Atlanta 2025
DESCRIPTION:Pack your bags and brace for a coalescence of anime passion at Anime Weekend Atlanta 2025\, rolling into the Georgia World Congress Center from Dec 18–21! \nNon-stop Fandom Fun: From early-morning panels to late-night concerts and 24‑hour anime screenings—there’s always something epic happening. \nExperience Variety: Whether you’re front-and-center at cosplay contests\, sipping sweet treats in the Maid Café\, jamming at concerts\, or diving into video & tabletop battles—you’ll find your happy place. \nOne Membership\, Endless Access: Grab your 4-day membership (~$95) for full-event access. Prefer shorter visits? Single-day passes are available too. \nFamily-Friendly & Welcoming: Children 10 and under get in for free with an adult—AWA truly is a community for everyone. \nFrom rare finds in Artist Alley to irresistible fangirl-fueled fashion\, AWA 2025 is the Southeast’s can’t-miss hub for anime\, creativity\, and people who love all things otaku.
URL:https://events.stackedgame.com/events/anime-weekend-atlanta-2025/
LOCATION:Georgia World Congress Center Building C\, 285 Andrew Young International Blvd NW\, Atlanta\, GA\, 30313\, United States
CATEGORIES:Anime & Manga,Cosplay,General Gaming
ATTACH;FMTTYPE=image/png:https://cdn1.events.stackedgame.com/wp-content/uploads/sell/EventsSimon/E_40271/animeweekendsatlantapng-1755665839.png
ORGANIZER;CN="AWA%20LLC":MAILTO:info@awa-con.com
GEO:33.7608;-84.4013
X-APPLE-STRUCTURED-LOCATION;VALUE=URI;X-ADDRESS=Georgia World Congress Center Building C 285 Andrew Young International Blvd NW Atlanta GA 30313 United States;X-APPLE-RADIUS=500;X-TITLE=285 Andrew Young International Blvd NW:geo:-84.4013,33.7608
END:VEVENT
BEGIN:VEVENT
DTSTART;VALUE=DATE:20251220
DTEND;VALUE=DATE:20251222
DTSTAMP:20260422T095119
CREATED:20250902T143115Z
LAST-MODIFIED:20250902T144157Z
UID:40353-1766188800-1766361599@events.stackedgame.com
SUMMARY:Los Angeles Collect‑A‑Con 2025
DESCRIPTION:Los Angeles Collect-A-Con 2025: The Ultimate Pop Culture & Trading Card Spectacular!\nGet ready to light up your holiday season at Los Angeles Collect-A-Con 2025\, crashing into the Los Angeles Convention Center on December 20-21\, 2025! This isn’t just a convention—it’s a dazzling\, high-energy celebration of trading cards\, gaming\, comics\, and pop culture that’ll make your heart race faster than a Hollywood blockbuster. Whether you’re a Pokémon card master\, a retro gaming legend\, an anime superfan\, or just chasing that perfect Funko POP!\, Collect-A-Con 2025 is your ultimate playground for epic finds\, fierce battles\, and pure LA magic. \nWhat’s in Store?\nPrepare for two action-packed days across a massive 12\,000+ square-foot wonderland packed with treasures\, stars\, and experiences that’ll level up your holiday vibes! Here’s the rundown: \n🃏 Trading Card Extravaganza\nWith over 1\,000 vendor tables\, Collect-A-Con is the West Coast’s biggest trading card bash! Hunt for ultra-rare Pokémon\, Magic: The Gathering\, Yu-Gi-Oh!\, Dragon Ball\, Weiss Schwarz\, and Star Wars cards. From vintage Charizards to shiny new releases\, you’ll find deals to make your wallet sing and trades to make your collection legendary. Bring your binder\, strike a deal\, and maybe snag that holy grail card you’ve been dreaming of! \n🎮 Retro to Next-Gen Gaming Glory\nLevel up at the Gaming Zone\, where retro classics meet modern masterpieces. Score rare Nintendo 64 cartridges\, Sega Genesis gems\, or the latest PlayStation and Xbox titles. Test your skills on arcade cabinets\, battle it out in multiplayer setups\, or dive into VR demos that’ll transport you to another world. Whether you’re a speedrunner or a casual player\, the gaming booths are packed with nostalgia and cutting-edge thrills. \n📚 Comics\, Collectibles\, & Funko Frenzy\nDive into a treasure trove of comics\, from Silver Age Spider-Man to indie graphic novels that’ll blow your mind. Snag exclusive Funko POP! figures\, limited-edition action figures\, and anime merch that’ll make your shelf the envy of every fan. With vendors showcasing everything from vintage Star Wars toys to handcrafted collectibles\, your collection is about to get a Tinseltown-worthy upgrade. \n🌟 Star-Studded Celebrity Encounters\nMeet the legends behind your favorite games\, shows\, and movies! Los Angeles Collect-A-Con is bringing celebrity guests and anime voice actors for autograph sessions\, photo ops\, and Q&A panels. From anime icons to gaming influencers\, you’ll get up close with the stars who bring your favorite characters to life. Expect surprises\, heartfelt stories\, and maybe even a selfie with a Hollywood hero! \n🎤 Live Events & Card-Breaking Action\nFeel the energy with live performances that light up the convention floor! Watch heart-pounding live card breaks\, where collectors rip open packs chasing ultra-rare pulls. Join interactive tournaments for Pokémon\, Yu-Gi-Oh!\, and more\, or catch live music and cosplay showcases that bring the crowd to its feet. The vibe is electric\, and you’re right in the middle of it! \n🛍️ Vendor Wonderland & Exclusive Swag\nWith hundreds of exhibitors\, you’ll discover a dizzying array of collectibles\, apparel\, and convention-exclusive swag. From limited-edition prints to custom card sleeves\, every booth is a chance to score something unique. Pro tip: Bring a big bag\, because you won’t leave empty-handed! \nWhy You Can’t Miss Collect-A-Con 2025\nLos Angeles Collect-A-Con 2025 is more than a convention—it’s a vibrant community where collectors\, gamers\, and pop culture lovers unite to celebrate their passions with Hollywood flair. With over 15\,000 attendees\, a buzzing vendor hall\, and an atmosphere that’s pure LA magic\, this is your chance to dive into the heart of fandom just in time for the holidays. Whether you’re trading cards\, hunting for retro treasures\, or just soaking in the festive energy\, Collect-A-Con delivers a weekend of memories you’ll cherish all year long. \n📅 When: December 20-21\, 2025\n📍 Where: Los Angeles Convention Center\, 1201 S Figueroa St\, Los Angeles\, CA\n🕒 Hours: Saturday 10 AM–6 PM\, Sunday 10 AM–5 PM\n🎫 Tickets: Snag your early-bird passes now and join the ultimate pop culture party! \nGrab your squad\, dust off your trade binder\, and get ready to immerse yourself in a world of collecting\, gaming\, and pop culture chaos. Los Angeles Collect-A-Con 2025 is calling—will you answer the challenge?
URL:https://events.stackedgame.com/events/los-angeles-collect%e2%80%91a%e2%80%91con-2025/
LOCATION:Los Angeles Convention Center\, 1201 South Figueroa St\, Los Angeles\, CA\, 90015\, United States
CATEGORIES:Anime & Manga,Comicon,Game Merchandise,Trading Cards
ATTACH;FMTTYPE=image/png:https://cdn1.events.stackedgame.com/wp-content/uploads/sell/DanEvents/E_40353/sanantoniocollectacon2025png-1756823476.png
END:VEVENT
END:VCALENDAR