BEGIN:VCALENDAR
VERSION:2.0
PRODID:-//StackedGame.com - ECPv5.14.1//NONSGML v1.0//EN
CALSCALE:GREGORIAN
METHOD:PUBLISH
X-WR-CALNAME:StackedGame.com
X-ORIGINAL-URL:https://events.stackedgame.com
X-WR-CALDESC:Events for StackedGame.com
REFRESH-INTERVAL;VALUE=DURATION:PT1H
X-Robots-Tag:noindex
X-PUBLISHED-TTL:PT1H
BEGIN:VTIMEZONE
TZID:UTC
BEGIN:STANDARD
TZOFFSETFROM:+0000
TZOFFSETTO:+0000
TZNAME:UTC
DTSTART:20250101T000000
END:STANDARD
END:VTIMEZONE
BEGIN:VEVENT
DTSTART;VALUE=DATE:20250713
DTEND;VALUE=DATE:20250929
DTSTAMP:20260422T060539
CREATED:20250702T220509Z
LAST-MODIFIED:20250702T220825Z
UID:39854-1752364800-1759103999@events.stackedgame.com
SUMMARY:Free Fire MAX India Cup 2025 (FFMIC)
DESCRIPTION:Get ready for the most electrifying esports showdown of the year—Free Fire MAX India Cup 2025 (FFMIC 2025)! After more than three years\, Garena is bringing back official Free Fire action to India\, and this time\, it’s bigger\, bolder\, and more competitive than ever before. \nWhat’s in store? \nMassive Prize Pool: With a jaw-dropping ₹1 crore prize pool up for grabs\, the stakes have never been higher for India’s top Free Fire squads. \nEpic Format: The tournament unfolds in four thrilling phases: \nIn-Game Qualifiers (July 13): All registered teams battle it out in up to 12 matches\, with their best 8 scores counting toward qualification. Only the top 48 teams make it to the next stage. \nOnline Qualifiers (July 26 – August 3): The competition heats up as teams fight for a coveted spot in the League Stage. \nLeague Stage (August 22 – September 14): 36 teams\, divided into three groups\, compete in a round-robin format. The top 12 teams advance to the Grand Finals. \nGrand Finals (September 27–28): The ultimate face-off! The 12 best teams in India clash for the FFMIC trophy and the lion’s share of the prize money. \nOpen for All: Registration is open to all Indian Free Fire MAX players meeting the minimum requirements (Diamond 1 rank\, Level 40\, age 16+). Gather your squad of 4–5 players and get ready to compete with the nation’s best. \nTop Teams & LAN Finals: Expect to see fan-favorite organizations like GodLike Esports\, Orangutan\, and K9 Esports in the mix. The Grand Finals will be an offline LAN event\, promising a high-energy\, stadium-like atmosphere. \nWhy is FFMIC 2025 special? \nIt marks the return of Garena’s official esports to India after a long hiatus\, reigniting the competitive spirit and uniting the Free Fire community. \nThe tournament’s open-for-all format gives every player—from rising stars to established pros—a shot at glory and life-changing rewards. \nWith a festival vibe\, nail-biting matches\, and a massive audience\, FFMIC 2025 is set to be a landmark event in Indian esports. \nReady to reignite the fire?\nWhether you’re playing or cheering\, Free Fire MAX India Cup 2025 is the ultimate battleground for India’s best. Assemble your squad\, sharpen your skills\, and get set for a summer of explosive esports action!
URL:https://events.stackedgame.com/events/free-fire-max-india-cup-2025-ffmic/
LOCATION:TBA
CATEGORIES:Esports,Gaming Awards,Sci-Fi & Fantasy,General Gaming
ATTACH;FMTTYPE=image/png:https://cdn1.events.stackedgame.com/wp-content/uploads/sell/DanAvenger/temp/freefiremaxindiacup2025png.png
ORGANIZER;CN="Garena":MAILTO:support@garena.com
END:VEVENT
BEGIN:VEVENT
DTSTART;VALUE=DATE:20250916
DTEND;VALUE=DATE:20250920
DTSTAMP:20260422T060539
CREATED:20250820T090718Z
LAST-MODIFIED:20250820T090718Z
UID:40279-1757980800-1758326399@events.stackedgame.com
SUMMARY:Game Devs of Color Expo 2025
DESCRIPTION:🎮 Game Devs of Color Expo 2025 \nStep into a world where creativity\, culture\, and innovation collide at the Game Devs of Color Expo 2025 🌍. This vibrant event celebrates the diverse voices shaping the future of gaming\, bringing together developers\, players\, and industry leaders to share ideas\, showcase projects\, and spark inspiration. \nAcross multiple days\, you’ll find panels\, talks\, and workshops led by trailblazing developers of color 🧠. Whether you’re exploring game design\, learning how to break into the industry\, or discovering bold new storytelling\, there’s something here for every gamer and creator. \nExperience indie showcases and playable demos 🎮 that push boundaries and highlight unique perspectives. Beyond the games\, it’s a welcoming space to connect\, network\, and celebrate a community redefining what gaming can be. \nThe Game Devs of Color Expo 2025 isn’t just an event—it’s a movement. Come ready to learn\, play\, and be inspired 🚀.
URL:https://events.stackedgame.com/events/game-devs-of-color-expo-2025/
LOCATION:Online Event\, Virtual Event - See Online Details
CATEGORIES:Game Art & Creatives,Gaming Awards,Game Development,Indie Games
ATTACH;FMTTYPE=image/png:https://cdn1.events.stackedgame.com/wp-content/uploads/sell/DanEvents/E_40279/gamedevsofcolorexpo2025png-1755680840.png
ORGANIZER;CN="Game%20Devs%20of%20Color%20Expo":MAILTO:info@gamedevsofcolor.org
END:VEVENT
BEGIN:VEVENT
DTSTART;VALUE=DATE:20250916
DTEND;VALUE=DATE:20250919
DTSTAMP:20260422T060539
CREATED:20250901T093107Z
LAST-MODIFIED:20250901T093107Z
UID:40303-1757980800-1758239999@events.stackedgame.com
SUMMARY:SBC Summit Lisbon 2025
DESCRIPTION:SBC Summit Lisbon 2025: The Ultimate Gaming Industry Extravaganza!\nGet ready to dive into the heart of the global gaming universe at SBC Summit Lisbon 2025\, happening September 16-18\, 2025\, in the vibrant and picturesque city of Lisbon\, Portugal! Hosted at the sprawling Feira Internacional de Lisboa and the iconic MEO Arena\, this flagship event is the ultimate gathering for sports betting and iGaming professionals\, bringing together over 30\,000 passionate delegates from across the globe for three electrifying days of innovation\, networking\, and celebration. \nA Global Stage for Gaming Greatness\nSBC Summit Lisbon is where the entire gaming industry converges—operators\, affiliates\, suppliers\, regulators\, and innovators unite to shape the future of sports betting and iGaming. With attendees from 134 countries\, this event is a melting pot of ideas\, showcasing the latest trends\, groundbreaking technologies\, and unbeatable business opportunities. Whether you’re a major sportsbook brand\, a solo content creator\, a game studio\, or a regulatory official\, this is the place to connect\, learn\, and grow. \nExplore a Massive\, Immersive Show Floor\nSpanning an impressive 135\,000 square meters\, the 2025 summit is 20% bigger than last year\, offering an electric exhibition floor buzzing with 700 exhibitors showcasing cutting-edge products and services. Navigate effortlessly through dedicated zones tailored to every corner of the industry: \n\n	Casino & iGaming Zone: Discover hot new game releases and next-level iGaming tech.\n	Sports Betting Zone: Explore innovations in sportsbook products and data solutions.\n	Player Protection Zone: Dive into responsible gaming practices and safer gambling initiatives.\n	Esports\, Gaming & Creators Zone: Uncover the future of esports and gaming content creation.\n	Payments & Compliance Zone: Connect with payment providers\, KYC experts\, and compliance specialists.\n	Affiliate\, Marketing & Media Zone: Stay ahead of performance marketing trends and regulatory shifts.\n	Emerging Tech Zone: Get a front-row seat to technologies set to revolutionize the industry.\n	Founders & Investors Zone: Pitch ideas and forge partnerships with industry visionaries.\n\nPlus\, don’t miss the Payment Expert Summit and Affiliate Leaders Summit\, where 5\,000 affiliates and operators gather for exclusive insights and networking. \nWorld-Class Content & Star-Studded Speakers\nWith eight dynamic stages and over 500 expert speakers\, SBC Summit Lisbon delivers unparalleled content. From high-energy keynotes to thought-provoking panels\, industry icons like CEOs from Boylesports\, Evoke plc\, Super Group\, Kindred Group\, and betFIRST will share insights on topics like sportsbook innovation\, esports betting\, and regulatory frameworks. Expect lively discussions\, bold ideas\, and actionable strategies to elevate your business. \nNetworking Like Never Before\nSBC Summit Lisbon isn’t just about business—it’s about building connections that last. With 30\,000 delegates\, including 8\,000 operators and 2\,500 affiliates\, you’ll have endless opportunities to mingle with the who’s who of gaming. Use the AI-powered matchmaking tool to schedule face-to-face meetings\, sip drinks at dedicated networking spaces\, or connect via the event app. Daytime networking seamlessly flows into unforgettable evening events\, including: \n\n	Opening Party: Kick things off with world-class DJs Joel Corry and Imanbek.\n	Infinity Lisbon: Dance the night away at the MEO Arena with Timmy Trumpet and Alok.\n	Legends Charity Game: Cheer on 40 global football legends like Kaká\, Figo\, and Cafu as they hit the field to raise €1\,000\,000 for humanitarian causes\, drawing 60\,000 fans and millions of viewers worldwide.\n\nA Feast for All Senses\nFuel your summit experience at the vibrant Food Festival\, offering everything from healthy eats to local Portuguese favorites\, street food\, and allergy-friendly options. VIP Pass holders can savor it all with preloaded wristbands\, ensuring every dietary need is met in style. \nWhy You Can’t Miss SBC Summit Lisbon 2025\nThis isn’t just an event—it’s a game-changer. From the massive exhibition space to the star-studded speaker lineup\, every detail is designed to inspire\, connect\, and empower. Whether you’re launching a product\, forging partnerships\, or staying ahead of industry trends\, SBC Summit Lisbon offers unmatched opportunities in one of the world’s most stunning cities—a three-time 2024 World Travel Awards winner for Europe’s Leading City Destination\, World’s Leading Heritage City Destination\, and World’s Leading City Break Destination. \nMark your calendars\, grab your tickets\, and join the global gaming community in Lisbon for an unforgettable plunge into innovation\, collaboration\, and celebration. SBC Summit Lisbon 2025—where the future of gaming comes alive!
URL:https://events.stackedgame.com/events/sbc-summit-lisbon-2025/
LOCATION:Feira Internacional de Lisboa and MEO Arena\, Lisbon\, Lisboa\, Portugal
CATEGORIES:Esports,Gaming Awards,Gaming Careers,Game Development
ATTACH;FMTTYPE=image/png:https://cdn1.events.stackedgame.com/wp-content/uploads/sell/DanEvents/E_40303/sbcsummitlisbon2025png-1756719069.png
ORGANIZER;CN="SBC%20Events":MAILTO:info@sbcgaming.com
END:VEVENT
BEGIN:VEVENT
DTSTART;VALUE=DATE:20250919
DTEND;VALUE=DATE:20250922
DTSTAMP:20260422T060539
CREATED:20250901T094555Z
LAST-MODIFIED:20250901T094555Z
UID:40308-1758240000-1758499199@events.stackedgame.com
SUMMARY:Cleveland Gaming Classic 2025
DESCRIPTION:Cleveland Gaming Classic 2025: Ohio’s Ultimate Gaming Adventure!\nGet ready to power up for the Cleveland Gaming Classic 2025\, Ohio’s largest and most electrifying celebration of all things gaming\, happening September 19–21\, 2025\, at the massive I-X Center in Cleveland\, Ohio! Spanning over 250\,000 square feet\, this three-day extravaganza is a pixel-packed paradise for gamers\, collectors\, families\, and pop culture fans alike. From retro consoles to cutting-edge indie games\, epic cosplay to legendary guests\, this event has something for everyone—whether you’re a hardcore gamer or just looking for a fun-filled weekend! \nA Nostalgic and Modern Gaming Wonderland\nBorn over a decade ago from a group of friends’ passion for gaming in a Cleveland basement\, the Cleveland Gaming Classic has grown into Ohio’s premier gaming event\, drawing thousands of fans from across the country. Step into a vibrant world of nostalgia and innovation with: \n\n	Massive Vendor Expo: Hunt for treasures across 350+ vendor tables packed with rare video games\, collectibles\, toys\, tabletop games\, comics\, anime\, art\, and crafts. From vintage cartridges to modern merch\, you’ll find it all!\n	Free-Play Arcade & Pinball: Drop no quarters here! Enjoy over 100 arcade cabinets and pinball machines set to free play\, featuring classics and fan favorites that’ll keep you gaming all weekend long.\n	Retro Console Heaven: Relive the glory days with 70+ classic video game consoles—think PS1\, SNES\, Nintendo 64\, and Sega Genesis—hooked up to old-school CRT TVs for that authentic retro vibe. Play the games you grew up with or discover hidden gems!\n	Indie Game Showcase: Get hands-on with the latest creations from indie game developers. Test new titles\, meet the creative minds behind them\, and watch developers compete for industry awards on the main stage.\n\nEpic Competitions and Cosplay Extravaganza\nThink you’ve got what it takes to dominate? Show off your skills in thrilling tournaments\, including: \n\n	eSports Showdowns: Battle it out in fan-favorite titles like Tetris\, Tecmo Super Bowl\, Mario Kart\, and more.\n	Cosplay Contests: Strut your stuff on the main stage in the epic cosplay competition\, open to kids\, teens\, adults\, and groups. Whether you’re a crafting pro or a first-timer\, it’s free to join\, with prizes and bragging rights up for grabs!\n\nMeet Gaming Legends and Special Guests\nRub shoulders with the icons who shaped the games you love! The 2025 lineup includes: \n\n	Legendary video game composers\, artists\, and developers behind classics like Mortal Kombat\, Donkey Kong\, Banjo-Kazooie\, and Goldeneye.\n	Professional cosplayers\, streamers\, and content creators sharing tips and stories.\n	Unique photo ops with groups like the 501st Legion Star Wars costuming club and Rubber City Cosplay.\n	A blindfolded Mario 64 speedrun attempt that’ll leave you speechless!\n\nPlus\, rock out to live retro tunes from bands like Arcadia\, bringing your favorite video game soundtracks to life. \nFamily-Friendly Fun for All Ages\nThe Cleveland Gaming Classic is a blast for gamers of all ages! Kids 10 and under get in free with a ticketed adult\, and the dedicated Kids Zone offers scavenger hunts\, bounce houses\, and tabletop gaming adventures. The whole family can join in on the fun with free-to-play board games\, arcade machines\, and interactive activities designed to spark joy and nostalgia. \nUnforgettable Weekend Vibes\nKick off the weekend with the Friday Preview Party\, featuring music\, games\, and early access to the arcade and pinball zones (note: the full vendor hall opens Saturday). On Saturday\, stay late for live music\, extended gaming until 10 PM\, and a buzzing atmosphere as the convention hits full swing. Sunday wraps up with more gaming\, shopping\, and tournament finals. With wide aisles\, easy load-in\, and a venue just minutes from Cleveland Hopkins International Airport\, the I-X Center makes your experience seamless and stress-free. \nWhy You Can’t Miss Cleveland Gaming Classic 2025\nThis isn’t just a convention—it’s a love letter to gaming culture! Whether you’re chasing rare collectibles\, battling in tournaments\, crafting epic cosplays\, or just soaking in the retro vibes\, the Cleveland Gaming Classic delivers non-stop fun. Plus\, it’s a chance to give back—events like the “CGC for the Cure” campaign support local nonprofits\, making your visit part of a bigger mission. \nGrab your tickets\, pack your controller\, and join thousands of gamers in Cleveland for an unforgettable weekend of pixels\, pinball\, and pure gaming magic. Cleveland Gaming Classic 2025—where nostalgia meets the future\, and every player is a winner!
URL:https://events.stackedgame.com/events/cleveland-gaming-classic-2025/
LOCATION:I-X Center\, One I-X Center Dr.\, Cleveland\, OH\, 44135\, United States
CATEGORIES:Cosplay,Game Development,Retro Games,General Gaming
ATTACH;FMTTYPE=image/png:https://cdn1.events.stackedgame.com/wp-content/uploads/sell/DanEvents/E_40308/clevelandgamingclassic2025png-1756719957.png
ORGANIZER;CN="Cleveland%20Gaming%20Classic%20Team":MAILTO:show@gamecleveland.com
END:VEVENT
BEGIN:VEVENT
DTSTART;VALUE=DATE:20250920
DTEND;VALUE=DATE:20250921
DTSTAMP:20260422T060539
CREATED:20250629T120744Z
LAST-MODIFIED:20250629T120936Z
UID:39772-1758326400-1758412799@events.stackedgame.com
SUMMARY:HIT Games Conference (HGC) 2025 – Hanoi\, Vietnam
DESCRIPTION:HIT Games Conference (HGC) 2025 – Hanoi is Vietnam’s premier B2B gaming industry event\, bringing together over 500 professionals from 45+ countries for two days of insights\, innovation\, and international networking. This dynamic conference spans mobile\, PC\, console\, VR/AR\, and Web3 gaming\, offering attendees direct access to thought leaders\, cutting-edge market trends\, and business development opportunities in Southeast Asia and beyond. \nWith 70+ expert speakers across two content-rich stages\, an interactive expo area\, a Developer Showcase\, and structured networking sessions\, HGC Hanoi is designed for developers\, publishers\, investors\, service providers\, and media to collaborate\, connect\, and thrive. Whether you’re building the next hit title or expanding into new markets\, this conference is your gateway to the future of gaming in Asia.
URL:https://events.stackedgame.com/events/hit-games-conference-hgc-2025-hanoi-vietnam/
LOCATION:Hanoi\, Vietnam (Venue TBA)
CATEGORIES:Esports,Game Development,General Gaming
ATTACH;FMTTYPE=image/png:https://cdn1.events.stackedgame.com/wp-content/uploads/sell/DanAvenger/temp/hitgamesconferencehgc2025png.png
END:VEVENT
END:VCALENDAR