BEGIN:VCALENDAR
VERSION:2.0
PRODID:-//StackedGame.com - ECPv5.14.1//NONSGML v1.0//EN
CALSCALE:GREGORIAN
METHOD:PUBLISH
X-WR-CALNAME:StackedGame.com
X-ORIGINAL-URL:https://events.stackedgame.com
X-WR-CALDESC:Events for StackedGame.com
REFRESH-INTERVAL;VALUE=DURATION:PT1H
X-Robots-Tag:noindex
X-PUBLISHED-TTL:PT1H
BEGIN:VTIMEZONE
TZID:UTC
BEGIN:STANDARD
TZOFFSETFROM:+0000
TZOFFSETTO:+0000
TZNAME:UTC
DTSTART:20250101T000000
END:STANDARD
TZID:Europe/Berlin
BEGIN:DAYLIGHT
TZOFFSETFROM:+0100
TZOFFSETTO:+0200
TZNAME:CEST
DTSTART:20250330T010000
END:DAYLIGHT
BEGIN:STANDARD
TZOFFSETFROM:+0200
TZOFFSETTO:+0100
TZNAME:CET
DTSTART:20251026T010000
END:STANDARD
TZID:America/New_York
BEGIN:DAYLIGHT
TZOFFSETFROM:-0500
TZOFFSETTO:-0400
TZNAME:EDT
DTSTART:20250309T070000
END:DAYLIGHT
BEGIN:STANDARD
TZOFFSETFROM:-0400
TZOFFSETTO:-0500
TZNAME:EST
DTSTART:20251102T060000
END:STANDARD
END:VTIMEZONE
BEGIN:VEVENT
DTSTART;VALUE=DATE:20250713
DTEND;VALUE=DATE:20250929
DTSTAMP:20260422T060531
CREATED:20250702T220509Z
LAST-MODIFIED:20250702T220825Z
UID:39854-1752364800-1759103999@events.stackedgame.com
SUMMARY:Free Fire MAX India Cup 2025 (FFMIC)
DESCRIPTION:Get ready for the most electrifying esports showdown of the year—Free Fire MAX India Cup 2025 (FFMIC 2025)! After more than three years\, Garena is bringing back official Free Fire action to India\, and this time\, it’s bigger\, bolder\, and more competitive than ever before. \nWhat’s in store? \nMassive Prize Pool: With a jaw-dropping ₹1 crore prize pool up for grabs\, the stakes have never been higher for India’s top Free Fire squads. \nEpic Format: The tournament unfolds in four thrilling phases: \nIn-Game Qualifiers (July 13): All registered teams battle it out in up to 12 matches\, with their best 8 scores counting toward qualification. Only the top 48 teams make it to the next stage. \nOnline Qualifiers (July 26 – August 3): The competition heats up as teams fight for a coveted spot in the League Stage. \nLeague Stage (August 22 – September 14): 36 teams\, divided into three groups\, compete in a round-robin format. The top 12 teams advance to the Grand Finals. \nGrand Finals (September 27–28): The ultimate face-off! The 12 best teams in India clash for the FFMIC trophy and the lion’s share of the prize money. \nOpen for All: Registration is open to all Indian Free Fire MAX players meeting the minimum requirements (Diamond 1 rank\, Level 40\, age 16+). Gather your squad of 4–5 players and get ready to compete with the nation’s best. \nTop Teams & LAN Finals: Expect to see fan-favorite organizations like GodLike Esports\, Orangutan\, and K9 Esports in the mix. The Grand Finals will be an offline LAN event\, promising a high-energy\, stadium-like atmosphere. \nWhy is FFMIC 2025 special? \nIt marks the return of Garena’s official esports to India after a long hiatus\, reigniting the competitive spirit and uniting the Free Fire community. \nThe tournament’s open-for-all format gives every player—from rising stars to established pros—a shot at glory and life-changing rewards. \nWith a festival vibe\, nail-biting matches\, and a massive audience\, FFMIC 2025 is set to be a landmark event in Indian esports. \nReady to reignite the fire?\nWhether you’re playing or cheering\, Free Fire MAX India Cup 2025 is the ultimate battleground for India’s best. Assemble your squad\, sharpen your skills\, and get set for a summer of explosive esports action!
URL:https://events.stackedgame.com/events/free-fire-max-india-cup-2025-ffmic/
LOCATION:TBA
CATEGORIES:Esports,Gaming Awards,Sci-Fi & Fantasy,General Gaming
ATTACH;FMTTYPE=image/png:https://cdn1.events.stackedgame.com/wp-content/uploads/sell/DanAvenger/temp/freefiremaxindiacup2025png.png
ORGANIZER;CN="Garena":MAILTO:support@garena.com
END:VEVENT
BEGIN:VEVENT
DTSTART;TZID=UTC:20250725T080000
DTEND;TZID=UTC:20250803T170000
DTSTAMP:20260422T060531
CREATED:20250701T104417Z
LAST-MODIFIED:20250701T104417Z
UID:39816-1753430400-1754240400@events.stackedgame.com
SUMMARY:PUBG Mobile World Cup 2025
DESCRIPTION:The PUBG Mobile World Cup 2025 is the official mid-season international tournament for PUBG Mobile\, featuring 24 of the world’s top teams competing for a prize pool of $3\,000\,000. The event is part of the Esports World Cup 2025 and will be held offline in Riyadh\, Saudi Arabia. The tournament consists of a Group Stage\, Survival Stage\, and Grand Finals\, using a point-based system to determine the champion. The event is organized by Level Infinite\, Krafton\, the Esports World Cup Foundation\, and ESL FACEIT Group.
URL:https://events.stackedgame.com/events/pubg-mobile-world-cup-2025/
LOCATION:Boulevard Riyadh City\, BR Arena\, Prince Turki Ibn Abdulaziz Al Awwal Road\, Hittin\, Riyadh\, Riyadh\, 13513\, Saudi Arabia
CATEGORIES:Esports,Gaming Awards,General Gaming
ATTACH;FMTTYPE=image/png:https://cdn1.events.stackedgame.com/wp-content/uploads/sell/DanAvenger/temp/pubgmobileworldcup2025png.png
END:VEVENT
BEGIN:VEVENT
DTSTART;VALUE=DATE:20250731
DTEND;VALUE=DATE:20250803
DTSTAMP:20260422T060531
CREATED:20250616T202802Z
LAST-MODIFIED:20250616T202802Z
UID:39640-1753920000-1754179199@events.stackedgame.com
SUMMARY:Freeplay Independent Games Festival 2025
DESCRIPTION:The Freeplay Independent Games Festival is Australia’s longest-running and most prominent festival dedicated to independent games\, digital art\, and creative culture. The event celebrates the artistry\, innovation\, and diversity of indie game creators through a program of talks\, workshops\, exhibitions\, performances\, and the prestigious Freeplay Awards. It is a platform for both emerging and established game makers\, offering opportunities for networking\, learning\, and showcasing new work in a supportive and inclusive environment.
URL:https://events.stackedgame.com/events/freeplay-independent-games-festival-2025/
LOCATION:Science Gallery Melbourne\, Melbourne Connect\, 114 Grattan Street\, Parkville\, Melbourne\, Victoria (VIC)\, 3052\, Australia
CATEGORIES:Game Art & Creatives,Game Merchandise,Gaming Awards,Game Development,Indie Games,Sci-Fi & Fantasy,General Gaming
ATTACH;FMTTYPE=image/png:https://cdn1.events.stackedgame.com/wp-content/uploads/sell/DanAvenger/temp/freeplayindependentgamesfestival2025png.png
ORGANIZER;CN="Freeplay%20Inc.":MAILTO:info@freeplay.net.au
END:VEVENT
BEGIN:VEVENT
DTSTART;VALUE=DATE:20250731
DTEND;VALUE=DATE:20250804
DTSTAMP:20260422T060531
CREATED:20250622T172034Z
LAST-MODIFIED:20250622T172034Z
UID:39696-1753920000-1754265599@events.stackedgame.com
SUMMARY:ChinaJoy 2025
DESCRIPTION:ChinaJoy (China Digital Entertainment Expo & Conference) is Asia’s largest and most influential digital entertainment and gaming expo. It gathers global leaders from the gaming\, esports\, animation\, and digital entertainment industries to showcase the latest products\, technologies\, and trends. The event features a massive exhibition floor\, new game releases\, esports tournaments\, cosplay competitions\, industry conferences\, and opportunities for networking and business development.
URL:https://events.stackedgame.com/events/chinajoy-2025/
LOCATION:Shanghai New International Expo Centre (SNIEC)\, 2345 Longyang Road\, Pudong New Area\, Shanghai\, Shanghai Municipality\, 201204\, China
CATEGORIES:Esports,Game Art & Creatives,Game Development,General Gaming
ATTACH;FMTTYPE=image/jpeg:https://cdn1.events.stackedgame.com/wp-content/uploads/sell/DanAvenger/temp/banner-chinajoy-2025jpg.jpg
ORGANIZER;CN="ChinaJoy%20Organizing%20Committee":MAILTO:info@howellexpo.net
END:VEVENT
BEGIN:VEVENT
DTSTART;VALUE=DATE:20250731
DTEND;VALUE=DATE:20250804
DTSTAMP:20260422T060531
CREATED:20250623T173922Z
LAST-MODIFIED:20250623T173922Z
UID:39721-1753920000-1754265599@events.stackedgame.com
SUMMARY:Gen Con Indy 2025
DESCRIPTION:Gen Con Indy 2025 is North America’s largest and longest-running tabletop gaming convention\, known as “The Best Four Days in Gaming!” The event features thousands of ticketed in-person events\, a sold-out Exhibit Hall\, major tournaments\, an outdoor Block Party with food trucks and live entertainment\, and a vibrant community of gamers\, publishers\, artists\, and creators. Attendees can enjoy board games\, card games\, RPGs\, miniatures\, workshops\, cosplay\, and more\, making it a must-attend for fans of all things tabletop and gaming culture.
URL:https://events.stackedgame.com/events/gen-con-indy-2025/
LOCATION:Indiana Convention Center\, 100 South Capitol Avenue\, Indianapolis\, IN\, 46225\, United States
CATEGORIES:Board Game,Indie Games,Trading Cards,General Gaming
ATTACH;FMTTYPE=image/jpeg:https://cdn1.events.stackedgame.com/wp-content/uploads/sell/DanAvenger/temp/genconindy2025jpg.jpg
ORGANIZER;CN="Gen%20Con%20LLC":MAILTO:customerservice@gencon.com
END:VEVENT
BEGIN:VEVENT
DTSTART;TZID=Europe/Berlin:20250801T090000
DTEND;TZID=Europe/Berlin:20250803T130000
DTSTAMP:20260422T060531
CREATED:20241015T035634Z
LAST-MODIFIED:20241030T172601Z
UID:38332-1754038800-1754226000@events.stackedgame.com
SUMMARY:AnimagiC 2025
DESCRIPTION:you are the magic! This is the motto we are celebrating our 25th AnimagiC with you from August 1st to 3rd. We are really looking forward to gradually presenting the highlights to you over the coming months. As usual\, you can expect a high-quality\, varied and diverse program of great music acts\, first-class Japanese and German-speaking guests of honor\, fantastic show groups\, the Animotion film festival with premiere screenings\, industry-relevant exhibitors and hand-picked dealers – in short: an all-round magical weekend for anime\, manga\, J-music and culture fans! #YouAreTheMagiC
URL:https://events.stackedgame.com/events/animagic-2025/
LOCATION:Rosengarten Mannheim\, Rosengartenplatz 2\, Mannheim\, Baden-Württemberg\, 68161\, Germany
CATEGORIES:Anime & Manga
ATTACH;FMTTYPE=image/png:https://cdn1.events.stackedgame.com/wp-content/uploads/animagic-2025featured-imagepng.png
ORGANIZER;CN="AnimagiC%20GmbH":MAILTO:info@animagic.de
GEO:49.4875;8.466
X-APPLE-STRUCTURED-LOCATION;VALUE=URI;X-ADDRESS=Rosengarten Mannheim Rosengartenplatz 2 Mannheim Baden-Württemberg 68161 Germany;X-APPLE-RADIUS=500;X-TITLE=Rosengartenplatz 2:geo:8.466,49.4875
END:VEVENT
BEGIN:VEVENT
DTSTART;TZID=America/New_York:20250802T100000
DTEND;TZID=America/New_York:20250802T170000
DTSTAMP:20260422T060531
CREATED:20241030T172822Z
LAST-MODIFIED:20241030T172822Z
UID:38090-1754128800-1754154000@events.stackedgame.com
SUMMARY:Utica Anime-Fest 2025
DESCRIPTION:Utica Anime-Fest is an anime collectors’ mecca convention located in the beautiful City of Utica. New York. Striving to be New York’s best and truest anime convention featuring fandoms of multiple genres. As a long-time collector of anime\, manga and pop culture items the promoter brings New York an event that will satisfy all anime fandom!
URL:https://events.stackedgame.com/events/utica-anime-fest-2025/
LOCATION:Delta Hotels by Marriott Utica\, 200 Genesee St\, Utica\, NY\, 13502\, United States
CATEGORIES:Anime & Manga
ATTACH;FMTTYPE=image/png:https://cdn1.events.stackedgame.com/wp-content/uploads/utica-anime-fest-2025featured-imagepng.png
ORGANIZER;CN="Utica%20Anime-Fest":MAILTO:info@uticaanimefest.com
GEO:43.1016;-75.233
X-APPLE-STRUCTURED-LOCATION;VALUE=URI;X-ADDRESS=Delta Hotels by Marriott Utica 200 Genesee St Utica NY 13502 United States;X-APPLE-RADIUS=500;X-TITLE=200 Genesee St:geo:-75.233,43.1016
END:VEVENT
END:VCALENDAR