BEGIN:VCALENDAR
VERSION:2.0
PRODID:-//StackedGame.com - ECPv5.14.1//NONSGML v1.0//EN
CALSCALE:GREGORIAN
METHOD:PUBLISH
X-WR-CALNAME:StackedGame.com
X-ORIGINAL-URL:https://events.stackedgame.com
X-WR-CALDESC:Events for StackedGame.com
REFRESH-INTERVAL;VALUE=DURATION:PT1H
X-Robots-Tag:noindex
X-PUBLISHED-TTL:PT1H
BEGIN:VTIMEZONE
TZID:UTC
BEGIN:STANDARD
TZOFFSETFROM:+0000
TZOFFSETTO:+0000
TZNAME:UTC
DTSTART:20250101T000000
END:STANDARD
TZID:America/New_York
BEGIN:DAYLIGHT
TZOFFSETFROM:-0500
TZOFFSETTO:-0400
TZNAME:EDT
DTSTART:20250309T070000
END:DAYLIGHT
BEGIN:STANDARD
TZOFFSETFROM:-0400
TZOFFSETTO:-0500
TZNAME:EST
DTSTART:20251102T060000
END:STANDARD
END:VTIMEZONE
BEGIN:VEVENT
DTSTART;VALUE=DATE:20250707
DTEND;VALUE=DATE:20250725
DTSTAMP:20260422T103949
CREATED:20250619T114819Z
LAST-MODIFIED:20250619T115037Z
UID:39666-1751846400-1753401599@events.stackedgame.com
SUMMARY:Esports World Cup 2025
DESCRIPTION:The 2025 Esports World Cup (EWC) is the world’s largest multi-title esports event\, bringing together over 2\,000 players from more than 200 clubs to compete across 25 tournaments in 24 games. Hosted in Riyadh\, Saudi Arabia\, the EWC features a record-breaking $70 million prize pool and is designed as both a top-tier competitive tournament and a festival-style experience for fans\, creators\, and industry professionals. The event includes major esports titles such as League of Legends\, Dota 2\, Counter-Strike 2\, VALORANT\, Free Fire\, Apex Legends\, and more\, with additional activities like cosplay contests\, fan meetups\, live performances\, and industry summits.
URL:https://events.stackedgame.com/events/esports-event-2025-esports-world-cup/
LOCATION:Boulevard Riyadh City\, SEF Arena\, Boulevard Riyadh City\, SEF Arena\, Riyadh\, Riyadh\, Saudi Arabia
CATEGORIES:Cosplay,Esports,Game Art & Creatives,Game Merchandise,Gaming Awards,Gaming Careers,General Gaming
ATTACH;FMTTYPE=image/png:https://cdn1.events.stackedgame.com/wp-content/uploads/sell/DanAvenger/temp/esportsevent2025esportsworldcuppng.png
ORGANIZER;CN="Esports%20World%20Cup%20Foundation%20%28EWCF%29":MAILTO:ewcfclubprogram@esportsworldcup.com
END:VEVENT
BEGIN:VEVENT
DTSTART;TZID=America/New_York:20250707T100000
DTEND;TZID=America/New_York:20250708T170000
DTSTAMP:20260422T103949
CREATED:20241107T110836Z
LAST-MODIFIED:20241107T110836Z
UID:38116-1751882400-1751994000@events.stackedgame.com
SUMMARY:Rhode Island Anime Con 2025
DESCRIPTION:Rhode Island Anime Con features anime screenings and cosplay contests for fans of all ages.
URL:https://events.stackedgame.com/events/rhode-island-anime-con-2025/
LOCATION:Rhode Island Convention Center\, 1 Sabin St\, Providence\, RI\, 02903\, United States
CATEGORIES:Anime & Manga,Cosplay
ATTACH;FMTTYPE=image/png:https://cdn1.events.stackedgame.com/wp-content/uploads/rhode-island-animecon-2025featured-imagepng-1.png
ORGANIZER;CN="Altered%20Reality%20Entertainment%20LLC":MAILTO:info@rianimecon.com
GEO:41.824;-71.416
X-APPLE-STRUCTURED-LOCATION;VALUE=URI;X-ADDRESS=Rhode Island Convention Center 1 Sabin St Providence RI 02903 United States;X-APPLE-RADIUS=500;X-TITLE=1 Sabin St:geo:-71.416,41.824
END:VEVENT
BEGIN:VEVENT
DTSTART;TZID=UTC:20250708T080000
DTEND;TZID=UTC:20250710T170000
DTSTAMP:20260422T103949
CREATED:20250612T171545Z
LAST-MODIFIED:20250612T171648Z
UID:39588-1751961600-1752166800@events.stackedgame.com
SUMMARY:Develop:Brighton 2025
DESCRIPTION:Develop:Brighton is the UK’s leading games industry conference\, bringing together game developers\, publishers\, and industry professionals for networking\, knowledge-sharing\, and inspiration. The event features keynote speakers\, panel discussions\, workshops\, and networking opportunities designed to support the growth and innovation of the games sector.
URL:https://events.stackedgame.com/events/developbrighton-2025/
LOCATION:Brighton Centre\, Kings Road\, Brighton\, Brighton\, East Sussex\, BN1 2GR\, United Kingdom
CATEGORIES:Game Art & Creatives,Gaming Careers,Game Development,Indie Games
ATTACH;FMTTYPE=image/jpeg:https://cdn1.events.stackedgame.com/wp-content/uploads/sell/DanAvenger/temp/img-virtuos-events-develop-brighton-1jpg.jpg
ORGANIZER;CN="Tandem%20Events":MAILTO:info@tandemevents.co.uk
END:VEVENT
BEGIN:VEVENT
DTSTART;VALUE=DATE:20250709
DTEND;VALUE=DATE:20250711
DTSTAMP:20260422T103949
CREATED:20250611T150713Z
LAST-MODIFIED:20250611T150713Z
UID:39577-1752019200-1752191999@events.stackedgame.com
SUMMARY:German Dev Days 2025
DESCRIPTION:German Dev Days is a leading conference for game developers\, tech professionals\, and enthusiasts in Germany. The event focuses on game development\, programming\, industry trends\, and professional networking. Attendees can expect keynote speeches\, technical sessions\, hands-on workshops\, and opportunities to connect with peers and industry leaders.
URL:https://events.stackedgame.com/events/german-dev-days-2025/
LOCATION:Saalbau Gallus\, Frankfurt/Main\, Frankenallee 111\, Frankfurt am Main\, Hessen\, 60326\, Germany
CATEGORIES:Game Art & Creatives,Gaming Careers,Game Development,Indie Games,General Gaming
ATTACH;FMTTYPE=image/jpeg:https://cdn1.events.stackedgame.com/wp-content/uploads/sell/DanAvenger/temp/germandevdaysjpg.jpg
END:VEVENT
BEGIN:VEVENT
DTSTART;VALUE=DATE:20250711
DTEND;VALUE=DATE:20250714
DTSTAMP:20260422T103949
CREATED:20250611T145818Z
LAST-MODIFIED:20250611T150908Z
UID:39572-1752192000-1752451199@events.stackedgame.com
SUMMARY:AdventureCon 2025
DESCRIPTION:AdventureCon is an annual gaming convention held in Knoxville\, Tennessee\, focusing on board games\, role-playing games\, and related gaming culture. The event features game demos\, tournaments\, vendors\, cosplay\, and community meetups.
URL:https://events.stackedgame.com/events/adventurecon-2025/
LOCATION:Knoxville Convention Center\, 701 Henley Street\, Knoxville\, Tennessee\, 37902
CATEGORIES:Board Game,Indie Games,Retro Games,General Gaming
ATTACH;FMTTYPE=image/png:https://cdn1.events.stackedgame.com/wp-content/uploads/sell/DanAvenger/temp/adventurecon2025png.png
ORGANIZER;CN="AdventureCon%20Organizing%20Committee":MAILTO:info@adventure-con.com
END:VEVENT
BEGIN:VEVENT
DTSTART;VALUE=DATE:20250711
DTEND;VALUE=DATE:20250714
DTSTAMP:20260422T103949
CREATED:20250612T170733Z
LAST-MODIFIED:20250612T170937Z
UID:39583-1752192000-1752451199@events.stackedgame.com
SUMMARY:PlayCon 2025
DESCRIPTION:PlayCon is Australia’s first national dedicated board game convention\, celebrating the joy and camaraderie of board gaming. The event features a diverse range of activities\, including free play zones\, game libraries with over 400 games\, RPG sessions\, large group games\, competitive gaming events\, and opportunities to meet and playtest games with Australian designers. Attendees can participate in workshops on game design and strategy\, interact with exhibitors showcasing both well-known and indie titles\, and enjoy a welcoming community atmosphere.
URL:https://events.stackedgame.com/events/playcon-2025/
LOCATION:Southern Sydney Event Centre\, 2 Crofts Avenue\, Hurstville\, Hurstville\, New South Wales\, 2220\, Australia
CATEGORIES:Board Game,Cosplay,Game Art & Creatives,Game Development
ATTACH;FMTTYPE=image/jpeg:https://cdn1.events.stackedgame.com/wp-content/uploads/sell/DanAvenger/temp/3day-2025-playconjpg.jpg
ORGANIZER;CN="Play%20Con%20Australia%20%28run%20by%20Board%20Game%20BBQ%29":MAILTO:info@play-con.com
END:VEVENT
BEGIN:VEVENT
DTSTART;VALUE=DATE:20250711
DTEND;VALUE=DATE:20250714
DTSTAMP:20260422T103949
CREATED:20250616T203456Z
LAST-MODIFIED:20250616T203456Z
UID:39645-1752192000-1752451199@events.stackedgame.com
SUMMARY:SMASH! Sydney Manga and Anime Show 2025
DESCRIPTION:SMASH! Sydney Manga and Anime Show is one of Australia’s largest conventions dedicated to anime\, manga\, Japanese pop culture\, and gaming. The event features a vibrant Artist Market\, an extensive gaming section\, unique panels and workshops\, international guests\, cosplay competitions\, exclusive merchandise\, and a range of free activities. SMASH! is renowned for its inclusive community\, welcoming everyone from casual anime fans to dedicated collectors and gamers.
URL:https://events.stackedgame.com/events/smash-sydney-manga-and-anime-show-2025/
LOCATION:ICC Sydney\, Australia\, 14 Darling Dr\, Sydney\, New South Wales (NSW)\, 2000\, Australia
CATEGORIES:Anime & Manga,Board Game,Comicon,Cosplay,Esports,Game Art & Creatives,Game Merchandise,Game Development
ATTACH;FMTTYPE=image/jpeg:https://cdn1.events.stackedgame.com/wp-content/uploads/sell/DanAvenger/temp/smash-2025websitethumbnailjpg.jpg
END:VEVENT
BEGIN:VEVENT
DTSTART;VALUE=DATE:20250713
DTEND;VALUE=DATE:20250929
DTSTAMP:20260422T103949
CREATED:20250702T220509Z
LAST-MODIFIED:20250702T220825Z
UID:39854-1752364800-1759103999@events.stackedgame.com
SUMMARY:Free Fire MAX India Cup 2025 (FFMIC)
DESCRIPTION:Get ready for the most electrifying esports showdown of the year—Free Fire MAX India Cup 2025 (FFMIC 2025)! After more than three years\, Garena is bringing back official Free Fire action to India\, and this time\, it’s bigger\, bolder\, and more competitive than ever before. \nWhat’s in store? \nMassive Prize Pool: With a jaw-dropping ₹1 crore prize pool up for grabs\, the stakes have never been higher for India’s top Free Fire squads. \nEpic Format: The tournament unfolds in four thrilling phases: \nIn-Game Qualifiers (July 13): All registered teams battle it out in up to 12 matches\, with their best 8 scores counting toward qualification. Only the top 48 teams make it to the next stage. \nOnline Qualifiers (July 26 – August 3): The competition heats up as teams fight for a coveted spot in the League Stage. \nLeague Stage (August 22 – September 14): 36 teams\, divided into three groups\, compete in a round-robin format. The top 12 teams advance to the Grand Finals. \nGrand Finals (September 27–28): The ultimate face-off! The 12 best teams in India clash for the FFMIC trophy and the lion’s share of the prize money. \nOpen for All: Registration is open to all Indian Free Fire MAX players meeting the minimum requirements (Diamond 1 rank\, Level 40\, age 16+). Gather your squad of 4–5 players and get ready to compete with the nation’s best. \nTop Teams & LAN Finals: Expect to see fan-favorite organizations like GodLike Esports\, Orangutan\, and K9 Esports in the mix. The Grand Finals will be an offline LAN event\, promising a high-energy\, stadium-like atmosphere. \nWhy is FFMIC 2025 special? \nIt marks the return of Garena’s official esports to India after a long hiatus\, reigniting the competitive spirit and uniting the Free Fire community. \nThe tournament’s open-for-all format gives every player—from rising stars to established pros—a shot at glory and life-changing rewards. \nWith a festival vibe\, nail-biting matches\, and a massive audience\, FFMIC 2025 is set to be a landmark event in Indian esports. \nReady to reignite the fire?\nWhether you’re playing or cheering\, Free Fire MAX India Cup 2025 is the ultimate battleground for India’s best. Assemble your squad\, sharpen your skills\, and get set for a summer of explosive esports action!
URL:https://events.stackedgame.com/events/free-fire-max-india-cup-2025-ffmic/
LOCATION:TBA
CATEGORIES:Esports,Gaming Awards,Sci-Fi & Fantasy,General Gaming
ATTACH;FMTTYPE=image/png:https://cdn1.events.stackedgame.com/wp-content/uploads/sell/DanAvenger/temp/freefiremaxindiacup2025png.png
ORGANIZER;CN="Garena":MAILTO:support@garena.com
END:VEVENT
BEGIN:VEVENT
DTSTART;TZID=America/New_York:20250713T100000
DTEND;TZID=America/New_York:20250713T170000
DTSTAMP:20260422T103949
CREATED:20241109T121637Z
LAST-MODIFIED:20241109T121637Z
UID:38078-1752400800-1752426000@events.stackedgame.com
SUMMARY:Louisville Anime-Fest 2025
DESCRIPTION:Louisville Anime-Fest is an anime collectors’ mecca convention located in the beautiful City of Louisville\, Kentucky. Striving to be Kentucky’s best and truest anime convention featuring fandoms of multiple genres. As a long-time collector of anime\, manga and pop culture items the promoter brings Kentucky an event that will satisfy all anime fandom!
URL:https://events.stackedgame.com/events/louisville-anime-fest-2025/
LOCATION:Holiday Inn Louisville East – Hurstbourne\, 1325 S Hurstbourne Parkway\, Louisville\, KY\, 40222\, United States
CATEGORIES:Anime & Manga
ATTACH;FMTTYPE=image/png:https://cdn1.events.stackedgame.com/wp-content/uploads/louisville-anime-fest-2025featured-imagepng.png
GEO:38.2243;-85.5806
X-APPLE-STRUCTURED-LOCATION;VALUE=URI;X-ADDRESS=Holiday Inn Louisville East – Hurstbourne 1325 S Hurstbourne Parkway Louisville KY 40222 United States;X-APPLE-RADIUS=500;X-TITLE=1325 S Hurstbourne Parkway:geo:-85.5806,38.2243
END:VEVENT
END:VCALENDAR