BEGIN:VCALENDAR
VERSION:2.0
PRODID:-//StackedGame.com - ECPv5.14.1//NONSGML v1.0//EN
CALSCALE:GREGORIAN
METHOD:PUBLISH
X-WR-CALNAME:StackedGame.com
X-ORIGINAL-URL:https://events.stackedgame.com
X-WR-CALDESC:Events for StackedGame.com
REFRESH-INTERVAL;VALUE=DURATION:PT1H
X-Robots-Tag:noindex
X-PUBLISHED-TTL:PT1H
BEGIN:VTIMEZONE
TZID:Europe/Paris
BEGIN:DAYLIGHT
TZOFFSETFROM:+0100
TZOFFSETTO:+0200
TZNAME:CEST
DTSTART:20250330T010000
END:DAYLIGHT
BEGIN:STANDARD
TZOFFSETFROM:+0200
TZOFFSETTO:+0100
TZNAME:CET
DTSTART:20251026T010000
END:STANDARD
TZID:Africa/Abidjan
BEGIN:STANDARD
TZOFFSETFROM:+0000
TZOFFSETTO:+0000
TZNAME:GMT
DTSTART:20250101T000000
END:STANDARD
TZID:UTC
BEGIN:STANDARD
TZOFFSETFROM:+0000
TZOFFSETTO:+0000
TZNAME:UTC
DTSTART:20250101T000000
END:STANDARD
END:VTIMEZONE
BEGIN:VEVENT
DTSTART;VALUE=DATE:20250703
DTEND;VALUE=DATE:20250707
DTSTAMP:20260422T085815
CREATED:20241015T035800Z
LAST-MODIFIED:20241028T162127Z
UID:38358-1751500800-1751846399@events.stackedgame.com
SUMMARY:Japan Expo Paris 2025
DESCRIPTION:Japan Expo is one of the largest conventions in Europe celebrating Japanese pop culture including anime and manga En Route Pour Japan Expo is the Twitch show that lets you discover what’s going on behind the scenes and the latest news from the festival!
URL:https://events.stackedgame.com/events/japan-expo-paris-2025/
LOCATION:Parc des Expositions de Villepinte\, ZAC Paris Nord 2\, Villepinte\, Île-de-France\, 93420\, France
CATEGORIES:Anime & Manga,Cosplay
ATTACH;FMTTYPE=image/png:https://cdn1.events.stackedgame.com/wp-content/uploads/japan-expo-paris-2025featured-imagepng.png
ORGANIZER;CN="SEFA%20Event":MAILTO:contact@sefa-event.fr
GEO:48.9711;2.5175
X-APPLE-STRUCTURED-LOCATION;VALUE=URI;X-ADDRESS=Parc des Expositions de Villepinte ZAC Paris Nord 2 Villepinte Île-de-France 93420 France;X-APPLE-RADIUS=500;X-TITLE=ZAC Paris Nord 2:geo:2.5175,48.9711
END:VEVENT
BEGIN:VEVENT
DTSTART;TZID=Africa/Abidjan:20250703T120000
DTEND;TZID=Africa/Abidjan:20250706T170000
DTSTAMP:20260422T085815
CREATED:20241101T173350Z
LAST-MODIFIED:20241101T173350Z
UID:38119-1751544000-1751821200@events.stackedgame.com
SUMMARY:Fan Expo Denver 2025
DESCRIPTION:Fan Expo Denver is a large-scale pop culture event featuring comics and anime among its attractions If you’re into comics\, sci-fi\, horror\, anime\, gaming\, or cosplay\, come share our playground. You’ll feel out of this world – and right at home.
URL:https://events.stackedgame.com/events/fan-expo-denver-2025/
LOCATION:Colorado Convention Center\, 700 14th St\, Denver\, CO\, 80202\, United States
CATEGORIES:Anime & Manga,Comicon,Sci-Fi & Fantasy
ATTACH;FMTTYPE=image/png:https://cdn1.events.stackedgame.com/wp-content/uploads/fan-expo-denver-2025featured-imagepng.png
ORGANIZER;CN="Fan%20Expo%20HQ":MAILTO:refunds@fanexpohq.com
GEO:39.739;-104.99
X-APPLE-STRUCTURED-LOCATION;VALUE=URI;X-ADDRESS=Colorado Convention Center 700 14th St Denver CO 80202 United States;X-APPLE-RADIUS=500;X-TITLE=700 14th St:geo:-104.99,39.739
END:VEVENT
BEGIN:VEVENT
DTSTART;VALUE=DATE:20250704
DTEND;VALUE=DATE:20250707
DTSTAMP:20260422T085815
CREATED:20250615T113004Z
LAST-MODIFIED:20250615T113004Z
UID:39612-1751587200-1751846399@events.stackedgame.com
SUMMARY:Clocktower Con Australia 2025
DESCRIPTION:Clocktower Con Australia is a major convention dedicated to the social bluffing game Blood on the Clocktower (BOTC). The event brings together players from around the world for three days of games\, trivia\, talk panels\, competitions\, merchandise\, and more. Attendees can participate in pickup games\, Storyteller workshops\, and enjoy panels and other activities\, all set in a welcoming and accessible environment for both new and experienced players.
URL:https://events.stackedgame.com/events/clocktower-con-australia-2025/
LOCATION:The Roundhouse\, UNSW\, Anzac Parade\, Kensington\, Sydney\, New South Wales (NSW)\, 2052\, Australia
CATEGORIES:Board Game,Game Art & Creatives,Game Merchandise,Indie Games,Sci-Fi & Fantasy,General Gaming
ATTACH;FMTTYPE=image/png:https://cdn1.events.stackedgame.com/wp-content/uploads/sell/DanAvenger/temp/clocktowerconpng.png
ORGANIZER;CN="Theo%20Walsh%20and%20The%20Pandemonium%20Institute":MAILTO:Theo Walsh and The Pandemonium Institute
END:VEVENT
END:VCALENDAR