BEGIN:VCALENDAR
VERSION:2.0
PRODID:-//StackedGame.com - ECPv5.14.1//NONSGML v1.0//EN
CALSCALE:GREGORIAN
METHOD:PUBLISH
X-WR-CALNAME:StackedGame.com
X-ORIGINAL-URL:https://events.stackedgame.com
X-WR-CALDESC:Events for StackedGame.com
REFRESH-INTERVAL;VALUE=DURATION:PT1H
X-Robots-Tag:noindex
X-PUBLISHED-TTL:PT1H
BEGIN:VTIMEZONE
TZID:America/Los_Angeles
BEGIN:DAYLIGHT
TZOFFSETFROM:-0800
TZOFFSETTO:-0700
TZNAME:PDT
DTSTART:20250309T100000
END:DAYLIGHT
BEGIN:STANDARD
TZOFFSETFROM:-0700
TZOFFSETTO:-0800
TZNAME:PST
DTSTART:20251102T090000
END:STANDARD
TZID:UTC
BEGIN:STANDARD
TZOFFSETFROM:+0000
TZOFFSETTO:+0000
TZNAME:UTC
DTSTART:20250101T000000
END:STANDARD
END:VTIMEZONE
BEGIN:VEVENT
DTSTART;TZID=America/Los_Angeles:20250307T000000
DTEND;TZID=America/Los_Angeles:20250607T000000
DTSTAMP:20260422T143220
CREATED:20241104T163323Z
LAST-MODIFIED:20241104T163323Z
UID:38051-1741305600-1749254400@events.stackedgame.com
SUMMARY:Anime Expo 2025
DESCRIPTION:Anime expo chibi\, also known as “axc”\, is a smaller-scale spinoff convention that will afford fans an additional\, cozier opportunity to share their love of Japanese anime and pop culture \nThis event serves as a marketplace showcasing the exhibit hall and artist alley. Inspired by the adorable art style\, axc is a convention aimed at celebrating what truly makes Anime Expo so incredible – YOU!
URL:https://events.stackedgame.com/events/anime-expo-2025/
LOCATION:Los Angeles Convention Center\, 1201 South Figueroa St\, Los Angeles\, CA\, 90015\, United States
CATEGORIES:Anime & Manga
ATTACH;FMTTYPE=image/png:https://cdn1.events.stackedgame.com/wp-content/uploads/anime-expo-2025featured-imagepng.png
ORGANIZER;CN="Society%20for%20the%20Promotion%20of%20Japanese%20Animation":MAILTO:info@anime-expo.org
END:VEVENT
BEGIN:VEVENT
DTSTART;VALUE=DATE:20250508
DTEND;VALUE=DATE:20250512
DTSTAMP:20260422T143220
CREATED:20240708T070436Z
LAST-MODIFIED:20241114T173259Z
UID:37230-1746662400-1747007999@events.stackedgame.com
SUMMARY:PAX East 2025
DESCRIPTION:In 2004\, the folks at Penny Arcade decided they wanted a show exclusively for gaming. Sure\, comics\, anime\, and other nerd hobbies were cool\, and those activities all had their own shows… so what about games? From that idea spawned a small 4\,500 person event in Bellevue\, Washington\, focused on the culture and community that is gaming.\n\nSince then\, the show hasn’t looked back. Doubling in size each year until venue capacities were reached\, in 2010 the show expanded into Boston for PAX East\, drawing tens of thousands of attendees in the inaugural year. The shows in Seattle and Boston represent the two largest gaming events in North America!
URL:https://events.stackedgame.com/events/pax-east-2025/
LOCATION:Boston Convention and Exhibition Center\, 415 Summer St\, Boston\, MA\, 02210\, United States
CATEGORIES:General Gaming
ATTACH;FMTTYPE=image/jpeg:https://cdn1.events.stackedgame.com/wp-content/uploads/sell/DanAvenger/temp/pax-east-a-complete-guidejpg.jpg
ORGANIZER;CN="ReedPop":MAILTO:info@reedpop.com
END:VEVENT
END:VCALENDAR