BEGIN:VCALENDAR
VERSION:2.0
PRODID:-//StackedGame.com - ECPv5.14.1//NONSGML v1.0//EN
CALSCALE:GREGORIAN
METHOD:PUBLISH
X-WR-CALNAME:StackedGame.com
X-ORIGINAL-URL:https://events.stackedgame.com
X-WR-CALDESC:Events for StackedGame.com
REFRESH-INTERVAL;VALUE=DURATION:PT1H
X-Robots-Tag:noindex
X-PUBLISHED-TTL:PT1H
BEGIN:VTIMEZONE
TZID:America/Los_Angeles
BEGIN:DAYLIGHT
TZOFFSETFROM:-0800
TZOFFSETTO:-0700
TZNAME:PDT
DTSTART:20250309T100000
END:DAYLIGHT
BEGIN:STANDARD
TZOFFSETFROM:-0700
TZOFFSETTO:-0800
TZNAME:PST
DTSTART:20251102T090000
END:STANDARD
TZID:Africa/Abidjan
BEGIN:STANDARD
TZOFFSETFROM:+0000
TZOFFSETTO:+0000
TZNAME:GMT
DTSTART:20250101T000000
END:STANDARD
TZID:America/Chicago
BEGIN:DAYLIGHT
TZOFFSETFROM:-0600
TZOFFSETTO:-0500
TZNAME:CDT
DTSTART:20250309T080000
END:DAYLIGHT
BEGIN:STANDARD
TZOFFSETFROM:-0500
TZOFFSETTO:-0600
TZNAME:CST
DTSTART:20251102T070000
END:STANDARD
TZID:Europe/Madrid
BEGIN:DAYLIGHT
TZOFFSETFROM:+0100
TZOFFSETTO:+0200
TZNAME:CEST
DTSTART:20250330T010000
END:DAYLIGHT
BEGIN:STANDARD
TZOFFSETFROM:+0200
TZOFFSETTO:+0100
TZNAME:CET
DTSTART:20251026T010000
END:STANDARD
END:VTIMEZONE
BEGIN:VEVENT
DTSTART;TZID=America/Los_Angeles:20250307T000000
DTEND;TZID=America/Los_Angeles:20250607T000000
DTSTAMP:20260422T183959
CREATED:20241104T163323Z
LAST-MODIFIED:20241104T163323Z
UID:38051-1741305600-1749254400@events.stackedgame.com
SUMMARY:Anime Expo 2025
DESCRIPTION:Anime expo chibi\, also known as “axc”\, is a smaller-scale spinoff convention that will afford fans an additional\, cozier opportunity to share their love of Japanese anime and pop culture \nThis event serves as a marketplace showcasing the exhibit hall and artist alley. Inspired by the adorable art style\, axc is a convention aimed at celebrating what truly makes Anime Expo so incredible – YOU!
URL:https://events.stackedgame.com/events/anime-expo-2025/
LOCATION:Los Angeles Convention Center\, 1201 South Figueroa St\, Los Angeles\, CA\, 90015\, United States
CATEGORIES:Anime & Manga
ATTACH;FMTTYPE=image/png:https://cdn1.events.stackedgame.com/wp-content/uploads/anime-expo-2025featured-imagepng.png
ORGANIZER;CN="Society%20for%20the%20Promotion%20of%20Japanese%20Animation":MAILTO:info@anime-expo.org
END:VEVENT
BEGIN:VEVENT
DTSTART;TZID=Africa/Abidjan:20250424T160000
DTEND;TZID=Africa/Abidjan:20250427T170000
DTSTAMP:20260422T183959
CREATED:20241104T162934Z
LAST-MODIFIED:20241104T162934Z
UID:38056-1745510400-1745773200@events.stackedgame.com
SUMMARY:Calgary Expo 2025
DESCRIPTION:Calgary Expo is a large-scale event that offers a playground for comics sci-fi horror anime and gaming fans with numerous celebrity guests and activities. \nIf you’re into comics\, sci-fi\, horror\, anime\, gaming\, or cosplay\, come share our playground. You’ll feel out of this world – and right at home.
URL:https://events.stackedgame.com/events/calgary-expo-2025/
LOCATION:Stampede Park\, 1410 Olympic Way SE\, Calgary\, Alberta\, T2G 2W1\, Canada
CATEGORIES:Anime & Manga
ATTACH;FMTTYPE=image/png:https://cdn1.events.stackedgame.com/wp-content/uploads/calgary-expo-2025featured-imagepng.png
ORGANIZER;CN="Informa%20Connect":MAILTO:events@informacanada.com
GEO:51.037;-114.052
X-APPLE-STRUCTURED-LOCATION;VALUE=URI;X-ADDRESS=Stampede Park 1410 Olympic Way SE Calgary Alberta T2G 2W1 Canada;X-APPLE-RADIUS=500;X-TITLE=1410 Olympic Way SE:geo:-114.052,51.037
END:VEVENT
BEGIN:VEVENT
DTSTART;TZID=America/Chicago:20250425T120000
DTEND;TZID=America/Chicago:20250427T140000
DTSTAMP:20260422T183959
CREATED:20241107T105601Z
LAST-MODIFIED:20241107T105601Z
UID:38115-1745582400-1745762400@events.stackedgame.com
SUMMARY:Anime St. Louis 2025
DESCRIPTION:Join thousands of your fellow fans at the St. Louis region’s largest anime and manga focused\, comic con style event!  For almost two decades\, fun industry guests\, a variety of exhibitors\, creative cosplays\, and interactive programming has filled our venue to the brim; and we’re looking forward to doing it again in April!  Plan ahead and pre-register in order to save on your admission\, and enjoy checking out all the details as we plan for another fun year.
URL:https://events.stackedgame.com/events/anime-st-louis-2025/
LOCATION:St. Charles Convention Center\, 1 Convention Center Plaza\, St. Charles\, MO\, 63303\, United States
CATEGORIES:Anime & Manga,Cosplay
ATTACH;FMTTYPE=image/png:https://cdn1.events.stackedgame.com/wp-content/uploads/anime-stlouis-2025featured-imagepng.png
ORGANIZER;CN="Anime%20St.%20Louis":MAILTO:info@animestl.net
GEO:38.768;-90.505
X-APPLE-STRUCTURED-LOCATION;VALUE=URI;X-ADDRESS=St. Charles Convention Center 1 Convention Center Plaza St. Charles MO 63303 United States;X-APPLE-RADIUS=500;X-TITLE=1 Convention Center Plaza:geo:-90.505,38.768
END:VEVENT
BEGIN:VEVENT
DTSTART;VALUE=DATE:20250426
DTEND;VALUE=DATE:20250428
DTSTAMP:20260422T183959
CREATED:20241015T035740Z
LAST-MODIFIED:20241028T163223Z
UID:38353-1745625600-1745798399@events.stackedgame.com
SUMMARY:FicZone 2025
DESCRIPTION:FicZone is the Granada International Film\, Comic and Games Festival. Find everything related to Manga\, Series\, Kpop\, Animation… Plus\, with your ticket you also have access to the Meeple Factory Board Games Festival
URL:https://events.stackedgame.com/events/ficzone-2025/
LOCATION:FERMASA (Feria de Muestras de Armilla)\, Carretera de Armilla s/n\, Granada\, Andalusia\, 18100\, Spain
CATEGORIES:Comicon,Sci-Fi & Fantasy
ATTACH;FMTTYPE=image/png:https://cdn1.events.stackedgame.com/wp-content/uploads/ficzone-2025featured-imagepng.png
GEO:37.1411;-3.6186
X-APPLE-STRUCTURED-LOCATION;VALUE=URI;X-ADDRESS=FERMASA (Feria de Muestras de Armilla) Carretera de Armilla s/n Granada Andalusia 18100 Spain;X-APPLE-RADIUS=500;X-TITLE=Carretera de Armilla s/n:geo:-3.6186,37.1411
END:VEVENT
BEGIN:VEVENT
DTSTART;VALUE=DATE:20250426
DTEND;VALUE=DATE:20250428
DTSTAMP:20260422T183959
CREATED:20241105T180604Z
LAST-MODIFIED:20241105T180604Z
UID:38069-1745625600-1745798399@events.stackedgame.com
SUMMARY:Anime Tyler 2025
DESCRIPTION:Anime Tyler\, the ultimate Anime and Pop-Culture event in Tyler\, Texas! Gather your family and friends for an unforgettable 2-day experience at the Holiday Inn Tyler Conference Center. \n\n\nCosplayers\, don’t miss the chance to capture breathtaking photos in the Rose Capital of Texas. We can’t wait to see you there!
URL:https://events.stackedgame.com/events/anime-tyler-2025/
LOCATION:Holiday Inn Tyler – Conference Center\, 5701 South Broadway Ave\, Tyler\, TX\, 75703\, United States
CATEGORIES:Anime & Manga
ATTACH;FMTTYPE=image/jpeg:https://cdn1.events.stackedgame.com/wp-content/uploads/anime-tyler-2025featured-imagejpg.jpg
ORGANIZER;CN="Anime%20Tyler":MAILTO:info@animetyler.com
GEO:32.2814;-95.3069
X-APPLE-STRUCTURED-LOCATION;VALUE=URI;X-ADDRESS=Holiday Inn Tyler – Conference Center 5701 South Broadway Ave Tyler TX 75703 United States;X-APPLE-RADIUS=500;X-TITLE=5701 South Broadway Ave:geo:-95.3069,32.2814
END:VEVENT
END:VCALENDAR