BEGIN:VCALENDAR
VERSION:2.0
PRODID:-//StackedGame.com - ECPv5.14.1//NONSGML v1.0//EN
CALSCALE:GREGORIAN
METHOD:PUBLISH
X-WR-CALNAME:StackedGame.com
X-ORIGINAL-URL:https://events.stackedgame.com
X-WR-CALDESC:Events for StackedGame.com
REFRESH-INTERVAL;VALUE=DURATION:PT1H
X-Robots-Tag:noindex
X-PUBLISHED-TTL:PT1H
BEGIN:VTIMEZONE
TZID:UTC
BEGIN:STANDARD
TZOFFSETFROM:+0000
TZOFFSETTO:+0000
TZNAME:UTC
DTSTART:20250101T000000
END:STANDARD
TZID:America/New_York
BEGIN:DAYLIGHT
TZOFFSETFROM:-0500
TZOFFSETTO:-0400
TZNAME:EDT
DTSTART:20250309T070000
END:DAYLIGHT
BEGIN:STANDARD
TZOFFSETFROM:-0400
TZOFFSETTO:-0500
TZNAME:EST
DTSTART:20251102T060000
END:STANDARD
END:VTIMEZONE
BEGIN:VEVENT
DTSTART;VALUE=DATE:20250829
DTEND;VALUE=DATE:20250902
DTSTAMP:20260421T141625
CREATED:20250613T181655Z
LAST-MODIFIED:20250613T181655Z
UID:39599-1756425600-1756771199@events.stackedgame.com
SUMMARY:PAX West 2025
DESCRIPTION:PAX West is one of North America’s largest gaming festivals\, celebrating all aspects of gaming culture. The event features a massive expo hall\, panels with industry leaders\, live concerts\, esports tournaments\, tabletop and video game freeplay\, cosplay contests\, indie game showcases\, and community meetups. It’s a hub for gamers\, developers\, and fans to connect\, play\, and discover the latest in games and gaming technology.
URL:https://events.stackedgame.com/events/pax-west-2025/
LOCATION:Seattle Convention Center\, 705 Pike St\, Seattle\, Washington\, 98101\, United States
CATEGORIES:Board Game,Cosplay,Esports,Game Art & Creatives
ATTACH;FMTTYPE=image/jpeg:https://cdn1.events.stackedgame.com/wp-content/uploads/sell/DanAvenger/temp/pax-westjpg-1.jpg
ORGANIZER;CN="ReedPop":MAILTO:info@reedpop.com
END:VEVENT
BEGIN:VEVENT
DTSTART;TZID=America/New_York:20250322T080000
DTEND;TZID=America/New_York:20250323T180000
DTSTAMP:20260421T141625
CREATED:20241111T170024Z
LAST-MODIFIED:20241111T170024Z
UID:38093-1742630400-1742752800@events.stackedgame.com
SUMMARY:Animarathon 2025
DESCRIPTION:Animarathon is an annual convention at Bowling Green State University celebrating anime with various activities.Welcome to Ohio’s Northwest Anime Club\, where we are a family-friendly student organization that focuses on making connections and watching anime to create a bigger anime community
URL:https://events.stackedgame.com/events/animarathon-2025/
LOCATION:Bowling Green State University Bowen-Thompson Student Union\, 1001 E Wooster St\, Bowling Green\, OH\, 43403\, United States
CATEGORIES:Anime & Manga
ATTACH;FMTTYPE=image/png:https://cdn1.events.stackedgame.com/wp-content/uploads/animarathon-2025featured-imagepng-1.png
ORGANIZER;CN="Bowling%20Green%20State%20University%20Anime%20Club":MAILTO:animarathon@bgsu.edu
GEO:41.373;-83.634
X-APPLE-STRUCTURED-LOCATION;VALUE=URI;X-ADDRESS=Bowling Green State University Bowen-Thompson Student Union 1001 E Wooster St Bowling Green OH 43403 United States;X-APPLE-RADIUS=500;X-TITLE=1001 E Wooster St:geo:-83.634,41.373
END:VEVENT
END:VCALENDAR