BEGIN:VCALENDAR
VERSION:2.0
PRODID:-//StackedGame.com - ECPv5.14.1//NONSGML v1.0//EN
CALSCALE:GREGORIAN
METHOD:PUBLISH
X-WR-CALNAME:StackedGame.com
X-ORIGINAL-URL:https://events.stackedgame.com
X-WR-CALDESC:Events for StackedGame.com
REFRESH-INTERVAL;VALUE=DURATION:PT1H
X-Robots-Tag:noindex
X-PUBLISHED-TTL:PT1H
BEGIN:VTIMEZONE
TZID:UTC
BEGIN:STANDARD
TZOFFSETFROM:+0000
TZOFFSETTO:+0000
TZNAME:UTC
DTSTART:20220101T000000
END:STANDARD
END:VTIMEZONE
BEGIN:VEVENT
DTSTART;VALUE=DATE:20240419
DTEND;VALUE=DATE:20240422
DTSTAMP:20260422T041122
CREATED:20240123T100157Z
LAST-MODIFIED:20250615T165137Z
UID:36845-1713484800-1713743999@events.stackedgame.com
SUMMARY:Gamebox Festival 2024
DESCRIPTION:Gamebox Festival brings together the entire esports and gaming industry – and creates unique experiences for the guests and partners at the festival. We collaborate with partners such as DIF\, Astralis\, HLTV\, DBU\, DGI and many other exciting companies and organisations. Gamebox Festival focuses on providing the full experience for visitors\, where they can experience great shows and formats on the main stage\, try a lot of fun and educational activities\, attend talks\, test your skills against family and friends. Of course\, there´s also a great LAN party! Gamebox Festival 2024 takes place in MCH Messecenter Herning on a 30\,000 m2 area 19-21 April 2024.
URL:https://events.stackedgame.com/events/gamebox-festival-2024/
LOCATION:MCH Messecenter Herning\, Vardevej 1\, Herning\, 7400\, Denmark
CATEGORIES:Esports,General Gaming
ATTACH;FMTTYPE=image/jpeg:https://cdn1.events.stackedgame.com/wp-content/uploads/sell/Jordan/E_36845/banner-gamebox-festival-2024jpg.jpg
END:VEVENT
BEGIN:VEVENT
DTSTART;TZID=UTC:20240328T080000
DTEND;TZID=UTC:20240401T170000
DTSTAMP:20260422T041122
CREATED:20240123T074627Z
LAST-MODIFIED:20240923T031422Z
UID:36836-1711612800-1711990800@events.stackedgame.com
SUMMARY:Insomnia Gaming Festival 2024
DESCRIPTION:From Insomnia: Love video games? Insomnia is the latest instalment of our long-running live gaming festival! Featuring an incredible roster of special guests plus LAN gaming areas\, Q&A sessions\, esports tournaments\, an exhibition hall and more\, Insomnia is a celebration of gaming culture perfect for fans of any age.
URL:https://events.stackedgame.com/events/insomnia-gaming-festival-2024/
LOCATION:NEC\, National Exhibition Centre\, North Avenue\, Marston Green\, Birmingham\, West Midlands\, B40 1NT\, United Kingdom
CATEGORIES:Esports,General Gaming
ATTACH;FMTTYPE=image/jpeg:https://cdn1.events.stackedgame.com/wp-content/uploads/sell/Jordan/E_36836/banner-insomnia-gaming-festival-2024jpg.jpg
END:VEVENT
BEGIN:VEVENT
DTSTART;VALUE=DATE:20240327
DTEND;VALUE=DATE:20240401
DTSTAMP:20260422T041122
CREATED:20240221T072329Z
LAST-MODIFIED:20240221T072329Z
UID:36927-1711497600-1711929599@events.stackedgame.com
SUMMARY:RLCS Major 1
DESCRIPTION:The Rocket League Championship Series (RLCS) Major 1 is heading to Copenhagen\, Denmark from March 28-31\, with the world’s best players set to compete at the K.B. Hallen Arena for the first trophy of 2024. \nThe 2024 Major 1 will be the first RLCS event to take place in Denmark with teams competing for $255\,000 in total prize pool winnings in front of a live audience from March 30-31. Teams will also be competing in Denmark to earn additional RLCS Points for a spot in the upcoming Rocket League World Championship this September.
URL:https://events.stackedgame.com/events/rlcs-major-1/
LOCATION:KB Hall\, Denmark
CATEGORIES:Esports
ATTACH;FMTTYPE=image/jpeg:https://cdn1.events.stackedgame.com/wp-content/uploads/sell/Jordan/E_36927/pizw5o8qacdkxpbmmbzkjpg.jpg
END:VEVENT
BEGIN:VEVENT
DTSTART;TZID=UTC:20240321T080000
DTEND;TZID=UTC:20240324T170000
DTSTAMP:20260422T041122
CREATED:20240217T064252Z
LAST-MODIFIED:20240217T064252Z
UID:36924-1711008000-1711299600@events.stackedgame.com
SUMMARY:CDL Major 2
DESCRIPTION:Call of Duty Major 2 If the Miami Heretics continue winning like they have during Major 1 qualifiers\, then the crowd should be hyped up as they host their first-ever Major. We’ll see who the contenders are after the results of Major 1.
URL:https://events.stackedgame.com/events/cdl-major-2/
CATEGORIES:Esports
ATTACH;FMTTYPE=image/jpeg:https://cdn1.events.stackedgame.com/wp-content/uploads/sell/Jordan/E_36924/cdl2021stage2majorjpg.jpg
END:VEVENT
BEGIN:VEVENT
DTSTART;VALUE=DATE:20240317
DTEND;VALUE=DATE:20240401
DTSTAMP:20260422T041122
CREATED:20240217T063851Z
LAST-MODIFIED:20240217T063851Z
UID:36921-1710633600-1711929599@events.stackedgame.com
SUMMARY:Copenhagen Major
DESCRIPTION:The first CS2 Major of the year will take place in Denmark. We’ll find out who the contenders will be after the results of IEM Katowice and the Blast spring season. Team Vitality are the reigning Major champions and have been one of the more dominant teams since CS2 released despite a revamped roster. Frenchmen Dan “apEX” Madesclaire and Mathieu “ZywOo” Herbaut and Israeli Lotan “Spinx” Giladi remain from that Major-winning roster and have been joined by Shahar “flameZ” Shushan and William “mezii” Merriman. Vitality figure to be one of the favorites at the Major as well as G2 and FaZe Clan.
URL:https://events.stackedgame.com/events/copenhagen-major/
CATEGORIES:Esports
ATTACH;FMTTYPE=image/jpeg:https://cdn1.events.stackedgame.com/wp-content/uploads/sell/Jordan/E_36921/0bb565fd-43e5-4073-87d9-b59e11905df8cs2landingpage1024x432jpg.jpg
END:VEVENT
BEGIN:VEVENT
DTSTART;VALUE=DATE:20240315
DTEND;VALUE=DATE:20240318
DTSTAMP:20260422T041122
CREATED:20240216T114640Z
LAST-MODIFIED:20240216T114640Z
UID:36918-1710460800-1710719999@events.stackedgame.com
SUMMARY:HCS Major 1
DESCRIPTION:The Halo Championship Series is the title’s flagship esports tournament series. The esports circuit consists of smaller events and online tournaments\, as well as larger LAN events with prize pools called Majors. The HCS feeds teams directly to the Halo World Championship. \n\n 
URL:https://events.stackedgame.com/events/hcs-major-1/
CATEGORIES:Esports
ATTACH;FMTTYPE=image/png:https://cdn1.events.stackedgame.com/wp-content/uploads/sell/Jordan/E_36918/hcs-hall-of-champions-min-largepng.png
END:VEVENT
BEGIN:VEVENT
DTSTART;VALUE=DATE:20240314
DTEND;VALUE=DATE:20240324
DTSTAMP:20260422T041122
CREATED:20240216T114302Z
LAST-MODIFIED:20240216T114302Z
UID:36915-1710374400-1711238399@events.stackedgame.com
SUMMARY:Masters Madrid
DESCRIPTION:The first VALORANT Champions Tour Masters event of the year will take place in March following competition in the Americas\, Europe\, Pacific and China regions the first couple months of the year. Last year\, Fnatic\, Evil Geniuses\, LOUD and Paper Rex were championship contenders. 
URL:https://events.stackedgame.com/events/masters-madrid/
CATEGORIES:Esports
ATTACH;FMTTYPE=image/jpeg:https://cdn1.events.stackedgame.com/wp-content/uploads/sell/Jordan/E_36915/vct24mastersmadridticketannouncementheaderjpg.jpg
END:VEVENT
BEGIN:VEVENT
DTSTART;VALUE=DATE:20240216
DTEND;VALUE=DATE:20240219
DTSTAMP:20260422T041122
CREATED:20240221T080200Z
LAST-MODIFIED:20240221T080200Z
UID:36944-1708041600-1708300799@events.stackedgame.com
SUMMARY:IEM Cologne
DESCRIPTION:Next to the Majors and IEM Katowice\, IEM Cologne — known affectionately as the Cathedral of Counter-Strike — is one of the marquee annual events on the CS calendar. G2 Esports are the defending Cologne champs.
URL:https://events.stackedgame.com/events/iem-cologne/
CATEGORIES:Esports
ATTACH;FMTTYPE=image/jpeg:https://cdn1.events.stackedgame.com/wp-content/uploads/sell/Jordan/E_36944/ept-cs2-iem-cologne-2024jpg.jpg
END:VEVENT
BEGIN:VEVENT
DTSTART;TZID=UTC:20240215T080000
DTEND;TZID=UTC:20240225T170000
DTSTAMP:20260422T041122
CREATED:20240127T101234Z
LAST-MODIFIED:20240127T101350Z
UID:36870-1707984000-1708880400@events.stackedgame.com
SUMMARY:VCT 2024: Pacific Kickoff
DESCRIPTION:In 2024\, the teams that have joined VCT-partnered teams for the International leagues and will join tier-1 teams are The Guard\, Gentle Mates\, and Bleed Esports. These teams will remain in the Valorant partnership for the next 2 years. \nVCT 2024 Format\nThe three stages of the VCT 2024 will be International+Global\, Tier-2/ Challengers\, and Tier-3/ Grassroots/ Premier. In every International League stage\, there will be a two-week tournament. The top 8 from this will advance to the Major or Global Tournaments like Masters Madrid or Masters Shanghai. Teams will qualify for Champions in a different way
URL:https://events.stackedgame.com/events/valorant-champions-tour-2024/
LOCATION:Seoul\, South Korea
CATEGORIES:Esports
ATTACH;FMTTYPE=image/jpeg:https://cdn1.events.stackedgame.com/wp-content/uploads/sell/Jordan/E_36870/maxresdefaultjpg.jpg
END:VEVENT
BEGIN:VEVENT
DTSTART;TZID=UTC:20240209T080000
DTEND;TZID=UTC:20240211T170000
DTSTAMP:20260422T041122
CREATED:20240127T095733Z
LAST-MODIFIED:20240127T095733Z
UID:36866-1707465600-1707670800@events.stackedgame.com
SUMMARY:IEM Katowice
DESCRIPTION:IEM Katowice is always the first big Counter-Strike tournament of the year and one of the most prestigious annual CS tournaments. With CS2 releasing in fall 2023\, this will be the first IEM Katowice in which teams will compete in CS2 rather than CS:GO. G2 Esports\, the defending Katowice champions\, headline the list of eight directly qualified teams. Recent CS2 champions FaZe Clan and Team Vitality are among the eight\, and Complexity Gaming will be the sole Americas representative among the directly qualified teams.
URL:https://events.stackedgame.com/events/iem-katowice/
LOCATION:Katowice\, Poland
CATEGORIES:Esports
ATTACH;FMTTYPE=image/jpeg:https://cdn1.events.stackedgame.com/wp-content/uploads/sell/Jordan/E_36866/d138beb54ecfa40fe0c2661ba62jpg.jpg
END:VEVENT
BEGIN:VEVENT
DTSTART;TZID=UTC:20240126T080000
DTEND;TZID=UTC:20240304T170000
DTSTAMP:20260422T041122
CREATED:20240127T102131Z
LAST-MODIFIED:20240127T102131Z
UID:36875-1706256000-1709571600@events.stackedgame.com
SUMMARY:RLCS 2024 Major 1 Qualifiers
DESCRIPTION:Qualifiers for Major 1 will take place from Jan. 26 to March 3 in every region with the exception of Europe where qualifiers will be one week behind. In Europe\, qualifiers begin Feb. 2 and continue through March 10. \nMajor 1 will take place March 28-31 at a location that is yet to be announced. \nAfter a two-week transfer window from April 1 to 14\, qualifiers for Major 2 will take place from April 19 through May 26. Major 2 will take place June 27-30 at a location yet to be announced. \nThe RLCS World Championship will take place Sept. 10-15 at a location yet to be announced.
URL:https://events.stackedgame.com/events/rlcs-2024-major-1-qualifiers/
CATEGORIES:Esports
ATTACH;FMTTYPE=image/jpeg:https://cdn1.events.stackedgame.com/wp-content/uploads/sell/Jordan/E_36875/bwv0ys1pbwfnzs1mb3itbwv0yultywdll3rvdxjuyw1lbnrzl3jsy3mtmjaync1tywpvci0xlw9jzs1vcgvulxf1ywxpzmllci0xlxjsjpg.jpg
END:VEVENT
BEGIN:VEVENT
DTSTART;VALUE=DATE:20230806
DTEND;VALUE=DATE:20230827
DTSTAMP:20260422T041122
CREATED:20221207T000234Z
LAST-MODIFIED:20240116T143212Z
UID:35737-1691280000-1693094399@events.stackedgame.com
SUMMARY:Valorant Champions Tour 2023
DESCRIPTION:One of the most anticipated events in the eSports community is the Valorant Champions Tour (VCT). Just recently\, Riot Games announced that a whole new VCT is coming up in 2023\, and fans and professional teams alike can welcome the coming year with high hopes. \nVCT 2023 will introduce more leagues\, global events\, and partnerships. For instance\, challenger events will take place side by side with other tournaments for players to level up and reach Ascension tournaments. To top it all off\, casual players can join in the competitive experience of VCT 2023 with an all-new competitive in-game experience. This bridges the gap between VCT and the in-game progress of every player\, regardless of their expertise or playstyle.
URL:https://events.stackedgame.com/events/valorant-champions-tour-2023/
LOCATION:Los Angeles\, Shrine Auditorium\, 665 W Jefferson Blvd\, Los Angeles\, California\, 90007\, United States
CATEGORIES:Esports
ATTACH;FMTTYPE=image/png:https://cdn1.events.stackedgame.com/wp-content/uploads/sell/Simon/E_35737/ezgifcom-gif-makerpng.png
END:VEVENT
BEGIN:VEVENT
DTSTART;VALUE=DATE:20221216
DTEND;VALUE=DATE:20221220
DTSTAMP:20260422T041122
CREATED:20221207T000228Z
LAST-MODIFIED:20240116T104046Z
UID:35733-1671148800-1671494399@events.stackedgame.com
SUMMARY:Hearthstone 2022 World Championship
DESCRIPTION:Watch the best teams around the globe take strategy to the next level at the Hearthstone World Championship! The Hearthstone 2022 World Championship will feature 16 players; four Grandmasters\, four Chinese Gold Series\, and eight Masters Tours winners go all out to win their share of the $500\,000 prize pool.  \nThe last four players standing will advance to single eliminations\, from which a sole victor will rise to claim the Hearthstone 2022 World Champion title.
URL:https://events.stackedgame.com/events/hearthstone-2022-world-championship/
LOCATION:Online Event\, Virtual Event - See Online Details
CATEGORIES:Esports
ATTACH;FMTTYPE=image/jpeg:https://cdn1.events.stackedgame.com/wp-content/uploads/sell/Simon/E_35733/fbgptrxeaehivcjpeg.jpeg
END:VEVENT
BEGIN:VEVENT
DTSTART;VALUE=DATE:20221201
DTEND;VALUE=DATE:20221213
DTSTAMP:20260422T041122
CREATED:20221201T232908Z
LAST-MODIFIED:20240116T103942Z
UID:35595-1669852800-1670889599@events.stackedgame.com
SUMMARY:IESF 14th World Esports Championship
DESCRIPTION:Since 2009\, the International Esports Federation has been hosting the World Esports Championship to promote eSports as a valid and true form of sport. This 2022\, the yearly championship will be launching its 14th edition with Indonesia as the host country. \nSeveral game tournaments will be featured at the 14th World Esports Championship\, including TEKKEN 7\, Dota 2\, CS:GO\, PUBG Mobile\, and eFootball. Winners get to earn their share of the $500\,000 prize pool.
URL:https://events.stackedgame.com/events/iesf-14th-world-esports-championship/
LOCATION:Indonesia
CATEGORIES:Esports
ATTACH;FMTTYPE=image/png:https://cdn1.events.stackedgame.com/wp-content/uploads/sell/Simon/E_35595/maxresdefaultresizedjpeg.png
END:VEVENT
BEGIN:VEVENT
DTSTART;TZID=UTC:20220823T080000
DTEND;TZID=UTC:20220828T170000
DTSTAMP:20260422T041122
CREATED:20220831T083440Z
LAST-MODIFIED:20240116T113427Z
UID:34870-1661241600-1661706000@events.stackedgame.com
SUMMARY:GAMESCON
DESCRIPTION:Like before. Only better.\n\nYou have waited. We are back!\nBetter than ever. Closer than ever. More exciting than ever. \nAnd we offer you the gaming festival you’ve been longing for. From August 23 to 28\, you can finally experience the world’s largest computer and video games event and Europe’s leading business platform for the games industry live and carefree again\, thanks in part to our tried-and-tested hygiene and security concept. And for all those who would rather be there online: Of course\, we will again offer an extensive digital program in 2022. \nWe look forward to seeing you in the Cologne exhibition halls.
URL:https://events.stackedgame.com/events/gamescon/
LOCATION:Cologne Exhibition Halls\, Messeplatz 1\, Cologne\, 50679\, Germany
CATEGORIES:Esports
ATTACH;FMTTYPE=image/jpeg:https://cdn1.events.stackedgame.com/wp-content/uploads/sell/Jordan/E_34870/ezgifcom-gif-maker2960x540jpg.jpg
END:VEVENT
END:VCALENDAR