BEGIN:VCALENDAR
VERSION:2.0
PRODID:-//StackedGame.com - ECPv5.14.1//NONSGML v1.0//EN
CALSCALE:GREGORIAN
METHOD:PUBLISH
X-WR-CALNAME:StackedGame.com
X-ORIGINAL-URL:https://events.stackedgame.com
X-WR-CALDESC:Events for StackedGame.com
REFRESH-INTERVAL;VALUE=DURATION:PT1H
X-Robots-Tag:noindex
X-PUBLISHED-TTL:PT1H
BEGIN:VTIMEZONE
TZID:UTC
BEGIN:STANDARD
TZOFFSETFROM:+0000
TZOFFSETTO:+0000
TZNAME:UTC
DTSTART:20250101T000000
END:STANDARD
END:VTIMEZONE
BEGIN:VEVENT
DTSTART;VALUE=DATE:20251205
DTEND;VALUE=DATE:20251208
DTSTAMP:20260422T093624
CREATED:20250815T052841Z
LAST-MODIFIED:20250815T052841Z
UID:40185-1764892800-1765151999@events.stackedgame.com
SUMMARY:GalaxyCon Columbus 2025
DESCRIPTION:Blast off into the geek stratosphere at GalaxyCon Columbus 2025\, a three-day extravaganza from December 5–7 at the Greater Columbus Convention Center! This festival of fandom unites every corner of pop culture—comics\, anime\, gaming\, cosplay\, sci-fi\, wrestling\, and more—in one inclusive\, bustling experience. \nChoose your level of access: \n\n	\n2‑Day Weekend Pass for deep-dive exploration ($110) \n\n	\n3‑Day Deluxe Pass for full access with some limitations ($155) \n\n	\nVIP 3‑Day Pass for early entry\, lounge access\, exclusive swag\, VIP parties\, and fast lanes for autographs/photos (~$350) \n\n\nWrestling fans\, don’t miss: \n\n	\nFriday: ROH Final Battle—an historic live event at the convention. \n\n	\nSaturday: AEW Collision live from the Battelle Grand—bringing the action directly into the fandom celebration. \n\n\nExpect panels with creators\, cosplay competitions\, indie gaming showcases\, celebrity guests\, fan meetups\, and more—all packed into one unforgettable mid-December weekend. \nGear up for fandom fusion—GalaxyCon Columbus 2025 is where the galaxy gathers.
URL:https://events.stackedgame.com/events/galaxycon-columbus-2025/
LOCATION:Hyatt Regency Columbus & Greater Columbus Convention Center\, 400 North High Street\, Columbus\, OH\, 43215\, United States
CATEGORIES:Comicon,General Gaming
ATTACH;FMTTYPE=image/jpeg:https://cdn1.events.stackedgame.com/wp-content/uploads/sell/EventsSimon/E_40185/galaxjpg-1755235722.jpg
ORGANIZER;CN="GalaxyCon%20LLC":MAILTO:info@galaxycon.com
END:VEVENT
BEGIN:VEVENT
DTSTART;VALUE=DATE:20251206
DTEND;VALUE=DATE:20251208
DTSTAMP:20260422T093624
CREATED:20250902T101022Z
LAST-MODIFIED:20250902T101022Z
UID:40345-1764979200-1765151999@events.stackedgame.com
SUMMARY:San Antonio Collect‑A‑Con 2025
DESCRIPTION:San Antonio Collect-A-Con 2025: The Ultimate Trading Card & Pop Culture Adventure!\nGet ready to dive into a collector’s paradise at San Antonio Collect-A-Con 2025\, hitting the Freeman Coliseum on December 6-7\, 2025! This isn’t just an event—it’s a high-energy celebration of trading cards\, pop culture\, and everything that makes collecting epic. Whether you’re a Pokémon master\, a comic book fanatic\, a Funko POP! enthusiast\, or just love the thrill of the hunt\, Collect-A-Con is your ticket to a weekend packed with excitement\, rare finds\, and unforgettable vibes in the heart of San Antonio. \nWhat’s the Buzz?\nPrepare for two days of non-stop action across a massive 10\,000+ square-foot playground filled with treasures and experiences! Here’s what’s waiting for you: \n🃏 Trading Card Extravaganza\nWith over 900 vendor tables\, Collect-A-Con is the nation’s largest trading card convention! Hunt for rare Pokémon\, Yu-Gi-Oh!\, Magic: The Gathering\, One Piece\, Lorcana\, and Metazoo cards. From vintage gems to the latest releases\, you’ll find everything to level up your collection. Score deals\, trade with fellow collectors\, and maybe even snag that holy grail card you’ve been chasing for years! \n🎮 Retro & Modern Gaming Galore\nStep into a gaming wonderland with booths packed with vintage video games and cutting-edge titles. Whether you’re nostalgic for classic NES cartridges or itching to try the latest consoles\, there’s something for every gamer. Test your skills\, discover rare finds\, and relive the golden age of gaming while connecting with others who share your passion. \n🦸‍♂️ Comics\, Funko POPs\, & Collectibles\nCalling all comic book nerds and pop culture aficionados! Dive into stacks of comic books ranging from Golden Age classics to modern masterpieces. Hunt for exclusive Funko POP! figures\, anime merch\, and one-of-a-kind collectibles that’ll make your shelf the envy of every fan. With vendors showcasing everything from rare action figures to vintage toys\, your collection is about to get a major upgrade. \n🌟 Celebrity Guests & Anime Voice Actors\nMeet the stars who bring your favorite characters to life! San Antonio Collect-A-Con is bringing celebrity guests and anime voice actors for autograph sessions\, Q&A panels\, and photo ops. Get up close with icons from your favorite shows\, movies\, and games\, and hear behind-the-scenes stories that’ll make you love them even more. Check the schedule for a star-studded lineup that’s sure to thrill! \n🎤 Live Performances & Interactive Fun\nFeel the energy with live performances that light up the convention floor! From musical acts to live card breaks\, the atmosphere is electric. Explore interactive zones with workshops\, demonstrations\, and surprises around every corner. Whether you’re a seasoned collector or a curious newbie\, there’s always something new to discover. \n🛒 Vendor Heaven & Exclusive Swag\nWith hundreds of exhibitors\, you’ll find a treasure trove of unique items and convention exclusives. From sports cards to anime merch\, every booth is a chance to uncover something special. Plus\, score limited-edition Collect-A-Con goodies that you won’t find anywhere else—perfect for bragging rights or gifting to your fellow collectors. \nWhy You Can’t Miss Collect-A-Con 2025\nSan Antonio Collect-A-Con is more than a convention—it’s a vibrant community where collectors\, gamers\, and pop culture fans come together to celebrate what they love. With over 10\,000 attendees\, a buzzing vendor floor\, and an unbeatable atmosphere\, this is your chance to immerse yourself in the ultimate collecting experience. Whether you’re buying\, selling\, trading\, or just soaking in the vibes\, Collect-A-Con delivers memories that’ll last a lifetime. \n📅 When: December 6-7\, 2025\n📍 Where: Freeman Coliseum\, 3201 E Houston St\, San Antonio\, TX\n🕒 Hours: Saturday 10 AM–6 PM\, Sunday 10 AM–5 PM\n🎫 Tickets: Grab your passes early to join the nation’s biggest trading card and pop culture party! \nRound up your crew\, pack your trade binder\, and get ready for a weekend of epic finds and epic fights (the friendly\, card-battling kind)! San Antonio Collect-A-Con 2025 is calling—will you answer the challenge?
URL:https://events.stackedgame.com/events/san-antonio-collect%e2%80%91a%e2%80%91con-2025/
LOCATION:Freeman Coliseum Expo Hall\, 3201 E Houston St.\, San Antonio\, TX\, 78219\, United States
CATEGORIES:Anime & Manga,Comicon,Game Merchandise,Trading Cards
ATTACH;FMTTYPE=image/png:https://cdn1.events.stackedgame.com/wp-content/uploads/sell/DanEvents/E_40345/sanantoniocollectacon2025png-1756807823.png
END:VEVENT
BEGIN:VEVENT
DTSTART;TZID=UTC:20251206T070000
DTEND;TZID=UTC:20251207T200000
DTSTAMP:20260422T093624
CREATED:20250820T045053Z
LAST-MODIFIED:20250820T045053Z
UID:40260-1765004400-1765137600@events.stackedgame.com
SUMMARY:Anime Ultra 2025
DESCRIPTION:Get your fandom fix at Anime Ultra 2025\, rolling into Rolling Oaks Mall on December 6–7! This free-admission event welcomes anime lovers with open arms—in a casual\, indoor setting that blends community energy with creative showcases. \nStroll in for: \nCosplay gatherings and relaxed fan interactions \nArtist and vendor stalls with indie creators and collectibles \nPanels and workshops without the hassle of ticket lines \nFlexible attendance—drop in while holiday shopping or camp out for full participation \nMark your planner: Anime Ultra 2025 is your accessible\, no-fuss anime experience this winter. Whether you’re running errands or dressing up\, the doors are open—just walk in\, celebrate\, and enjoy the fandom!
URL:https://events.stackedgame.com/events/anime-ultra-2025/
LOCATION:Rolling Oaks Mall\, Rolling Oaks Mall\, San Antonio\, TX\, TX\, United States
CATEGORIES:Anime & Manga,Comicon
ATTACH;FMTTYPE=image/png:https://cdn1.events.stackedgame.com/wp-content/uploads/sell/EventsSimon/E_40260/animeultrapng-1755665454.png
END:VEVENT
END:VCALENDAR