BEGIN:VCALENDAR
VERSION:2.0
PRODID:-//StackedGame.com - ECPv5.14.1//NONSGML v1.0//EN
CALSCALE:GREGORIAN
METHOD:PUBLISH
X-WR-CALNAME:StackedGame.com
X-ORIGINAL-URL:https://events.stackedgame.com
X-WR-CALDESC:Events for StackedGame.com
REFRESH-INTERVAL;VALUE=DURATION:PT1H
X-Robots-Tag:noindex
X-PUBLISHED-TTL:PT1H
BEGIN:VTIMEZONE
TZID:UTC
BEGIN:STANDARD
TZOFFSETFROM:+0000
TZOFFSETTO:+0000
TZNAME:UTC
DTSTART:20260101T000000
END:STANDARD
END:VTIMEZONE
BEGIN:VEVENT
DTSTART;TZID=UTC:20260220T080000
DTEND;TZID=UTC:20260220T170000
DTSTAMP:20260422T020945
CREATED:20260220T051330Z
LAST-MODIFIED:20260220T051330Z
UID:40446-1771574400-1771606800@events.stackedgame.com
SUMMARY:Fan Expo Chicago 2026
DESCRIPTION:Fan Expo Chicago 2026 takes over Rosemont for four packed days of pop culture overload. The Donald E. Stephens Convention Center transforms into a high-energy hub of celebrity guests\, comic creators\, anime voice actors\, gaming tournaments\, and next-level cosplay. \nSaturday brings the biggest crowds and the most stacked programming\, while Thursday’s preview night gives early access to the show floor before it fully explodes. Expect long autograph lines\, high-production panels\, massive cosplay presence\, and a vendor hall that runs deep with exclusives and collectibles. \nIf you’re chasing celebrity photo ops\, rare comics\, anime guests\, or just want to be in the middle of Midwest fandom energy at full throttle\, Fan Expo Chicago 2026 is one of the major stops of the year.
URL:https://events.stackedgame.com/events/fan-expo-chicago-2026/
LOCATION:Donald E. Stephens Convention Center\, 5555 N River Rd\, Rosemont\, Illinois\, 60018\, United States
CATEGORIES:Anime & Manga,Comicon,Cosplay,General Gaming
ATTACH;FMTTYPE=image/jpeg:https://cdn1.events.stackedgame.com/wp-content/uploads/sell/EventsSimon/E_40446/fanexpojpg-1771564411.jpg
ORGANIZER;CN="Informa%20Connect":MAILTO:events@informacanada.com
END:VEVENT
BEGIN:VEVENT
DTSTART;TZID=UTC:20260703T100000
DTEND;TZID=UTC:20260705T220000
DTSTAMP:20260422T020945
CREATED:20250816T025704Z
LAST-MODIFIED:20250816T025704Z
UID:40193-1783072800-1783288800@events.stackedgame.com
SUMMARY:Montreal Comiccon 2026
DESCRIPTION:Get ready to dive into Montreal Comiccon 2026\, the city’s ultimate three-day fan fiesta taking place over July 3–5 at the iconic Palais des congrès de Montréal! \n\n	Meet\, greet\, and geek out with creators\, comic artists\, voice actors\, and celebrities across multiple fandoms.\n	Level up your cosplay game with dazzling masquerade competitions\, costume panels\, and jaw-dropping lineup of talent.\n	Explore enthusiast hall heaven—from pop culture collectibles and indie gems in the Vendor and Artist Alley to interactive gaming zones and film screenings.\n	Learn from the masters with inspiring panels\, creator workshops\, and workshops across anime\, comics\, gaming\, and sci-fi.\n	Be part of an epic tradition—join the 60\,000+ fans expected to gather for this immersive and inclusive celebration of all things nerd—which keeps getting bolder each year!\n\nStay tuned for ticket release announcements—they’ll likely mirror the tiered structure of past years so you can plan for single-day or full-weekend immersion.
URL:https://events.stackedgame.com/events/montreal-comiccon-2026/
LOCATION:1001\, Place Jean‑Paul‑Riopelle\, Montréal\, Montréal\, Québec\, Canada
CATEGORIES:Comicon,Cosplay
ATTACH;FMTTYPE=image/jpeg:https://cdn1.events.stackedgame.com/wp-content/uploads/sell/EventsSimon/E_40193/comiconjpg-1755313026.jpg
ORGANIZER;CN="Capeflow%20Productions%20Inc.":MAILTO:info@capeflowproductions.com
END:VEVENT
BEGIN:VEVENT
DTSTART;VALUE=DATE:20260801
DTEND;VALUE=DATE:20260803
DTSTAMP:20260422T020945
CREATED:20260219T022554Z
LAST-MODIFIED:20260219T022554Z
UID:40415-1785542400-1785715199@events.stackedgame.com
SUMMARY:MiAnime 2026
DESCRIPTION:MiAnime 2026 returns to Miami Beach for a summer anime weekend that blends fandom with coastal energy. For two packed days\, the Miami Beach Convention Center transforms into a hub of cosplay showcases\, gaming tournaments\, voice actor appearances\, and artist-driven creativity. \nBrowse a massive exhibitor hall stacked with collectibles and exclusives\, explore indie art in Artist Alley\, jump into competitive or casual gaming sessions\, and attend panels featuring creators and performers from across anime and gaming culture. Cosplayers take center stage with structured contests and themed meetups\, while VIP attendees enjoy early access and premium perks. \nWhether you’re coming to compete\, collect\, create\, or connect\, MiAnime 2026 delivers a full-scale convention experience in one of the most vibrant cities in the U.S.
URL:https://events.stackedgame.com/events/mianime-2026/
LOCATION:Miami Beach Convention Center\, Miami Beach Convention Center\, Miami\, FL\, United States
CATEGORIES:Anime & Manga,Comicon,Cosplay
ATTACH;FMTTYPE=image/jpeg:https://cdn1.events.stackedgame.com/wp-content/uploads/sell/EventsSimon/E_40415/mianimejpg-1771467956.jpg
ORGANIZER;CN="ReedPop":MAILTO:info@reedpop.com
END:VEVENT
BEGIN:VEVENT
DTSTART;TZID=UTC:20260801T080000
DTEND;TZID=UTC:20260801T170000
DTSTAMP:20260422T020945
CREATED:20260219T022946Z
LAST-MODIFIED:20260219T023056Z
UID:40420-1785571200-1785603600@events.stackedgame.com
SUMMARY:Starcon 2026
DESCRIPTION:StarCon 2026 is shaping up to be a full-scale celebration of fandom culture. Whether you’re deep into sci-fi lore\, fantasy worlds\, comic book universes\, or gaming communities\, this event is built as a shared space for fans to connect and showcase their passion. \nExpect packed panel rooms\, high-energy cosplay competitions\, artist alley discoveries\, and a vendor floor loaded with collectibles and exclusives. Gaming areas often feature both casual and competitive setups\, while featured guests bring insight from across film\, television\, literature\, and gaming. \nAs more details are announced\, StarCon 2026 is likely to continue its tradition of delivering a community-driven convention experience focused on creativity\, fandom\, and immersive pop culture energy.\n\nDate:TBA
URL:https://events.stackedgame.com/events/starcon-2026/
LOCATION:TBA
CATEGORIES:Comicon,General Gaming
ORGANIZER;CN="StarCon%20Events%20Team":MAILTO:https://shootthemoongames.com/starcon
END:VEVENT
BEGIN:VEVENT
DTSTART;VALUE=DATE:20260807
DTEND;VALUE=DATE:20260810
DTSTAMP:20260422T020945
CREATED:20260219T024214Z
LAST-MODIFIED:20260219T024214Z
UID:40430-1786060800-1786319999@events.stackedgame.com
SUMMARY:Manga Marvel and Morsels 2026
DESCRIPTION:Manga Marvel and Morsels 2026 is where fandom meets flavor. Picture a convention floor filled with vibrant cosplay\, manga art displays\, gaming setups — and the aroma of themed street food inspired by your favorite series. \nFrom ramen bowls straight out of a shonen adventure to desserts styled after magical girl aesthetics\, the event brings culinary creativity into the anime convention space. Panels and workshops explore the connection between pop culture and cuisine\, while vendors showcase exclusive merch and handmade art. \nWhether you’re coming for the cosplay\, the collectibles\, or the curated fandom-inspired food experience\, Manga Marvel and Morsels 2026 delivers a convention concept that feels fresh\, social\, and community-driven.
URL:https://events.stackedgame.com/events/manga-marvel-and-morsels-2026/
LOCATION:Travis County Exposition Center\, 7311 Decker Ln\, Austin\, TX\, United States
CATEGORIES:Anime & Manga,Comicon
ATTACH;FMTTYPE=image/jpeg:https://cdn1.events.stackedgame.com/wp-content/uploads/sell/EventsSimon/E_40430/maxresdefaultjpg-1771468936.jpg
END:VEVENT
BEGIN:VEVENT
DTSTART;TZID=UTC:20260815T100000
DTEND;TZID=UTC:20260816T180000
DTSTAMP:20260422T020945
CREATED:20260220T052411Z
LAST-MODIFIED:20260220T052411Z
UID:40460-1786788000-1786903200@events.stackedgame.com
SUMMARY:Collect-A-Con San Antonio 2026
DESCRIPTION:Collect-A-Con San Antonio 2026 turns the Henry B. Gonzalez Convention Center into a full-scale collector playground. Long vendor rows stacked with Pokémon slabs\, sports cards\, sealed product\, graded comics\, and anime merch create a constant buzz of buying\, trading\, and negotiating. \nVIP early entry lets serious collectors hunt deals before the floor fully opens\, while general admission crowds bring the energy mid-morning. Expect live card breaks\, grading company booths\, voice actor appearances\, cosplay roaming the aisles\, and nonstop trade conversations. \nIf you’re deep into TCG investing\, nostalgic Pokémon collecting\, or just love the atmosphere of a high-volume card show\, this is one of the biggest Texas stops of the year.
URL:https://events.stackedgame.com/events/collect-a-con-san-antonio-2026/
LOCATION:Freeman Coliseum Expo Hall\, 3201 E Houston St.\, San Antonio\, TX\, 78219\, United States
CATEGORIES:Anime & Manga,Board Game,Comicon
ATTACH;FMTTYPE=image/jpeg:https://cdn1.events.stackedgame.com/wp-content/uploads/sell/EventsSimon/E_40460/collectaconjpg-1771565052.jpg
END:VEVENT
BEGIN:VEVENT
DTSTART;VALUE=DATE:20260905
DTEND;VALUE=DATE:20260907
DTSTAMP:20260422T020945
CREATED:20260226T013305Z
LAST-MODIFIED:20260226T013305Z
UID:40509-1788566400-1788739199@events.stackedgame.com
SUMMARY:Montana Celebrity Comic Con 2026
DESCRIPTION:Montana Celebrity Comic Con 2026 brings major pop culture guests to Helena for a three-day fandom weekend. Friday opens with a preview night that lets attendees ease into the event before Saturday’s peak crowds hit. \nExpect celebrity panels\, autograph and photo-op lines\, cosplay contests\, vendor aisles filled with comics and collectibles\, and strong regional fan turnout. The fairgrounds layout provides plenty of room for programming stages\, gaming areas\, and exhibitor space without feeling overcrowded. \n 
URL:https://events.stackedgame.com/events/montana-celebrity-comic-con-2026/
LOCATION:Gallatin County Fairgrounds\, Gallatin County Fairgrounds\, MT\, United States
CATEGORIES:Anime & Manga,Comicon
ATTACH;FMTTYPE=image/jpeg:https://cdn1.events.stackedgame.com/wp-content/uploads/sell/EventsSimon/E_40509/asdfkojmjpg-1772069586.jpg
END:VEVENT
BEGIN:VEVENT
DTSTART;TZID=UTC:20260905T100000
DTEND;TZID=UTC:20260906T180000
DTSTAMP:20260422T020945
CREATED:20260226T012808Z
LAST-MODIFIED:20260226T012808Z
UID:40504-1788602400-1788717600@events.stackedgame.com
SUMMARY:Anime San Diego 2026 Information
DESCRIPTION:Anime San Diego 2026 brings SoCal fandom energy to the Town and Country Resort for a three-day anime-focused weekend. The hotel layout allows panels\, concerts\, cosplay gatherings\, and gaming rooms to flow naturally across the venue\, giving it a strong social vibe compared to larger expo-center conventions. \nFriday opens with badge pickup and early programming\, Saturday delivers peak attendance and packed panel rooms\, and Sunday wraps with final cosplay showcases and closing ceremonies. Expect artist alley discoveries\, vendor exclusives\, and strong community engagement throughout the weekend. \nIf you’re in Southern California and want a mid-sized anime convention with solid programming and late-night energy\, November 20–22\, 2026 is locked in.
URL:https://events.stackedgame.com/events/anime-san-diego-2026-information/
LOCATION:San Diego Convention Center\, 111 W Harbor Dr\, San Diego\, CA\, 92101\, United States
CATEGORIES:Anime & Manga,Comicon,Cosplay
ATTACH;FMTTYPE=image/jpeg:https://cdn1.events.stackedgame.com/wp-content/uploads/sell/EventsSimon/E_40504/sanimejpg-1772069290.jpg
END:VEVENT
BEGIN:VEVENT
DTSTART;TZID=UTC:20260911T100000
DTEND;TZID=UTC:20260913T170000
DTSTAMP:20260422T020945
CREATED:20260305T015331Z
LAST-MODIFIED:20260305T015331Z
UID:40523-1789120800-1789318800@events.stackedgame.com
SUMMARY:Rose City Comic Con 2026
DESCRIPTION:Rose City Comic Con 2026 returns to Portland for three days of comics\, cosplay\, and pop culture celebration. The Oregon Convention Center fills with artists\, creators\, and fans exploring one of the most respected artist alleys in North America alongside celebrity panels and major fandom programming. \nFriday kicks off the weekend with afternoon access\, Saturday brings the largest crowds and the full slate of events\, and Sunday closes with final signings and last-minute collectible hunts. Cosplay is a major highlight\, with showcases and contests drawing some of the Pacific Northwest’s most creative costumers. \nIf you’re looking for one of the biggest and most creator-focused comic conventions in the western United States\, September 11–13\, 2026 in Portland is a key stop on the convention calendar.
URL:https://events.stackedgame.com/events/rose-city-comic-con-2026/
LOCATION:Oregon Convention Center\, 777 NE Martin Luther King Jr Blvd\, Portland\, Oregon\, 97232\, United States
CATEGORIES:Comicon,Cosplay,General Gaming
ATTACH;FMTTYPE=image/jpeg:https://cdn1.events.stackedgame.com/wp-content/uploads/sell/EventsSimon/E_40523/bafkreih4fdwp3ecew7tuo2kw3v43l67qs3fzex3ulxlz7hjocfadxqnttajpg-1772675612.jpg
ORGANIZER;CN="LeftField%20Media":MAILTO:info@leftfieldmedia.com
END:VEVENT
BEGIN:VEVENT
DTSTART;TZID=UTC:20260912T100000
DTEND;TZID=UTC:20260913T180000
DTSTAMP:20260422T020945
CREATED:20260306T031219Z
LAST-MODIFIED:20260306T031219Z
UID:40528-1789207200-1789322400@events.stackedgame.com
SUMMARY:Collect-A-Con San Francisco 2026
DESCRIPTION:Collect-A-Con San Francisco 2026 brings the massive trading card convention to the Moscone Center for a full collector-focused weekend. Long aisles of vendors display everything from graded Pokémon slabs and sealed product to sports cards\, anime collectibles\, and rare gaming merchandise. \nVIP entry gives serious collectors first access to inventory before the main crowd arrives at 10 AM. Throughout the weekend\, expect live card breaks\, grading submissions\, trading circles\, cosplay appearances\, and nonstop buying and selling. \nIf you’re deep into Pokémon collecting or the modern TCG market\, August 29–30\, 2026 in San Francisco is a major West Coast collector event.
URL:https://events.stackedgame.com/events/collect-a-con-san-francisco-2026/
LOCATION:San Mateo County Event Center\, 1346 Saratoga Dr\, San Mateo\, California\, 94403\, United States
CATEGORIES:Comicon,Cosplay,Game Art & Creatives,Game Merchandise
ATTACH;FMTTYPE=image/jpeg:https://cdn1.events.stackedgame.com/wp-content/uploads/sell/EventsSimon/E_40528/collectaconjpg-1772766740.jpg
END:VEVENT
BEGIN:VEVENT
DTSTART;TZID=UTC:20260926T100000
DTEND;TZID=UTC:20260926T190000
DTSTAMP:20260422T020945
CREATED:20260308T035115Z
LAST-MODIFIED:20260308T035115Z
UID:40543-1790416800-1790449200@events.stackedgame.com
SUMMARY:Montreal Anime-Fest 2026
DESCRIPTION:Montreal Anime-Fest 2026 brings anime fandom to downtown Montréal with a packed two-day convention at the Palais des congrès. The venue fills with cosplay\, fan meetups\, artist alley booths\, gaming stations\, and anime merchandise vendors. \nSaturday typically hosts the largest crowds and the main cosplay contest\, while Sunday offers a more relaxed day to explore vendor booths\, attend panels\, and connect with other fans. The convention’s bilingual environment also makes it accessible to both English and French-speaking attendees. \nIf you’re looking for a lively anime convention in Quebec with strong cosplay presence and fan-driven programming\, November 21–22\, 2026 in Montréal is a solid weekend on the Canadian convention calendar.
URL:https://events.stackedgame.com/events/montreal-anime-fest-2026/
LOCATION:Radisson Hotel Montreal Airport
CATEGORIES:Anime & Manga,Comicon,Cosplay,General Gaming
ATTACH;FMTTYPE=image/jpeg:https://cdn1.events.stackedgame.com/wp-content/uploads/sell/EventsSimon/E_40543/montrealanimefestjpg-1772941876.jpg
END:VEVENT
END:VCALENDAR