BEGIN:VCALENDAR
VERSION:2.0
PRODID:-//StackedGame.com - ECPv5.14.1//NONSGML v1.0//EN
CALSCALE:GREGORIAN
METHOD:PUBLISH
X-WR-CALNAME:StackedGame.com
X-ORIGINAL-URL:https://events.stackedgame.com
X-WR-CALDESC:Events for StackedGame.com
REFRESH-INTERVAL;VALUE=DURATION:PT1H
X-Robots-Tag:noindex
X-PUBLISHED-TTL:PT1H
BEGIN:VTIMEZONE
TZID:UTC
BEGIN:STANDARD
TZOFFSETFROM:+0000
TZOFFSETTO:+0000
TZNAME:UTC
DTSTART:20250101T000000
END:STANDARD
END:VTIMEZONE
BEGIN:VEVENT
DTSTART;VALUE=DATE:20251205
DTEND;VALUE=DATE:20251208
DTSTAMP:20260422T093733
CREATED:20250815T052841Z
LAST-MODIFIED:20250815T052841Z
UID:40185-1764892800-1765151999@events.stackedgame.com
SUMMARY:GalaxyCon Columbus 2025
DESCRIPTION:Blast off into the geek stratosphere at GalaxyCon Columbus 2025\, a three-day extravaganza from December 5–7 at the Greater Columbus Convention Center! This festival of fandom unites every corner of pop culture—comics\, anime\, gaming\, cosplay\, sci-fi\, wrestling\, and more—in one inclusive\, bustling experience. \nChoose your level of access: \n\n	\n2‑Day Weekend Pass for deep-dive exploration ($110) \n\n	\n3‑Day Deluxe Pass for full access with some limitations ($155) \n\n	\nVIP 3‑Day Pass for early entry\, lounge access\, exclusive swag\, VIP parties\, and fast lanes for autographs/photos (~$350) \n\n\nWrestling fans\, don’t miss: \n\n	\nFriday: ROH Final Battle—an historic live event at the convention. \n\n	\nSaturday: AEW Collision live from the Battelle Grand—bringing the action directly into the fandom celebration. \n\n\nExpect panels with creators\, cosplay competitions\, indie gaming showcases\, celebrity guests\, fan meetups\, and more—all packed into one unforgettable mid-December weekend. \nGear up for fandom fusion—GalaxyCon Columbus 2025 is where the galaxy gathers.
URL:https://events.stackedgame.com/events/galaxycon-columbus-2025/
LOCATION:Hyatt Regency Columbus & Greater Columbus Convention Center\, 400 North High Street\, Columbus\, OH\, 43215\, United States
CATEGORIES:Comicon,General Gaming
ATTACH;FMTTYPE=image/jpeg:https://cdn1.events.stackedgame.com/wp-content/uploads/sell/EventsSimon/E_40185/galaxjpg-1755235722.jpg
ORGANIZER;CN="GalaxyCon%20LLC":MAILTO:info@galaxycon.com
END:VEVENT
END:VCALENDAR