BEGIN:VCALENDAR
VERSION:2.0
PRODID:-//StackedGame.com - ECPv5.14.1//NONSGML v1.0//EN
CALSCALE:GREGORIAN
METHOD:PUBLISH
X-WR-CALNAME:StackedGame.com
X-ORIGINAL-URL:https://events.stackedgame.com
X-WR-CALDESC:Events for StackedGame.com
REFRESH-INTERVAL;VALUE=DURATION:PT1H
X-Robots-Tag:noindex
X-PUBLISHED-TTL:PT1H
BEGIN:VTIMEZONE
TZID:UTC
BEGIN:STANDARD
TZOFFSETFROM:+0000
TZOFFSETTO:+0000
TZNAME:UTC
DTSTART:20260101T000000
END:STANDARD
END:VTIMEZONE
BEGIN:VEVENT
DTSTART;VALUE=DATE:20260828
DTEND;VALUE=DATE:20260831
DTSTAMP:20260421T173235
CREATED:20260224T040314Z
LAST-MODIFIED:20260224T040314Z
UID:40486-1787875200-1788134399@events.stackedgame.com
SUMMARY:Ōzokucon 2026
DESCRIPTION:Ōzokucon 2026 brings anime fandom to the Kent coast with a vibrant\, community-focused weekend in Folkestone. The harbour-side setting gives the event a unique atmosphere compared to traditional hotel or convention center venues. \nExpect cosplay showcases\, local artist displays\, themed vendors\, gaming setups\, and fan-led panels throughout both days. The scale makes it approachable while still delivering structured contests and stage programming. \nIf you’re looking for a UK anime convention that feels creative\, coastal\, and community-first\, May 23–24\, 2026 in Folkestone is the locked-in weekend.
URL:https://events.stackedgame.com/events/ozokucon-2026/
LOCATION:Blue Water Convention Center\, Port Huron\, MI\, MI\, United States
CATEGORIES:Anime & Manga,Cosplay,General Gaming
ATTACH;FMTTYPE=image/jpeg:https://cdn1.events.stackedgame.com/wp-content/uploads/sell/EventsSimon/E_40486/bafkreigufsk3ta3yhfdbyqkej5dikoqzp77df5hpkmzhv7orclpxacxuyyjpg-1771905796.jpg
END:VEVENT
BEGIN:VEVENT
DTSTART;TZID=UTC:20260829T100000
DTEND;TZID=UTC:20260830T180000
DTSTAMP:20260421T173235
CREATED:20260224T041014Z
LAST-MODIFIED:20260224T041014Z
UID:40497-1787997600-1788112800@events.stackedgame.com
SUMMARY:Collect-A-Con Richmond 2026
DESCRIPTION:Collect-A-Con Richmond 2026 transforms the Greater Richmond Convention Center into a high-volume collector marketplace. Expect long aisles of Pokémon slabs\, sealed product\, sports cards\, graded comics\, anime merch\, and nonstop trade negotiations happening in every corner. \nVIP early entry gives serious collectors first access to inventory before the general admission crowd hits at 10 AM. Throughout the weekend\, you’ll see live breaks\, grading submissions\, cosplay roaming the floor\, and constant buy-sell-trade energy. \nIf you’re deep into TCG culture or serious about card investing\, March 21–22\, 2026 in Richmond is a locked-in collector weekend.
URL:https://events.stackedgame.com/events/collect-a-con-richmond-2026/
LOCATION:Greater Richmond Convention Center\, 403 N Third St\, Richmond\, VA\, 23219\, United States
CATEGORIES:Anime & Manga,Board Game,Trading Cards
ATTACH;FMTTYPE=image/jpeg:https://cdn1.events.stackedgame.com/wp-content/uploads/sell/EventsSimon/E_40497/collectaconjpg-1771906214.jpg
END:VEVENT
BEGIN:VEVENT
DTSTART;VALUE=DATE:20260905
DTEND;VALUE=DATE:20260907
DTSTAMP:20260421T173235
CREATED:20260226T013305Z
LAST-MODIFIED:20260226T013305Z
UID:40509-1788566400-1788739199@events.stackedgame.com
SUMMARY:Montana Celebrity Comic Con 2026
DESCRIPTION:Montana Celebrity Comic Con 2026 brings major pop culture guests to Helena for a three-day fandom weekend. Friday opens with a preview night that lets attendees ease into the event before Saturday’s peak crowds hit. \nExpect celebrity panels\, autograph and photo-op lines\, cosplay contests\, vendor aisles filled with comics and collectibles\, and strong regional fan turnout. The fairgrounds layout provides plenty of room for programming stages\, gaming areas\, and exhibitor space without feeling overcrowded. \n 
URL:https://events.stackedgame.com/events/montana-celebrity-comic-con-2026/
LOCATION:Gallatin County Fairgrounds\, Gallatin County Fairgrounds\, MT\, United States
CATEGORIES:Anime & Manga,Comicon
ATTACH;FMTTYPE=image/jpeg:https://cdn1.events.stackedgame.com/wp-content/uploads/sell/EventsSimon/E_40509/asdfkojmjpg-1772069586.jpg
END:VEVENT
BEGIN:VEVENT
DTSTART;TZID=UTC:20260905T100000
DTEND;TZID=UTC:20260906T180000
DTSTAMP:20260421T173235
CREATED:20260226T012808Z
LAST-MODIFIED:20260226T012808Z
UID:40504-1788602400-1788717600@events.stackedgame.com
SUMMARY:Anime San Diego 2026 Information
DESCRIPTION:Anime San Diego 2026 brings SoCal fandom energy to the Town and Country Resort for a three-day anime-focused weekend. The hotel layout allows panels\, concerts\, cosplay gatherings\, and gaming rooms to flow naturally across the venue\, giving it a strong social vibe compared to larger expo-center conventions. \nFriday opens with badge pickup and early programming\, Saturday delivers peak attendance and packed panel rooms\, and Sunday wraps with final cosplay showcases and closing ceremonies. Expect artist alley discoveries\, vendor exclusives\, and strong community engagement throughout the weekend. \nIf you’re in Southern California and want a mid-sized anime convention with solid programming and late-night energy\, November 20–22\, 2026 is locked in.
URL:https://events.stackedgame.com/events/anime-san-diego-2026-information/
LOCATION:San Diego Convention Center\, 111 W Harbor Dr\, San Diego\, CA\, 92101\, United States
CATEGORIES:Anime & Manga,Comicon,Cosplay
ATTACH;FMTTYPE=image/jpeg:https://cdn1.events.stackedgame.com/wp-content/uploads/sell/EventsSimon/E_40504/sanimejpg-1772069290.jpg
END:VEVENT
BEGIN:VEVENT
DTSTART;VALUE=DATE:20260911
DTEND;VALUE=DATE:20260914
DTSTAMP:20260421T173235
CREATED:20260304T125545Z
LAST-MODIFIED:20260304T125545Z
UID:40515-1789084800-1789343999@events.stackedgame.com
SUMMARY:Fan Expo Dallas 2026
DESCRIPTION:Fan Expo Dallas 2026 transforms the Kay Bailey Hutchison Convention Center into a massive fandom hub for three days of celebrity appearances\, comics\, anime\, gaming\, and cosplay. Thousands of attendees flood the show floor to meet actors\, artists\, and creators while exploring one of the largest vendor halls in the region. \nFriday kicks things off with a preview evening\, Saturday delivers the biggest crowd and full programming schedule\, and Sunday wraps with final panels and autograph opportunities. The event consistently hosts major Hollywood guests alongside anime voice actors and comic legends. \nIf you’re looking for one of the largest pop culture conventions in Texas\, May 29–31\, 2026 in Dallas is a major stop on the convention calendar.
URL:https://events.stackedgame.com/events/fan-expo-dallas-2026/
LOCATION:Kay Bailey Hutchison Convention Center Dallas\, 650 S Griffin St\, Dallas\, Texas\, 75202\, United States
CATEGORIES:Anime & Manga,Cosplay,Esports
ATTACH;FMTTYPE=image/jpeg:https://cdn1.events.stackedgame.com/wp-content/uploads/sell/EventsSimon/E_40515/fanexpossjpg-1772628946.jpg
ORGANIZER;CN="Informa%20Connect":MAILTO:events@informacanada.com
END:VEVENT
BEGIN:VEVENT
DTSTART;TZID=UTC:20260911T100000
DTEND;TZID=UTC:20260913T190000
DTSTAMP:20260421T173235
CREATED:20260304T130020Z
LAST-MODIFIED:20260304T130020Z
UID:40518-1789120800-1789326000@events.stackedgame.com
SUMMARY:Cleveland Gaming Classic 2026
DESCRIPTION:Cleveland Gaming Classic 2026 transforms the massive I-X Center into a retro gaming paradise. Long rows of CRT televisions and arcade cabinets let attendees play everything from NES and Sega Genesis classics to rare imports and tournament staples. \nCollectors browse vendor booths stacked with cartridges\, boxed games\, controllers\, and vintage gaming hardware\, while tournaments and speedrun showcases keep competitive energy high throughout the weekend. The expo also highlights indie developers and preservation discussions celebrating gaming’s history. \nIf you’re into classic gaming culture or serious retro collecting\, September 12–13\, 2026 in Cleveland is one of the Midwest’s biggest nostalgia-driven gaming events.
URL:https://events.stackedgame.com/events/cleveland-gaming-classic-2026/
LOCATION:Huntington Convention Center of Cleveland\, Cleveland\, OH\, United States
CATEGORIES:Anime & Manga,Cosplay,Game Art & Creatives,Game Merchandise
ORGANIZER;CN="Cleveland%20Gaming%20Classic%20Team":MAILTO:show@gamecleveland.com
END:VEVENT
BEGIN:VEVENT
DTSTART;VALUE=DATE:20260919
DTEND;VALUE=DATE:20260921
DTSTAMP:20260421T173235
CREATED:20260306T032824Z
LAST-MODIFIED:20260306T032824Z
UID:40538-1789776000-1789948799@events.stackedgame.com
SUMMARY:AnimeVerse Reno 2026
DESCRIPTION:AnimeVerse Reno 2026 brings anime fandom to the Grand Sierra Resort for a full holiday-weekend convention experience. The resort setting allows panels\, cosplay showcases\, gaming rooms\, and vendor areas to run alongside social gatherings and late-night events. \nFriday begins with badge pickup and early programming\, Saturday delivers the largest crowds and full panel lineup\, and Sunday wraps up the weekend with final contests and meetups. Cosplayers\, artists\, voice actors\, and fans all converge to create a lively anime community environment. \nIf you’re looking for an anime convention in Nevada with strong cosplay presence and resort-style atmosphere\, July 3–5\, 2026 in Reno is the locked-in weekend.
URL:https://events.stackedgame.com/events/animeverse-reno-2026/
LOCATION:Reno Events Center\, Reno\, NV\, United States
CATEGORIES:Anime & Manga,Cosplay,Game Merchandise
END:VEVENT
BEGIN:VEVENT
DTSTART;TZID=UTC:20260926T100000
DTEND;TZID=UTC:20260926T190000
DTSTAMP:20260421T173235
CREATED:20260308T035115Z
LAST-MODIFIED:20260308T035115Z
UID:40543-1790416800-1790449200@events.stackedgame.com
SUMMARY:Montreal Anime-Fest 2026
DESCRIPTION:Montreal Anime-Fest 2026 brings anime fandom to downtown Montréal with a packed two-day convention at the Palais des congrès. The venue fills with cosplay\, fan meetups\, artist alley booths\, gaming stations\, and anime merchandise vendors. \nSaturday typically hosts the largest crowds and the main cosplay contest\, while Sunday offers a more relaxed day to explore vendor booths\, attend panels\, and connect with other fans. The convention’s bilingual environment also makes it accessible to both English and French-speaking attendees. \nIf you’re looking for a lively anime convention in Quebec with strong cosplay presence and fan-driven programming\, November 21–22\, 2026 in Montréal is a solid weekend on the Canadian convention calendar.
URL:https://events.stackedgame.com/events/montreal-anime-fest-2026/
LOCATION:Radisson Hotel Montreal Airport
CATEGORIES:Anime & Manga,Comicon,Cosplay,General Gaming
ATTACH;FMTTYPE=image/jpeg:https://cdn1.events.stackedgame.com/wp-content/uploads/sell/EventsSimon/E_40543/montrealanimefestjpg-1772941876.jpg
END:VEVENT
END:VCALENDAR