BEGIN:VCALENDAR
VERSION:2.0
PRODID:-//StackedGame.com - ECPv5.14.1//NONSGML v1.0//EN
CALSCALE:GREGORIAN
METHOD:PUBLISH
X-WR-CALNAME:StackedGame.com
X-ORIGINAL-URL:https://events.stackedgame.com
X-WR-CALDESC:Events for StackedGame.com
REFRESH-INTERVAL;VALUE=DURATION:PT1H
X-Robots-Tag:noindex
X-PUBLISHED-TTL:PT1H
BEGIN:VTIMEZONE
TZID:UTC
BEGIN:STANDARD
TZOFFSETFROM:+0000
TZOFFSETTO:+0000
TZNAME:UTC
DTSTART:20240101T000000
END:STANDARD
END:VTIMEZONE
BEGIN:VEVENT
DTSTART;VALUE=DATE:20240317
DTEND;VALUE=DATE:20240401
DTSTAMP:20260420T165137
CREATED:20240217T063851Z
LAST-MODIFIED:20240217T063851Z
UID:36921-1710633600-1711929599@events.stackedgame.com
SUMMARY:Copenhagen Major
DESCRIPTION:The first CS2 Major of the year will take place in Denmark. We’ll find out who the contenders will be after the results of IEM Katowice and the Blast spring season. Team Vitality are the reigning Major champions and have been one of the more dominant teams since CS2 released despite a revamped roster. Frenchmen Dan “apEX” Madesclaire and Mathieu “ZywOo” Herbaut and Israeli Lotan “Spinx” Giladi remain from that Major-winning roster and have been joined by Shahar “flameZ” Shushan and William “mezii” Merriman. Vitality figure to be one of the favorites at the Major as well as G2 and FaZe Clan.
URL:https://events.stackedgame.com/events/copenhagen-major/
CATEGORIES:Esports
ATTACH;FMTTYPE=image/jpeg:https://cdn1.events.stackedgame.com/wp-content/uploads/sell/Jordan/E_36921/0bb565fd-43e5-4073-87d9-b59e11905df8cs2landingpage1024x432jpg.jpg
END:VEVENT
BEGIN:VEVENT
DTSTART;VALUE=DATE:20240316
DTEND;VALUE=DATE:20240318
DTSTAMP:20260420T165137
CREATED:20231217T092716Z
LAST-MODIFIED:20240119T103433Z
UID:36641-1710547200-1710719999@events.stackedgame.com
SUMMARY:Silver State Collectibles Expo 2024
DESCRIPTION:Toy Show with Comics programming \nJoin us as we bring you an infinite world for fandoms of all forms. Anime\, sculpture\, movies\, football\, hockey-you name it!
URL:https://events.stackedgame.com/events/silver-state-collectibles-expo-2024/
LOCATION:The Expo at World Market Center\, Las Vegas\, Nevada\, United States
CATEGORIES:Anime & Manga,Comicon
ATTACH;FMTTYPE=image/png:https://cdn1.events.stackedgame.com/wp-content/uploads/sell/Simon/E_36641/silverstatecollectiblesexpo2024png.png
END:VEVENT
BEGIN:VEVENT
DTSTART;VALUE=DATE:20240315
DTEND;VALUE=DATE:20240318
DTSTAMP:20260420T165137
CREATED:20240216T114640Z
LAST-MODIFIED:20240216T114640Z
UID:36918-1710460800-1710719999@events.stackedgame.com
SUMMARY:HCS Major 1
DESCRIPTION:The Halo Championship Series is the title’s flagship esports tournament series. The esports circuit consists of smaller events and online tournaments\, as well as larger LAN events with prize pools called Majors. The HCS feeds teams directly to the Halo World Championship. \n\n 
URL:https://events.stackedgame.com/events/hcs-major-1/
CATEGORIES:Esports
ATTACH;FMTTYPE=image/png:https://cdn1.events.stackedgame.com/wp-content/uploads/sell/Jordan/E_36918/hcs-hall-of-champions-min-largepng.png
END:VEVENT
BEGIN:VEVENT
DTSTART;VALUE=DATE:20240315
DTEND;VALUE=DATE:20240318
DTSTAMP:20260420T165137
CREATED:20231217T092241Z
LAST-MODIFIED:20240119T103555Z
UID:36634-1710460800-1710719999@events.stackedgame.com
SUMMARY:Anime New Mexico 2024
DESCRIPTION:Anime Convention\n\nOrganized by Fandom Events\, LLC \nMeet voice actors from your favorite anime shows\, shop at our artists’ alley and dealers’ hall\, see amazing cosplay\, attend Idol concerts\, sit in an authentic Japanese Maid Café\, laugh during improve comedy shows\, attend and participate in Medieval combat\, dance all night at an anime-themed rave\, and more!\n\nWith an all-star guest lineup and 12+ hours of programming per day\, Anime New Mexico is the largest anime convention in the state. Join the fun today!
URL:https://events.stackedgame.com/events/anime-new-mexico-2024/
CATEGORIES:Anime & Manga
ATTACH;FMTTYPE=image/png:https://cdn1.events.stackedgame.com/wp-content/uploads/sell/Simon/E_36634/animenewmexico2024png.png
END:VEVENT
BEGIN:VEVENT
DTSTART;VALUE=DATE:20240314
DTEND;VALUE=DATE:20240324
DTSTAMP:20260420T165137
CREATED:20240216T114302Z
LAST-MODIFIED:20240216T114302Z
UID:36915-1710374400-1711238399@events.stackedgame.com
SUMMARY:Masters Madrid
DESCRIPTION:The first VALORANT Champions Tour Masters event of the year will take place in March following competition in the Americas\, Europe\, Pacific and China regions the first couple months of the year. Last year\, Fnatic\, Evil Geniuses\, LOUD and Paper Rex were championship contenders. 
URL:https://events.stackedgame.com/events/masters-madrid/
CATEGORIES:Esports
ATTACH;FMTTYPE=image/jpeg:https://cdn1.events.stackedgame.com/wp-content/uploads/sell/Jordan/E_36915/vct24mastersmadridticketannouncementheaderjpg.jpg
END:VEVENT
BEGIN:VEVENT
DTSTART;VALUE=DATE:20240310
DTEND;VALUE=DATE:20240311
DTSTAMP:20260420T165137
CREATED:20231217T092115Z
LAST-MODIFIED:20240119T103800Z
UID:36631-1710028800-1710115199@events.stackedgame.com
SUMMARY:Cleveland Comic Book & Nostalgia Show 2024
DESCRIPTION:Comic Convention\n\nOrganized by Jeff Harper Productions \nCleveland and Northeast Ohio’s Longest running Comic Book Convention in it’s 44th Year featuring Golden\, Silver\, Bronze\, Modern Age comics & related Toys. Guest Comic Creators\, Hourly Prizes.
URL:https://events.stackedgame.com/events/cleveland-comic-book-nostalgia-show-2024/
LOCATION:DoubleTree by Hilton Hotel Cleveland – Westlake\, 1100 Crocker Road\, Westlake\, OH\, 44145\, United States
CATEGORIES:Comicon
ATTACH;FMTTYPE=image/png:https://cdn1.events.stackedgame.com/wp-content/uploads/sell/Simon/E_36631/4124564458203925565552796407009921604007262n1png.png
END:VEVENT
BEGIN:VEVENT
DTSTART;VALUE=DATE:20240310
DTEND;VALUE=DATE:20240311
DTSTAMP:20260420T165137
CREATED:20231217T092016Z
LAST-MODIFIED:20240119T104048Z
UID:36627-1710028800-1710115199@events.stackedgame.com
SUMMARY:Bentonville Anime-Fest 2024
DESCRIPTION:Anime Convention\n\nOrganized by Dr. Comics \nBentonville Anime-Fest is an anime collectors’ mecca convention located in the beautiful City of Bentonville\, Arkansas. Striving to be Arkansa’s best and truest anime convention featuring fandoms of multiple genres. As a long-time collector of anime\, manga and pop culture items the promoter brings Arkansas an event that will satisfy all anime fandom!
URL:https://events.stackedgame.com/events/bentonville-anime-fest-2024/
LOCATION:DoubleTree Suites by Hilton Hotel Bentonville\, 301 SE Walton Blvd\, Bentonville\, Arkansas\, 72712\, United States
CATEGORIES:Anime & Manga
ATTACH;FMTTYPE=image/png:https://cdn1.events.stackedgame.com/wp-content/uploads/sell/Simon/E_36627/bentonvilleanime-fest2024png.png
END:VEVENT
BEGIN:VEVENT
DTSTART;TZID=UTC:20240309T080000
DTEND;TZID=UTC:20240310T170000
DTSTAMP:20260420T165137
CREATED:20240203T101345Z
LAST-MODIFIED:20240203T101345Z
UID:36907-1709971200-1710090000@events.stackedgame.com
SUMMARY:Collect-a-Con Los Angeles
DESCRIPTION:Collect-A-Con is the Nation’s Largest Trading Card\, Anime & Pop Culture Convention. This epic collectibles trade show event boasts over 800+ dealer tables w/ the hottest collectibles! Collect-A-Con is showcasing celebrities\, LIVE concerts\, special guests\, box breaks\, sports cards\, comics\, Funko POP!
URL:https://events.stackedgame.com/events/collect-a-con-los-angeles/
LOCATION:Los Angeles Convention Center\, 1201 South Figueroa St\, Los Angeles\, CA\, 90015\, United States
CATEGORIES:Trading Cards
ATTACH;FMTTYPE=image/jpeg:https://cdn1.events.stackedgame.com/wp-content/uploads/sell/Jordan/E_36907/80858336-8436-4426-a45d-35d9522bbf231605541retinaportrait169jpg.jpg
END:VEVENT
BEGIN:VEVENT
DTSTART;VALUE=DATE:20240309
DTEND;VALUE=DATE:20240311
DTSTAMP:20260420T165137
CREATED:20231217T084327Z
LAST-MODIFIED:20240119T113310Z
UID:36620-1709942400-1710115199@events.stackedgame.com
SUMMARY:Mississippi Anime Fest 2024
DESCRIPTION:Anime Convention\n\nOrganized by VXV Events \nMississippi Anime Fest is a two day event being held on March 9th & 10th\, 2024\, at the Mississippi Trade Mart in Jackson\, Mississippi. Mississippi Anime Fest will feature guests from anime\, animation\, and cosplay.
URL:https://events.stackedgame.com/events/mississippi-anime-fest-2024/
CATEGORIES:Anime & Manga
ATTACH;FMTTYPE=image/png:https://cdn1.events.stackedgame.com/wp-content/uploads/sell/Simon/E_36620/mississippianimefest2024png.png
END:VEVENT
BEGIN:VEVENT
DTSTART;VALUE=DATE:20240309
DTEND;VALUE=DATE:20240311
DTSTAMP:20260420T165137
CREATED:20231217T084212Z
LAST-MODIFIED:20240119T113348Z
UID:36616-1709942400-1710115199@events.stackedgame.com
SUMMARY:Colorado Cosmic Con 2024
DESCRIPTION:Comic Convention \nAt Colorado Cosmic Con\, we bring comic book stories to life. We started this business because we believe that comic books are more than just entertainment – they are an art form that can inspire\, educate\, and empower people of all ages. Our goal is to share this passion with the world.
URL:https://events.stackedgame.com/events/colorado-cosmic-con-2024/
LOCATION:Colorado Springs Marriott\, 5580 Tech Center Drive\, Colorado Springs\, CO\, 80919\, United States
CATEGORIES:Comicon
ATTACH;FMTTYPE=image/png:https://cdn1.events.stackedgame.com/wp-content/uploads/sell/Simon/E_36616/coloradocosmiccon2024png.png
END:VEVENT
BEGIN:VEVENT
DTSTART;VALUE=DATE:20240309
DTEND;VALUE=DATE:20240311
DTSTAMP:20260420T165137
CREATED:20231217T084110Z
LAST-MODIFIED:20240119T113409Z
UID:36613-1709942400-1710115199@events.stackedgame.com
SUMMARY:Cape Anime Con 2024
DESCRIPTION:Anime Convention \nCape Anime Con features two exciting days of anime and pop culture icons\, professional and independent artists and authors\, panels\, events\, cosplay\, and dozens of tables of merchandise for fans to enjoy. Make plans to join us for an amazing weekend!
URL:https://events.stackedgame.com/events/cape-anime-con-2024/
LOCATION:Drury Plaza Hotel Cape Girardeau Conference Center\, 3351 Percy Dr\, Cape Girardeau\, Missouri\, 63701\, United States
CATEGORIES:Anime & Manga
ATTACH;FMTTYPE=image/png:https://cdn1.events.stackedgame.com/wp-content/uploads/sell/Simon/E_36613/logoc16927png.png
END:VEVENT
BEGIN:VEVENT
DTSTART;VALUE=DATE:20240309
DTEND;VALUE=DATE:20240311
DTSTAMP:20260420T165137
CREATED:20231217T083946Z
LAST-MODIFIED:20240119T113444Z
UID:36609-1709942400-1710115199@events.stackedgame.com
SUMMARY:Bristol Anime & Gaming Con 2024
DESCRIPTION:Anime Convention with Gaming and Video Gaming programming\n\nOrganized by Animeleague \nAnimeleague exists to bring anime fans\, gaming fans\, cosplayers and general geeks together. We do this through online forums\, social media\, real-life meetups and conventions to help build one big family and community of friends together. We run over fifty events a year ranging from small free community meetups to free minicons to full-scale conventions.
URL:https://events.stackedgame.com/events/bristol-anime-gaming-con-2024/
LOCATION:Mercure Bristol Grand Hotel\, Broad Street\, Bristol\, England\, BS1 2EL\, United Kingdom
CATEGORIES:Anime & Manga
ATTACH;FMTTYPE=image/png:https://cdn1.events.stackedgame.com/wp-content/uploads/sell/Simon/E_36609/bristolanimegamingcon2024png.png
END:VEVENT
BEGIN:VEVENT
DTSTART;TZID=UTC:20240308T080000
DTEND;TZID=UTC:20240316T170000
DTSTAMP:20260420T165137
CREATED:20240123T073853Z
LAST-MODIFIED:20240123T073853Z
UID:36826-1709884800-1710608400@events.stackedgame.com
SUMMARY:SXSW Conference 2024
DESCRIPTION:SXSW 2024 festival and conference provides an opportunity for the global community of digital creatives to encounter cutting-edge ideas\, discover new interests\, and network with other professionals who share a similar appetite for forward-focused experiences. The Conference highlights some of the most inspired thinkers and industry leaders across 25 tracks and SXSW community-curated sessions. \nThe SXSW festival that includes the SXSW Conference features a variety of tracks that focus on the important breakthroughs in technology\, film\, culture\, and music\, Creative industries from around the world will converge in Austin\, Texas for SXSW.
URL:https://events.stackedgame.com/events/sxsw-conference-2024/
LOCATION:Austin Convention Center\, 500 E Cesar Chavez St\, Austin\, Texas\, 78701\, United States
CATEGORIES:Game Development
ATTACH;FMTTYPE=image/jpeg:https://cdn1.events.stackedgame.com/wp-content/uploads/sell/Jordan/E_36826/sxsw-widejpg.jpg
END:VEVENT
BEGIN:VEVENT
DTSTART;TZID=UTC:20240308T080000
DTEND;TZID=UTC:20240310T170000
DTSTAMP:20260420T165137
CREATED:20240203T101018Z
LAST-MODIFIED:20240203T101200Z
UID:36903-1709884800-1710090000@events.stackedgame.com
SUMMARY:Philly Card Show
DESCRIPTION:Wear comfortable shoes! The Philly Show is 110\,000+ square feet of trading cards\, collectibles\, memorabilia and more! Try to arrive at least 1 hour prior to the start of your first guests scheduled signing time. Signing times can be found here. Bring exact change if you have not pre-purchased admission tickets.\n\n\n\n\n 
URL:https://events.stackedgame.com/events/philly-card-show/
LOCATION:Greater Philadelphia Expo Center at Oaks\, 100 Station Ave\, Oaks\, Pennsylvania\, 19456\, United States
CATEGORIES:Trading Cards
ATTACH;FMTTYPE=image/png:https://cdn1.events.stackedgame.com/wp-content/uploads/sell/Jordan/E_36903/philly-show-logo-stacked-gradient-w-drop-shadow-p798m8wcay0zhnskumplk4qewm9a6mx5xrx9mbnnmqpng.png
END:VEVENT
BEGIN:VEVENT
DTSTART;TZID=UTC:20240308T080000
DTEND;TZID=UTC:20240310T170000
DTSTAMP:20260420T165137
CREATED:20240203T100630Z
LAST-MODIFIED:20240203T100630Z
UID:36899-1709884800-1710090000@events.stackedgame.com
SUMMARY:Nashville Card Show
DESCRIPTION:The Nashville Card Show is located in Nashville\, Tennessee\, and was established in 2011.
URL:https://events.stackedgame.com/events/nashville-card-show/
LOCATION:Nashville Fairgrounds\, 401 Wingrove Street\, Nashville\, Tennessee\, 37203\, United States
CATEGORIES:Trading Cards
ATTACH;FMTTYPE=image/jpeg:https://cdn1.events.stackedgame.com/wp-content/uploads/sell/Jordan/E_36899/nashville-crowd-2jpg.jpg
END:VEVENT
BEGIN:VEVENT
DTSTART;VALUE=DATE:20240308
DTEND;VALUE=DATE:20240311
DTSTAMP:20260420T165137
CREATED:20231217T083702Z
LAST-MODIFIED:20240119T113510Z
UID:36601-1709856000-1710115199@events.stackedgame.com
SUMMARY:Awesome Con 2024
DESCRIPTION:Comic Convention with Sci-Fi and TV programming\n\nOrganized by LeftField Media \nAwesome Con is Washington DC’s Comic Con! A 3-Day celebration of geek culture\, bringing over 70\,000 fans together with their favorite stars from across comics\, movies\, tv\, toys\, games\, and more!
URL:https://events.stackedgame.com/events/awesome-con-2024/
LOCATION:Walter E. Washington Convention Center\, 801 Mt Vernon Pl NW\, Washington\, DC\, 20001\, United States
CATEGORIES:Comicon
ATTACH;FMTTYPE=image/png:https://cdn1.events.stackedgame.com/wp-content/uploads/sell/Simon/E_36601/awesomecon2024png.png
END:VEVENT
BEGIN:VEVENT
DTSTART;VALUE=DATE:20240306
DTEND;VALUE=DATE:20240308
DTSTAMP:20260420T165137
CREATED:20240123T073606Z
LAST-MODIFIED:20240123T073606Z
UID:36823-1709683200-1709855999@events.stackedgame.com
SUMMARY:Global Games Pitch – Spring Edition 2024 (Online)
DESCRIPTION:Global Games Pitch – Spring Edition is the biggest international online pitching event\, 100+ publishers and investors.
URL:https://events.stackedgame.com/events/global-games-pitch-spring-edition-2024-online/
CATEGORIES:Game Development,General Gaming
ATTACH;FMTTYPE=image/jpeg:https://cdn1.events.stackedgame.com/wp-content/uploads/sell/Jordan/E_36823/global-games-pitch-2022jpg.jpg
END:VEVENT
BEGIN:VEVENT
DTSTART;TZID=UTC:20240305T080000
DTEND;TZID=UTC:20240306T170000
DTSTAMP:20260420T165137
CREATED:20231002T175025Z
LAST-MODIFIED:20240119T050033Z
UID:36413-1709625600-1709744400@events.stackedgame.com
SUMMARY:Hamburg Games Conference 2024
DESCRIPTION:The Hamburg Games Conference 2024 will be back as an on-site event! The B2B event welcomes up to 600 guests from the international games industry in the Altonaer Museum in Hamburg\, Germany. The focus topic will be “Invest in Games”\, exploring and discussing the current state and future development of the international games markets as well as challenges and untapped potentials from the perspective of devs and studios\, publishers and investors\, as well as public funding institutions. A second conference track will feature funding\, dev- and startup-topics\, focusing on sharing hands-on best practices and experiences.\n\nAdditionally\, there will be an expo area featuring (indie) studios and service providers and extensive opportunities to make new contacts and grow your network\, including matchmaking via MeetToMatch.
URL:https://events.stackedgame.com/events/hamburg-games-conference-2024/
LOCATION:Altonaer Museum\, Museumstrasse 23\, Hamburg\, 22765\, Germany
CATEGORIES:Game Development,General Gaming
ATTACH;FMTTYPE=image/jpeg:https://cdn1.events.stackedgame.com/wp-content/uploads/sell/Jordan/E_36413/banner-hamburg-games-conference-2024jpg.jpg
END:VEVENT
BEGIN:VEVENT
DTSTART;VALUE=DATE:20240305
DTEND;VALUE=DATE:20240307
DTSTAMP:20260420T165137
CREATED:20240123T073444Z
LAST-MODIFIED:20240123T073444Z
UID:36820-1709596800-1709769599@events.stackedgame.com
SUMMARY:NextGen Game Development Summit 2024
DESCRIPTION:Welcome to the NextGen Game Development Summit\, a premier event for industry professionals\, innovators\, and enthusiasts in the gaming world. Join us on the 6th–7th of March 2024 in Cologne to explore the latest trends and advancements shaping the future of game development.\n\nIn this dynamic and ever-evolving landscape\, the game development industry is encountering new challenges and opportunities. Our conference aims to provide a platform for knowledge exchange\, collaboration\, and networking among key stakeholders.\n\nJoin us at the NextGen Game Development Summit to connect with industry leaders\, discover groundbreaking technologies\, and gain valuable insights into the future of game development.
URL:https://events.stackedgame.com/events/nextgen-game-development-summit-2024/
CATEGORIES:Game Development
ATTACH;FMTTYPE=image/jpeg:https://cdn1.events.stackedgame.com/wp-content/uploads/sell/Jordan/E_36820/banner-nextgen-game-development-summit-2024jpg.jpg
END:VEVENT
BEGIN:VEVENT
DTSTART;VALUE=DATE:20240304
DTEND;VALUE=DATE:20240305
DTSTAMP:20260420T165137
CREATED:20231217T083351Z
LAST-MODIFIED:20240119T113533Z
UID:36594-1709510400-1709596799@events.stackedgame.com
SUMMARY:Power Comicon 2024
DESCRIPTION:Comic Convention \nBringing all the very best in comics and collectibles to the Florence area! We will have comic artists\, writers\, actors and other great comic related guests! There will be a plethora of comics\, toys\, costume apparel\, and all sorts of pop culture memorabilia for all ages. There will also be a costume contest for all you cosplayers out there.
URL:https://events.stackedgame.com/events/power-comicon-2024/
LOCATION:Florence Center\, 3300 West Radio Dr\, Florence\, South Carolina\, 29501\, United States
CATEGORIES:Comicon
ATTACH;FMTTYPE=image/png:https://cdn1.events.stackedgame.com/wp-content/uploads/sell/Simon/E_36594/powercomicon2024png.png
END:VEVENT
BEGIN:VEVENT
DTSTART;VALUE=DATE:20240303
DTEND;VALUE=DATE:20240304
DTSTAMP:20260420T165137
CREATED:20231216T170428Z
LAST-MODIFIED:20240119T113557Z
UID:36586-1709424000-1709510399@events.stackedgame.com
SUMMARY:Buckeye Comic Con 2024
DESCRIPTION:Comic Convention\n\nOrganized by Jeff Harper Productions \nColumbus’ Premier Comic Book Convention for over 25 Years featuring Golden\, Silver\, Bronze\, Modern Age comics & related Toys. Guest Comic Creators\, Hourly Prizes. Hours 10-4.
URL:https://events.stackedgame.com/events/buckeye-comic-con-2024/
LOCATION:Courtyard by Marriott Columbus West/Hilliard\, 2350 Westbelt Dr\, Columbus\, Ohio\, 43228\, United States
CATEGORIES:Comicon
ATTACH;FMTTYPE=image/jpeg:https://cdn1.events.stackedgame.com/wp-content/uploads/sell/Simon/E_36586/4123402948708785914900366518784371772398766njpg.jpg
END:VEVENT
BEGIN:VEVENT
DTSTART;TZID=UTC:20240302T080000
DTEND;TZID=UTC:20240303T170000
DTSTAMP:20260420T165137
CREATED:20231216T170314Z
LAST-MODIFIED:20240119T113630Z
UID:36582-1709366400-1709485200@events.stackedgame.com
SUMMARY:UI-Con 2024
DESCRIPTION:Anime Convention with Comics programming \nIf you like anime and/or comics\, then come to the Illini Union for University of Illinois’s UI-Con because you’re an icon! Come experience the variety of things that we have to offer such as a gaming room\, panels about different topics\, performances in the Courtyard Cafe\, etc. UI-Con is a convention for you and I!
URL:https://events.stackedgame.com/events/ui-con-2024/
CATEGORIES:Anime & Manga
ATTACH;FMTTYPE=image/png:https://cdn1.events.stackedgame.com/wp-content/uploads/sell/Simon/E_36582/ui-con2024png.png
END:VEVENT
BEGIN:VEVENT
DTSTART;TZID=UTC:20240302T080000
DTEND;TZID=UTC:20240303T170000
DTSTAMP:20260420T165137
CREATED:20231002T174848Z
LAST-MODIFIED:20240119T045946Z
UID:36408-1709366400-1709485200@events.stackedgame.com
SUMMARY:Tokyo Indie Games Summit 2024
DESCRIPTION:TOKYO INDIE GAMES SUMMIT” started in 2023 in Kichijoji\, Musashino City\, with the aim of becoming “a place where various talents of indie game creators gather together and become a catalyst to reach the top”\, It is a new indie game event.\n\nFor creators\, it is “an opportunity to present their works and interact with users and creators.\nFor users\, it is “an opportunity to discover and experience new games and creators. The first event\, held in the hope that creators\, fans\, and the local community would come together to create and nurture new possibilities\, was filled with enthusiasm as many people\, young and old\, male and female\, from Japan and abroad\, came to the event and helped out.
URL:https://events.stackedgame.com/events/tokyo-indie-games-summit-2024/
LOCATION:Kichijōji\, Kichijōji\, Tokyo\, Japan
CATEGORIES:Game Merchandise,General Gaming
ATTACH;FMTTYPE=image/jpeg:https://cdn1.events.stackedgame.com/wp-content/uploads/sell/Jordan/E_36408/banner-tokyo-indie-games-summit-2024jpg.jpg
END:VEVENT
BEGIN:VEVENT
DTSTART;VALUE=DATE:20240302
DTEND;VALUE=DATE:20240304
DTSTAMP:20260420T165137
CREATED:20231217T073952Z
LAST-MODIFIED:20240119T113654Z
UID:36590-1709337600-1709510399@events.stackedgame.com
SUMMARY:Louisiana Retro Con 2024
DESCRIPTION:Video Gaming Convention \nLouisiana Retro Con is a video game-focused convention that celebrates all things within the gaming spectrum. The event also showcases local artists\, comic book authors\, toy/comic vendors\, and many more exhibits relevant to nerd culture. Proudly maintaining a very family-friendly setting\, Louisiana Retro Con is a fun event for all age groups.
URL:https://events.stackedgame.com/events/louisiana-retro-con-2024/
LOCATION:Morgan City Municipal Auditorium\, 728 Myrtle St\, Morgan City\, Louisiana\, 70380\, United States
CATEGORIES:General Gaming
ATTACH;FMTTYPE=image/png:https://cdn1.events.stackedgame.com/wp-content/uploads/sell/Simon/E_36590/louisianaretrocon2024png.png
END:VEVENT
BEGIN:VEVENT
DTSTART;VALUE=DATE:20240228
DTEND;VALUE=DATE:20240301
DTSTAMP:20260420T165137
CREATED:20240123T073153Z
LAST-MODIFIED:20240123T073153Z
UID:36816-1709078400-1709251199@events.stackedgame.com
SUMMARY:DevGAMM Gdańsk 2024 (Hybrid)
DESCRIPTION:DevGAMM Gdańsk 2024 is the first conference that DevGAMM organizes in Poland. It will be held on March 1-2\, at AmberExpo. The event will be done in collaboration with Digital Vikings. Expect Showcase\, Digital Vikings Awards\, Career Wall with job offers and more. Submit games until January 25.
URL:https://events.stackedgame.com/events/devgamm-gdansk-2024-hybrid/
LOCATION:AmberExpo\, Gdask\, Poland
CATEGORIES:Gaming Careers,Game Development,General Gaming
ATTACH;FMTTYPE=image/jpeg:https://cdn1.events.stackedgame.com/wp-content/uploads/sell/Jordan/E_36816/banner-devgamm-gdansk-2024jpg.jpg
END:VEVENT
BEGIN:VEVENT
DTSTART;VALUE=DATE:20240227
DTEND;VALUE=DATE:20240229
DTSTAMP:20260420T165137
CREATED:20240123T072927Z
LAST-MODIFIED:20240123T072927Z
UID:36812-1708992000-1709164799@events.stackedgame.com
SUMMARY:India Digital Summit 2024
DESCRIPTION:The India Digital Summit (IDS) is the flagship annual conference of the Internet and Mobile Association of India (IAMAI). The 18th edition of the IDS is designed as India’s largest summit of the digital landscape\, incorporating under it a conglomeration of 12 separate sectoral conferences. All these conferences together will discuss\, debate and deliberate on digital India and the digital world 360 degrees. IDS 2024 aims to address the digital progress of India\, focusing on the digital economy\, digital progress\, and inclusive economic growth. The summit will showcase the vibrant digital ecosystem in India across 12 different sectors\, including emerging technologies\, marketing\, education\, and sustainability. The IDS 2024 theme\, “Digitise | Monetise | Democratise\,” embodies the power of harnessing digital architecture for economic prosperity and fostering inclusivity in the digital age. The 18th IDS also includes the Digital Responsibility Awards and India Digital Awards\, recognizing exemplary achievements in the digital world.
URL:https://events.stackedgame.com/events/india-digital-summit-2024/
LOCATION:Jio World Convention Centre\, G Block\, Bandra Kurla Complex\, Mumbai\, 400098\, India
CATEGORIES:Game Development
ATTACH;FMTTYPE=image/jpeg:https://cdn1.events.stackedgame.com/wp-content/uploads/sell/Jordan/E_36812/banner-india-digital-summit-2024jpg.jpg
END:VEVENT
BEGIN:VEVENT
DTSTART;TZID=UTC:20240224T080000
DTEND;TZID=UTC:20240225T170000
DTSTAMP:20260420T165137
CREATED:20240203T100342Z
LAST-MODIFIED:20240203T100342Z
UID:36895-1708761600-1708880400@events.stackedgame.com
SUMMARY:Dallas Collect-a-Con
DESCRIPTION:Collect-A-Con is the Nation’s Largest Trading Card\, Anime & Pop Culture Convention. This epic collectible trade show event boasts over 800 dealer tables with the hottest collectibles!
URL:https://events.stackedgame.com/events/dallas-collect-a-con/
LOCATION:Kay Bailey Hutchison Convention Center\, 650 S Griffin St\, Dallas\, Texas\, 75202\, United States
CATEGORIES:Trading Cards
ATTACH;FMTTYPE=image/jpeg:https://cdn1.events.stackedgame.com/wp-content/uploads/sell/Jordan/E_36895/80858336-8436-4426-a45d-35d9522bbf231605541retinaportrait169jpg.jpg
END:VEVENT
BEGIN:VEVENT
DTSTART;VALUE=DATE:20240224
DTEND;VALUE=DATE:20240225
DTSTAMP:20260420T165137
CREATED:20231216T170040Z
LAST-MODIFIED:20240119T113840Z
UID:36574-1708732800-1708819199@events.stackedgame.com
SUMMARY:Frankfort Anime-Fest 2024
DESCRIPTION:Anime Convention\n\nOrganized by Dr. Comics \nFrankfort Anime-Fest is an anime collectors’ mecca convention located in the beautiful Capital City Frankfort\, Kentucky. Striving to be Kentucky’s best and truest anime convention featuring fandoms of multiple genres. As a long-time collector of anime\, manga and pop culture items the promoter brings Kentucky an event that will satisfy all anime fandom!
URL:https://events.stackedgame.com/events/frankfort-anime-fest-2024/
LOCATION:Capital Plaza Hotel\, Blvd Iancu de Hunedoara No. 54\, Bucharest\, 11472\, Romania
CATEGORIES:Anime & Manga
ATTACH;FMTTYPE=image/png:https://cdn1.events.stackedgame.com/wp-content/uploads/sell/Simon/E_36574/frankfortanime-fest2024png.png
END:VEVENT
BEGIN:VEVENT
DTSTART;VALUE=DATE:20240223
DTEND;VALUE=DATE:20240226
DTSTAMP:20260420T165137
CREATED:20231216T165931Z
LAST-MODIFIED:20240119T113919Z
UID:36569-1708646400-1708905599@events.stackedgame.com
SUMMARY:Gamicon 2024
DESCRIPTION:Gaming Convention\n\nOrganized by Mindbridge Foundation \nGamicon is an annual gaming convention held in Eastern Iowa for over 30 years. We have numerous Board\, Card and Roleplaying games over the coarse of three days and also feature a Game Library\, Play to Win Games and a Games Auction.
URL:https://events.stackedgame.com/events/gamicon-2024/
LOCATION:Cedar Rapids Marriott\, 1200 Collins Rd NE\, Cedar Rapids\, Iowa\, 52402\, United States
CATEGORIES:General Gaming
ATTACH;FMTTYPE=image/png:https://cdn1.events.stackedgame.com/wp-content/uploads/sell/Simon/E_36569/gamicon2024png.png
END:VEVENT
BEGIN:VEVENT
DTSTART;VALUE=DATE:20240217
DTEND;VALUE=DATE:20240220
DTSTAMP:20260420T165137
CREATED:20231216T165806Z
LAST-MODIFIED:20240119T113943Z
UID:36564-1708128000-1708387199@events.stackedgame.com
SUMMARY:Fan Expo Vancouver 2024
DESCRIPTION:Comic Convention with Anime\, Gaming\, TV\, and Video Gaming programming\n\nOrganized by Informa Connect \nEveryone is a fan of something\, and FAN EXPO Vancouver is a place to celebrate all things pop culture. Get an autograph or a photo with your favourite Guest then get the inside scoop about your favourite movies and TV shows at our celebrity panels!
URL:https://events.stackedgame.com/events/fan-expo-vancouver-2024/
LOCATION:Vancouver Convention Centre\, 1055 Canada Pl\, Vancouver\, British Columbia\, V6C 0C3\, Canada
CATEGORIES:Comicon
ATTACH;FMTTYPE=image/jpeg:https://cdn1.events.stackedgame.com/wp-content/uploads/sell/Simon/E_36564/fanexpovancouver2024jpg.jpg
END:VEVENT
END:VCALENDAR