BEGIN:VCALENDAR
VERSION:2.0
PRODID:-//StackedGame.com - ECPv5.14.1//NONSGML v1.0//EN
CALSCALE:GREGORIAN
METHOD:PUBLISH
X-WR-CALNAME:StackedGame.com
X-ORIGINAL-URL:https://events.stackedgame.com
X-WR-CALDESC:Events for StackedGame.com
REFRESH-INTERVAL;VALUE=DURATION:PT1H
X-Robots-Tag:noindex
X-PUBLISHED-TTL:PT1H
BEGIN:VTIMEZONE
TZID:UTC
BEGIN:STANDARD
TZOFFSETFROM:+0000
TZOFFSETTO:+0000
TZNAME:UTC
DTSTART:20220101T000000
END:STANDARD
TZID:Australia/Perth
BEGIN:STANDARD
TZOFFSETFROM:+0800
TZOFFSETTO:+0800
TZNAME:AWST
DTSTART:20210101T000000
END:STANDARD
END:VTIMEZONE
BEGIN:VEVENT
DTSTART;TZID=UTC:20220106T080000
DTEND;TZID=UTC:20220109T170000
DTSTAMP:20260424T223433
CREATED:20211108T071930Z
LAST-MODIFIED:20240116T230815Z
UID:19597-1641456000-1641747600@events.stackedgame.com
SUMMARY:MAGFest
DESCRIPTION:MAGFest (Music And Gaming Festival) is an annual festival that celebrates video games and video game music\, as well as their surrounding culture. MAGFest’s primary features are a large open video gaming room\, a hall of arcade cabinets\, concerts by chiptune artists and video game cover bands\, and a Bring Your Own Computer LAN Party.
URL:https://events.stackedgame.com/events/magfest/
LOCATION:Gaylord National Convention Center\, 201 Waterfront St\, National Harbor\, Maryland\, 20745\, United States
ATTACH;FMTTYPE=image/jpeg:https://cdn1.events.stackedgame.com/wp-content/uploads/chipspaceimage50jpg.jpg
END:VEVENT
BEGIN:VEVENT
DTSTART;TZID=Australia/Perth:20211112T230000
DTEND;TZID=Australia/Perth:20211115T133000
DTSTAMP:20260424T223433
CREATED:20211105T041749Z
LAST-MODIFIED:20240116T232042Z
UID:19549-1636758000-1636983000@events.stackedgame.com
SUMMARY:Gaming Virtual Expo 2022
DESCRIPTION:Gaming Virtual Expo is an annual 3-Day online expo experience and championship tournament series. Gaming Virtual Expo is a trade event. Gaming Virtual Expo allows developers\, publishers\, hardware\, software and accessory manufacturers the opportunity to introduce and advertise upcoming games to a worldwide audience. GVE includes a virtual exhibition hall for companies to display products and titles for sale in the year to come. The event is organized and Presented by Virtual Gaming Championships.
URL:https://events.stackedgame.com/events/gaming-virtual-expo-2021/
LOCATION:Online Event\, Virtual Event - See Online Details
ATTACH;FMTTYPE=image/jpeg:https://cdn1.events.stackedgame.com/wp-content/uploads/httpscdnevbuccomimages1117706854030001926071original960x540jpg.jpg
END:VEVENT
END:VCALENDAR