BEGIN:VCALENDAR
VERSION:2.0
PRODID:-//StackedGame.com - ECPv5.14.1//NONSGML v1.0//EN
CALSCALE:GREGORIAN
METHOD:PUBLISH
X-WR-CALNAME:StackedGame.com
X-ORIGINAL-URL:https://events.stackedgame.com
X-WR-CALDESC:Events for StackedGame.com
REFRESH-INTERVAL;VALUE=DURATION:PT1H
X-Robots-Tag:noindex
X-PUBLISHED-TTL:PT1H
BEGIN:VTIMEZONE
TZID:UTC
BEGIN:STANDARD
TZOFFSETFROM:+0000
TZOFFSETTO:+0000
TZNAME:UTC
DTSTART:20260101T000000
END:STANDARD
END:VTIMEZONE
BEGIN:VEVENT
DTSTART;VALUE=DATE:20260807
DTEND;VALUE=DATE:20260810
DTSTAMP:20260421T225553
CREATED:20260219T024214Z
LAST-MODIFIED:20260219T024214Z
UID:40430-1786060800-1786319999@events.stackedgame.com
SUMMARY:Manga Marvel and Morsels 2026
DESCRIPTION:Manga Marvel and Morsels 2026 is where fandom meets flavor. Picture a convention floor filled with vibrant cosplay\, manga art displays\, gaming setups — and the aroma of themed street food inspired by your favorite series. \nFrom ramen bowls straight out of a shonen adventure to desserts styled after magical girl aesthetics\, the event brings culinary creativity into the anime convention space. Panels and workshops explore the connection between pop culture and cuisine\, while vendors showcase exclusive merch and handmade art. \nWhether you’re coming for the cosplay\, the collectibles\, or the curated fandom-inspired food experience\, Manga Marvel and Morsels 2026 delivers a convention concept that feels fresh\, social\, and community-driven.
URL:https://events.stackedgame.com/events/manga-marvel-and-morsels-2026/
LOCATION:Travis County Exposition Center\, 7311 Decker Ln\, Austin\, TX\, United States
CATEGORIES:Anime & Manga,Comicon
ATTACH;FMTTYPE=image/jpeg:https://cdn1.events.stackedgame.com/wp-content/uploads/sell/EventsSimon/E_40430/maxresdefaultjpg-1771468936.jpg
END:VEVENT
BEGIN:VEVENT
DTSTART;TZID=UTC:20260807T080000
DTEND;TZID=UTC:20260809T170000
DTSTAMP:20260421T225553
CREATED:20260219T023542Z
LAST-MODIFIED:20260219T023542Z
UID:40425-1786089600-1786294800@events.stackedgame.com
SUMMARY:Long Island Retro Gaming Expo 2026
DESCRIPTION:Long Island Retro Gaming Expo 2026 is where nostalgia hits max level. The Cradle of Aviation Museum transforms into a playable time capsule — rows of CRT screens\, glowing arcade cabinets\, and consoles spanning every generation from Atari to early PlayStation. \nCollectors hunt for rare cartridges and boxed classics while tournament players compete in everything from fighting games to speedrun challenges. Panels dive into gaming history\, development stories\, and preservation efforts\, while indie creators showcase modern titles built with retro inspiration. \nWhether you’re chasing high scores\, building your collection\, or just reliving childhood classics\, LI Retro 2026 delivers a pure\, community-driven celebration of gaming’s golden eras.
URL:https://events.stackedgame.com/events/long-island-retro-gaming-expo-2026/
LOCATION:Cradle of Aviation Museum\, Garden City\, NY\, United States
CATEGORIES:Cosplay,General Gaming
END:VEVENT
BEGIN:VEVENT
DTSTART;TZID=UTC:20260808T100000
DTEND;TZID=UTC:20260808T180000
DTSTAMP:20260421T225553
CREATED:20260219T024535Z
LAST-MODIFIED:20260219T024535Z
UID:40436-1786183200-1786212000@events.stackedgame.com
SUMMARY:Orillia Anime-Fest 2026
DESCRIPTION:Orillia Anime-Fest 2026 delivers a focused\, community-driven anime experience without the overwhelming scale of major city conventions. Hosted at the Best Western Plus Mariposa Inn & Conference Centre\, the event packs cosplay showcases\, vendors\, gaming setups\, and artist booths into a single high-energy Saturday. \nExpect cosplay contests taking center stage\, curated exhibitor tables with collectibles and manga merch\, and a steady flow of fan meetups throughout the day. It’s designed to be accessible\, social\, and easy to navigate — perfect whether you’re a first-time attendee or a seasoned convention regular looking for a more intimate fandom vibe
URL:https://events.stackedgame.com/events/orillia-anime-fest-2026/
LOCATION:Best Western Plus Mariposa Inn &amp; Conference Centre\, Best Western Plus Mariposa Inn & Conference Centre\, United States
CATEGORIES:Anime & Manga,Board Game
END:VEVENT
END:VCALENDAR