BEGIN:VCALENDAR
VERSION:2.0
PRODID:-//StackedGame.com - ECPv5.14.1//NONSGML v1.0//EN
CALSCALE:GREGORIAN
METHOD:PUBLISH
X-WR-CALNAME:StackedGame.com
X-ORIGINAL-URL:https://events.stackedgame.com
X-WR-CALDESC:Events for StackedGame.com
REFRESH-INTERVAL;VALUE=DURATION:PT1H
X-Robots-Tag:noindex
X-PUBLISHED-TTL:PT1H
BEGIN:VTIMEZONE
TZID:UTC
BEGIN:STANDARD
TZOFFSETFROM:+0000
TZOFFSETTO:+0000
TZNAME:UTC
DTSTART:20260101T000000
END:STANDARD
END:VTIMEZONE
BEGIN:VEVENT
DTSTART;VALUE=DATE:20260730
DTEND;VALUE=DATE:20260803
DTSTAMP:20260422T034301
CREATED:20250702T203322Z
LAST-MODIFIED:20250702T204440Z
UID:39844-1785369600-1785715199@events.stackedgame.com
SUMMARY:Gen Con Indy 2026
DESCRIPTION:Get ready for Gen Con Indy 2026\, the world’s premier tabletop gaming convention\, returning to Indianapolis from July 30 to August 2\, 2026! This legendary gathering—often called The Best Four Days in Gaming™—will once again transform the Indiana Convention Center\, Lucas Oil Stadium\, and surrounding hotels into a vibrant playground for gamers\, creators\, and fans from around the globe. \nWhat makes Gen Con Indy 2026 unmissable? \nEpic Scale: As North America’s largest tabletop gaming convention\, Gen Con draws tens of thousands of attendees and features thousands of ticketed events. Whether you love board games\, RPGs\, card games\, miniatures\, LARPs\, or digital gaming\, you’ll find endless opportunities to play\, learn\, and compete. \nMassive Exhibit Hall: Explore a bustling Exhibit Hall packed with over 500 companies—publishers\, artists\, designers\, and indie creators—showcasing the latest games\, accessories\, and collectibles. It’s a treasure trove for gamers and collectors alike\, with exclusive releases and demos around every corner. \nSignature Events: Dive into legendary tournaments like the D&D Championship Series\, the ENnies RPG Awards\, and the immersive True Dungeon experience. Don’t miss quirky traditions like Cardhalla\, where you build a city of cards and then gleefully destroy it for charity. \nBlock Party Vibes: Step outside for the iconic Gen Con Block Party\, featuring the Sun King Beer Garden\, dozens of food trucks\, and live entertainment—perfect for unwinding and making new friends after a day of gaming. \nFamily Friendly: Gen Con welcomes gamers of all ages\, with free wristbands for kids under 10 and a packed schedule of family and youth events. \nVery Important Gamer (VIG) Program: For those seeking a VIP experience\, the VIG program offers perks like a private lounge\, exclusive gifts\, priority seating\, and special events—plus first dibs on next year’s VIG packages. \nWhy is Gen Con so special?\nFounded in 1968 by Gary Gygax (co-creator of Dungeons & Dragons)\, Gen Con is steeped in gaming history and creativity. It’s where new games debut\, industry legends mingle with fans\, and lifelong friendships are forged over dice and meeples. Whether you’re a seasoned strategist\, a roleplaying newbie\, a cosplay enthusiast\, or just love the energy of geek culture\, Gen Con Indy 2026 is your ultimate summer adventure. \nMark your calendar\, gather your party\, and prepare for four unforgettable days of gaming\, discovery\, and fun at Gen Con Indy 2026!
URL:https://events.stackedgame.com/events/gen-con-indy-2026/
LOCATION:Indiana Convention Center\, 100 South Capitol Avenue\, Indianapolis\, IN\, 46225\, United States
CATEGORIES:Board Game,Cosplay,Indie Games,Sci-Fi & Fantasy
ATTACH;FMTTYPE=image/png:https://cdn1.events.stackedgame.com/wp-content/uploads/sell/DanAvenger/temp/genconindy2026png.png
ORGANIZER;CN="Gen%20Con%20LLC":MAILTO:customerservice@gencon.com
END:VEVENT
END:VCALENDAR