BEGIN:VCALENDAR
VERSION:2.0
PRODID:-//StackedGame.com - ECPv5.14.1//NONSGML v1.0//EN
CALSCALE:GREGORIAN
METHOD:PUBLISH
X-WR-CALNAME:StackedGame.com
X-ORIGINAL-URL:https://events.stackedgame.com
X-WR-CALDESC:Events for StackedGame.com
REFRESH-INTERVAL;VALUE=DURATION:PT1H
X-Robots-Tag:noindex
X-PUBLISHED-TTL:PT1H
BEGIN:VTIMEZONE
TZID:UTC
BEGIN:STANDARD
TZOFFSETFROM:+0000
TZOFFSETTO:+0000
TZNAME:UTC
DTSTART:20250101T000000
END:STANDARD
END:VTIMEZONE
BEGIN:VEVENT
DTSTART;VALUE=DATE:20250713
DTEND;VALUE=DATE:20250929
DTSTAMP:20260422T043446
CREATED:20250702T220509Z
LAST-MODIFIED:20250702T220825Z
UID:39854-1752364800-1759103999@events.stackedgame.com
SUMMARY:Free Fire MAX India Cup 2025 (FFMIC)
DESCRIPTION:Get ready for the most electrifying esports showdown of the year—Free Fire MAX India Cup 2025 (FFMIC 2025)! After more than three years\, Garena is bringing back official Free Fire action to India\, and this time\, it’s bigger\, bolder\, and more competitive than ever before. \nWhat’s in store? \nMassive Prize Pool: With a jaw-dropping ₹1 crore prize pool up for grabs\, the stakes have never been higher for India’s top Free Fire squads. \nEpic Format: The tournament unfolds in four thrilling phases: \nIn-Game Qualifiers (July 13): All registered teams battle it out in up to 12 matches\, with their best 8 scores counting toward qualification. Only the top 48 teams make it to the next stage. \nOnline Qualifiers (July 26 – August 3): The competition heats up as teams fight for a coveted spot in the League Stage. \nLeague Stage (August 22 – September 14): 36 teams\, divided into three groups\, compete in a round-robin format. The top 12 teams advance to the Grand Finals. \nGrand Finals (September 27–28): The ultimate face-off! The 12 best teams in India clash for the FFMIC trophy and the lion’s share of the prize money. \nOpen for All: Registration is open to all Indian Free Fire MAX players meeting the minimum requirements (Diamond 1 rank\, Level 40\, age 16+). Gather your squad of 4–5 players and get ready to compete with the nation’s best. \nTop Teams & LAN Finals: Expect to see fan-favorite organizations like GodLike Esports\, Orangutan\, and K9 Esports in the mix. The Grand Finals will be an offline LAN event\, promising a high-energy\, stadium-like atmosphere. \nWhy is FFMIC 2025 special? \nIt marks the return of Garena’s official esports to India after a long hiatus\, reigniting the competitive spirit and uniting the Free Fire community. \nThe tournament’s open-for-all format gives every player—from rising stars to established pros—a shot at glory and life-changing rewards. \nWith a festival vibe\, nail-biting matches\, and a massive audience\, FFMIC 2025 is set to be a landmark event in Indian esports. \nReady to reignite the fire?\nWhether you’re playing or cheering\, Free Fire MAX India Cup 2025 is the ultimate battleground for India’s best. Assemble your squad\, sharpen your skills\, and get set for a summer of explosive esports action!
URL:https://events.stackedgame.com/events/free-fire-max-india-cup-2025-ffmic/
LOCATION:TBA
CATEGORIES:Esports,Gaming Awards,Sci-Fi & Fantasy,General Gaming
ATTACH;FMTTYPE=image/png:https://cdn1.events.stackedgame.com/wp-content/uploads/sell/DanAvenger/temp/freefiremaxindiacup2025png.png
ORGANIZER;CN="Garena":MAILTO:support@garena.com
END:VEVENT
BEGIN:VEVENT
DTSTART;VALUE=DATE:20250904
DTEND;VALUE=DATE:20250915
DTSTAMP:20260422T043446
CREATED:20250624T173309Z
LAST-MODIFIED:20250624T173309Z
UID:39741-1756944000-1757894399@events.stackedgame.com
SUMMARY:The International 2025
DESCRIPTION:The International 2025 (TI 14) is the fourteenth annual edition of Dota 2’s premier esports tournament\, organized by Valve and PGL. It brings together 16 of the world’s best Dota 2 teams to compete for the Aegis of Champions and a multi-million dollar prize pool. This year\, the event returns to Germany for the first time since its inaugural edition in 2011\, featuring a new Swiss-system group stage and a double-elimination playoff bracket. The event is recognized as the most prestigious and watched tournament in the Dota 2 competitive calendar.
URL:https://events.stackedgame.com/events/the-international-2025/
LOCATION:Barclays Arena\, Hamburg\, Germany\, Sylvesterallee 10\, Hamburg\, Hamburg\, 22525\, Germany
CATEGORIES:Esports,Game Merchandise,Gaming Awards,General Gaming
ATTACH;FMTTYPE=image/jpeg:https://cdn1.events.stackedgame.com/wp-content/uploads/sell/DanAvenger/temp/theinternational2025jpg.jpg
ORGANIZER;CN="Valve":MAILTO:questions@valvesoftware.com
END:VEVENT
BEGIN:VEVENT
DTSTART;VALUE=DATE:20250912
DTEND;VALUE=DATE:20250915
DTSTAMP:20260422T043446
CREATED:20250828T183924Z
LAST-MODIFIED:20250828T183924Z
UID:40294-1757635200-1757894399@events.stackedgame.com
SUMMARY:RetroWorld Expo 2025
DESCRIPTION:RetroWorld Expo 2025: A Nostalgic Blast from the Past!\nGet ready to power up and press start at RetroWorld Expo 2025\, the ultimate celebration of gaming’s golden eras! This electrifying event is a time machine for gamers\, collectors\, and pop culture enthusiasts\, transporting you back to the pixelated glory of retro video games while embracing the vibrant community that keeps the classics alive. Join us for an unforgettable weekend packed with arcade action\, retro treasures\, and a whole lot of 8-bit heart! \nWhat to Expect\nDive into a whirlwind of nostalgia at RetroWorld Expo 2025\, where every corner buzzes with the sights\, sounds\, and spirit of gaming’s past. Here’s what’s waiting for you: \n\n	Massive Gaming Arcade: Step into a neon-lit paradise of classic arcade cabinets and pinball machines! From Pac-Man to Street Fighter II\, play the games that defined generations\, all set to free play for endless fun. Whether you’re chasing high scores or reliving childhood memories\, the arcade is your playground.\n	Retro Console Free-Play Zone: Grab a controller and settle in at our sprawling console gaming area. Test your skills on iconic systems like the NES\, Sega Genesis\, PlayStation 1\, and more. Challenge friends to a Super Mario Kart race or rediscover hidden gems from the 80s and 90s.\n	Tournaments for Glory: Think you’ve got what it takes to be a retro gaming champion? Join our high-energy tournaments featuring fan-favorites like Super Smash Bros.\, Tetris\, and Mortal Kombat. Compete for epic prizes\, bragging rights\, and the title of RetroWorld legend!\n	Vendor Marketplace: Hunt for rare collectibles\, vintage games\, and retro swag in our bustling marketplace. From coveted cartridges to quirky merch\, you’ll find treasures to complete your collection or spark new obsessions. Pro tip: Bring your haggling skills for those holy grail finds!\n	Panels & Special Guests: Get up close with gaming industry legends\, voice actors\, and content creators who shaped the retro world. Our panels are packed with behind-the-scenes stories\, insider tips\, and Q&A sessions that’ll leave you inspired. Past guests have included developers\, composers\, and even speedrunning superstars!\n	Cosplay Extravaganza: Show off your creativity in our cosplay contest\, where characters from Zelda\, Final Fantasy\, and beyond come to life. Whether you’re crafting a pixel-perfect Mario or a steampunk Sonic\, strut your stuff for a chance to win prizes and wow the crowd.\n	Live Music & Entertainment: Groove to chiptune beats and retro-inspired performances that capture the essence of gaming’s greatest soundtracks. Our live music stage brings the bleeps and bloops of your favorite games to life\, with DJs and bands remixing classics in style.\n	Community Vibes: RetroWorld Expo is more than an event—it’s a family of fans who share your passion. Connect with fellow gamers\, trade tips\, and make lifelong friends in an inclusive\, welcoming atmosphere that celebrates every era of gaming.\n\nWhy You Can’t Miss It\nRetroWorld Expo 2025 is where memories are made and nostalgia reigns supreme. Whether you’re a hardcore collector chasing a mint-condition Chrono Trigger\, a casual gamer itching for a Donkey Kong fix\, or a newbie curious about the roots of modern gaming\, there’s something here for everyone. Expect a weekend of non-stop fun\, friendly competition\, and a deep dive into the games that shaped our world. \nEvent Details\n\n	When: Mark your calendars for Summer 2025 (exact dates coming soon)!\n	Where: A premier convention center bursting with retro charm (venue to be announced).\n	Tickets: Grab single-day passes or go all-in with a weekend badge for the full experience. Early bird deals and VIP packages available for the ultimate retro fan!\n\nDust off your controllers\, charge up your nostalgia\, and join us at RetroWorld Expo 2025 for a pixel-powered adventure you’ll never forget. Let’s rewind\, replay\, and relive the magic of retro gaming together!
URL:https://events.stackedgame.com/events/retroworld-expo-2025/
LOCATION:Connecticut Convention Center\, 100 Columbus Blvd\, Hartford\, CT\, 06103\, United States
CATEGORIES:Cosplay,Esports,Indie Games,Retro Games
ATTACH;FMTTYPE=image/jpeg:https://cdn1.events.stackedgame.com/wp-content/uploads/sell/DanEvents/E_40294/retroworldexpo2025jpg-1756406366.jpg
ORGANIZER;CN="RetroWorld%2C%20LLC":MAILTO:info@retroworldexpo.com
END:VEVENT
BEGIN:VEVENT
DTSTART;VALUE=DATE:20250913
DTEND;VALUE=DATE:20250915
DTSTAMP:20260422T043446
CREATED:20250620T172747Z
LAST-MODIFIED:20250620T172747Z
UID:39691-1757721600-1757894399@events.stackedgame.com
SUMMARY:Oz Comic‑Con Brisbane 2025
DESCRIPTION:Oz Comic‑Con Brisbane 2025 is Australia’s premier pop culture convention\, bringing together fans of comics\, anime\, gaming\, cosplay\, sci-fi\, fantasy\, and more. The event features a vibrant Artist Alley\, cosplay competitions (including the Australian Championships of Cosplay)\, gaming zones for console and tabletop play\, community and workshop stages\, live performances\, celebrity guests\, and a bustling exhibition floor. Attendees can enjoy panels\, meet creators\, shop for exclusive merchandise\, and participate in interactive experiences like robot battles and Just Dance competitions\, making it a must-attend for fans and families alike.
URL:https://events.stackedgame.com/events/oz-comic%e2%80%91con-brisbane-2025/
LOCATION:Brisbane Convention & Exhibition Centre (BCEC)\, Corner Merivale & Glenelg Streets\, South Brisbane\, Brisbane\, Queensland (QLD)\, 4101\, Australia
CATEGORIES:Comicon,Cosplay,Game Art & Creatives,Sci-Fi & Fantasy
ATTACH;FMTTYPE=image/jpeg:https://cdn1.events.stackedgame.com/wp-content/uploads/sell/DanAvenger/temp/ozcomicconbrisbane2025jpg.jpg
ORGANIZER;CN="Oz%20Comic%E2%80%91Con%20Events":MAILTO:info@ozcomiccon.com
END:VEVENT
BEGIN:VEVENT
DTSTART;VALUE=DATE:20250913
DTEND;VALUE=DATE:20250915
DTSTAMP:20260422T043446
CREATED:20250629T164327Z
LAST-MODIFIED:20250629T164557Z
UID:39785-1757721600-1757894399@events.stackedgame.com
SUMMARY:Pixel Expo IV
DESCRIPTION:Pixel Expo IV returns to the Perth Convention and Exhibition Centre as Western Australia’s biggest celebration of gaming\, animation\, and pop culture. Across two immersive days\, fans can explore a vibrant fusion of interactive panels\, artist alley creations\, indie games\, cosplay competitions\, VTuber guests\, workshops\, and free gaming tournaments. \nWhether you’re here to meet industry creators\, browse rare merchandise\, enter the Pixel Cosplay Championships\, or vibe in the Pixel Unity Diversity Lounge\, Pixel Expo IV offers an inclusive and electrifying experience for fans of all genres—from anime to arcade cabinets. It’s more than an expo—it’s a community-powered festival for gamers\, geeks\, artists\, and dreamers alike.
URL:https://events.stackedgame.com/events/pixel-expo-iv/
LOCATION:Perth Convention & Exhibition Centre (PCEC)\, 21 Mounts Bay Road\, Perth\, Western Australia\, 6000\, Australia
CATEGORIES:Cosplay,Game Art & Creatives,Indie Games,General Gaming
ATTACH;FMTTYPE=image/jpeg:https://cdn1.events.stackedgame.com/wp-content/uploads/sell/DanAvenger/temp/pixelexpoivperthwesternaustraliajpg.jpg
END:VEVENT
BEGIN:VEVENT
DTSTART;VALUE=DATE:20250913
DTEND;VALUE=DATE:20250915
DTSTAMP:20260422T043446
CREATED:20250830T095631Z
LAST-MODIFIED:20250830T095631Z
UID:40299-1757721600-1757894399@events.stackedgame.com
SUMMARY:Atlanta Collect‑A‑Con 2025
DESCRIPTION:Atlanta Collect-A-Con: The Ultimate Gaming & Pop Culture Extravaganza!\nGet ready to dive into a whirlwind of collectibles\, gaming\, and pop culture at Atlanta Collect-A-Con\, the nation’s largest trading card\, anime\, and pop culture convention! Held at the iconic Georgia World Congress Center on September 13-14\, 2025\, this all-ages weekend event is a paradise for collectors\, gamers\, and fans of every stripe. Whether you’re a seasoned trader\, a casual enthusiast\, or just looking for a fun-filled weekend\, Collect-A-Con has something epic for everyone! \nWhat to Expect\n\n	900+ Vendor Tables: Explore a massive marketplace brimming with treasures like Pokémon\, Yu-Gi-Oh!\, Magic: The Gathering\, and One Piece cards\, alongside sports cards\, Funko POP! figures\, vintage toys\, comic books\, and exclusive anime merch. Find rare gems and haggle for that perfect addition to your collection!\n	Gaming Galore: Immerse yourself in the world of trading card games and video games! Battle it out in thrilling tournaments\, trade with fellow players\, or discover new games that’ll keep you hooked. From competitive Pokémon showdowns to casual card game sessions\, there’s a spot for every gamer.\n	Star-Studded Guests: Rub elbows with anime voice actors\, celebrity guests\, and pop culture icons. Get autographs\, snap selfies\, and hear behind-the-scenes stories from your favorite shows\, games\, and comics during exclusive panels and meet-and-greets.\n	Live Performances & Box Breaks: Feel the energy with electrifying live performances that bring the convention to life! Join in on heart-pounding box breaks\, where collectors open packs live\, revealing rare cards and sharing the excitement with the crowd.\n	Family-Friendly Fun: Free admission for kids 7 and under makes this a perfect outing for families. With a vibrant\, welcoming atmosphere\, Collect-A-Con is designed to spark joy for fans of all ages.\n\nEvent Details\n\n	When: Saturday\, September 13 (10 AM – 6 PM) & Sunday\, September 14 (10 AM – 5 PM)\n	Where: Georgia World Congress Center\, Hall C4\, 285 Andrew Young International Blvd NW\, Atlanta\, GA 30313\n	Why: To celebrate your love for gaming\, anime\, and collectibles in a high-energy\, community-driven environment!\n\nWhy You Can’t Miss It\nAtlanta Collect-A-Con isn’t just a convention—it’s a vibrant celebration of everything that makes gaming and pop culture awesome. Whether you’re hunting for that elusive Charizard card\, geeking out over the latest anime merch\, or just soaking in the electric atmosphere\, this event promises unforgettable memories. Connect with fellow fans\, score exclusive swag\, and level up your collection in the heart of Atlanta! \nGrab your tickets\, bring your trading cards\, and join us for a weekend of non-stop excitement at Atlanta Collect-A-Con 2025!
URL:https://events.stackedgame.com/events/atlanta-collect%e2%80%91a%e2%80%91con-2025/
LOCATION:Georgia World Congress Center\, 285 Andrew Young International Blvd NW\, Atlanta\, GA\, 30313\, United States
END:VEVENT
BEGIN:VEVENT
DTSTART;TZID=UTC:20250913T110000
DTEND;TZID=UTC:20250914T220000
DTSTAMP:20260422T043446
CREATED:20250815T052438Z
LAST-MODIFIED:20250815T052512Z
UID:40181-1757761200-1757887200@events.stackedgame.com
SUMMARY:Milton Keynes Anime & Gaming Con 2025
DESCRIPTION:Prepare for a weekend of geeky delight at Milton Keynes Anime & Gaming Con 2025\, hitting the Leonardo Hotel from 13–14 September! \nWhether you’re a seasoned cosplayer\, anime lover\, gamer\, or tabletop strategist\, this convention has something for everyone: \n\n	\nCosplay showcase and stage events—masquerades\, lip-sync battles\, and talent quests. \n\n	\nGaming galore—modern video games\, retro setups\, board games\, and TCG tournaments for competitive & casual play. \n\n	\nLive entertainment—booming Big Geek Quizzes\, karaoke\, live bands\, and late-night parties fuel the energy. \n\n	\nPanels & meetups—Voice actors\, gaming creators\, and cosplay creatives unite for discussions and fan Q&As. \n\n	\nCommunity and creativity—vendor stalls and artist alley brimming with artwork\, indie merch\, comics\, and collectibles. \n\n\nGrab a weekend pass (~£32) to unlock the full experience\, or opt for Saturday (~£22) or Sunday (~£17) if you’re short on time. No matter the ticket\, you’ll find your tribe\, spark your creativity\, and immerse in fandom bliss.
URL:https://events.stackedgame.com/events/milton-keynes-anime-gaming-con-2025/
LOCATION:Leonardo Hotel Milton Keynes\, Milton Keynes\, England\, United Kingdom
CATEGORIES:Anime & Manga,General Gaming
ORGANIZER;CN="Animeleague":MAILTO:info@animeleague.com
END:VEVENT
END:VCALENDAR