BEGIN:VCALENDAR
VERSION:2.0
PRODID:-//StackedGame.com - ECPv5.14.1//NONSGML v1.0//EN
CALSCALE:GREGORIAN
METHOD:PUBLISH
X-WR-CALNAME:StackedGame.com
X-ORIGINAL-URL:https://events.stackedgame.com
X-WR-CALDESC:Events for StackedGame.com
REFRESH-INTERVAL;VALUE=DURATION:PT1H
X-Robots-Tag:noindex
X-PUBLISHED-TTL:PT1H
BEGIN:VTIMEZONE
TZID:UTC
BEGIN:STANDARD
TZOFFSETFROM:+0000
TZOFFSETTO:+0000
TZNAME:UTC
DTSTART:20250101T000000
END:STANDARD
TZID:America/Toronto
BEGIN:DAYLIGHT
TZOFFSETFROM:-0500
TZOFFSETTO:-0400
TZNAME:EDT
DTSTART:20250309T070000
END:DAYLIGHT
BEGIN:STANDARD
TZOFFSETFROM:-0400
TZOFFSETTO:-0500
TZNAME:EST
DTSTART:20251102T060000
END:STANDARD
TZID:America/Chicago
BEGIN:DAYLIGHT
TZOFFSETFROM:-0600
TZOFFSETTO:-0500
TZNAME:CDT
DTSTART:20250309T080000
END:DAYLIGHT
BEGIN:STANDARD
TZOFFSETFROM:-0500
TZOFFSETTO:-0600
TZNAME:CST
DTSTART:20251102T070000
END:STANDARD
TZID:America/New_York
BEGIN:DAYLIGHT
TZOFFSETFROM:-0500
TZOFFSETTO:-0400
TZNAME:EDT
DTSTART:20250309T070000
END:DAYLIGHT
BEGIN:STANDARD
TZOFFSETFROM:-0400
TZOFFSETTO:-0500
TZNAME:EST
DTSTART:20251102T060000
END:STANDARD
END:VTIMEZONE
BEGIN:VEVENT
DTSTART;VALUE=DATE:20250713
DTEND;VALUE=DATE:20250929
DTSTAMP:20260422T091726
CREATED:20250702T220509Z
LAST-MODIFIED:20250702T220825Z
UID:39854-1752364800-1759103999@events.stackedgame.com
SUMMARY:Free Fire MAX India Cup 2025 (FFMIC)
DESCRIPTION:Get ready for the most electrifying esports showdown of the year—Free Fire MAX India Cup 2025 (FFMIC 2025)! After more than three years\, Garena is bringing back official Free Fire action to India\, and this time\, it’s bigger\, bolder\, and more competitive than ever before. \nWhat’s in store? \nMassive Prize Pool: With a jaw-dropping ₹1 crore prize pool up for grabs\, the stakes have never been higher for India’s top Free Fire squads. \nEpic Format: The tournament unfolds in four thrilling phases: \nIn-Game Qualifiers (July 13): All registered teams battle it out in up to 12 matches\, with their best 8 scores counting toward qualification. Only the top 48 teams make it to the next stage. \nOnline Qualifiers (July 26 – August 3): The competition heats up as teams fight for a coveted spot in the League Stage. \nLeague Stage (August 22 – September 14): 36 teams\, divided into three groups\, compete in a round-robin format. The top 12 teams advance to the Grand Finals. \nGrand Finals (September 27–28): The ultimate face-off! The 12 best teams in India clash for the FFMIC trophy and the lion’s share of the prize money. \nOpen for All: Registration is open to all Indian Free Fire MAX players meeting the minimum requirements (Diamond 1 rank\, Level 40\, age 16+). Gather your squad of 4–5 players and get ready to compete with the nation’s best. \nTop Teams & LAN Finals: Expect to see fan-favorite organizations like GodLike Esports\, Orangutan\, and K9 Esports in the mix. The Grand Finals will be an offline LAN event\, promising a high-energy\, stadium-like atmosphere. \nWhy is FFMIC 2025 special? \nIt marks the return of Garena’s official esports to India after a long hiatus\, reigniting the competitive spirit and uniting the Free Fire community. \nThe tournament’s open-for-all format gives every player—from rising stars to established pros—a shot at glory and life-changing rewards. \nWith a festival vibe\, nail-biting matches\, and a massive audience\, FFMIC 2025 is set to be a landmark event in Indian esports. \nReady to reignite the fire?\nWhether you’re playing or cheering\, Free Fire MAX India Cup 2025 is the ultimate battleground for India’s best. Assemble your squad\, sharpen your skills\, and get set for a summer of explosive esports action!
URL:https://events.stackedgame.com/events/free-fire-max-india-cup-2025-ffmic/
LOCATION:TBA
CATEGORIES:Esports,Gaming Awards,Sci-Fi & Fantasy,General Gaming
ATTACH;FMTTYPE=image/png:https://cdn1.events.stackedgame.com/wp-content/uploads/sell/DanAvenger/temp/freefiremaxindiacup2025png.png
ORGANIZER;CN="Garena":MAILTO:support@garena.com
END:VEVENT
BEGIN:VEVENT
DTSTART;VALUE=DATE:20250820
DTEND;VALUE=DATE:20250825
DTSTAMP:20260422T091726
CREATED:20250622T172855Z
LAST-MODIFIED:20250622T172855Z
UID:39701-1755648000-1756079999@events.stackedgame.com
SUMMARY:Gamescom 2025
DESCRIPTION:Gamescom is the world’s largest event for computer and video games\, bringing together gamers\, developers\, publishers\, and industry professionals from across the globe. The event features major game reveals\, hands-on demos\, esports tournaments\, cosplay contests\, developer panels\, and a massive expo floor. Gamescom is renowned for its vibrant community atmosphere\, exclusive announcements\, and opportunities for networking and discovering the latest trends in gaming and interactive entertainment.
URL:https://events.stackedgame.com/events/gamescom-2025/
LOCATION:Koelnmesse\, Cologne\, Germany\, Messeplatz 1\, Cologne\, North Rhine-Westphalia\, 50679\, Germany
CATEGORIES:Esports,Game Development,Indie Games,General Gaming
ATTACH;FMTTYPE=image/png:https://cdn1.events.stackedgame.com/wp-content/uploads/sell/DanAvenger/temp/gamescom2025png.png
ORGANIZER;CN="Koelnmesse%20Pte%20Ltd":MAILTO:info@koelnmesse.de
END:VEVENT
BEGIN:VEVENT
DTSTART;TZID=America/Toronto:20250821T160000
DTEND;TZID=America/Toronto:20250824T170000
DTSTAMP:20260422T091726
CREATED:20241114T113840Z
LAST-MODIFIED:20241114T113840Z
UID:38052-1755792000-1756054800@events.stackedgame.com
SUMMARY:Fan Expo Canada 2025
DESCRIPTION:Fan Expo Canada is a massive pop culture event in Toronto that includes comics\, sci-fi\, horror\, anime\, and gaming. It features celebrity guests\, cosplay events\, and a wide range of activities. \nIf you’re into comics\, sci-fi\, horror\, anime\, gaming\, or cosplay\, come share our playground. You’ll feel out of this world – and right at home.
URL:https://events.stackedgame.com/events/fan-expo-canada-2025/
LOCATION:Metro Toronto Convention Centre\, 255 Front St W\, Toronto\, Ontario\, M5V 2W6\, Canada
CATEGORIES:Anime & Manga
ATTACH;FMTTYPE=image/png:https://cdn1.events.stackedgame.com/wp-content/uploads/fanexpo-canada-2025featured-imagepng-1.png
ORGANIZER;CN="Informa%20Connect":MAILTO:events@informacanada.com
GEO:43.6435;-79.3853
X-APPLE-STRUCTURED-LOCATION;VALUE=URI;X-ADDRESS=Metro Toronto Convention Centre 255 Front St W Toronto Ontario M5V 2W6 Canada;X-APPLE-RADIUS=500;X-TITLE=255 Front St W:geo:-79.3853,43.6435
END:VEVENT
BEGIN:VEVENT
DTSTART;VALUE=DATE:20250822
DTEND;VALUE=DATE:20250825
DTSTAMP:20260422T091726
CREATED:20241101T172343Z
LAST-MODIFIED:20241101T172343Z
UID:38120-1755820800-1756079999@events.stackedgame.com
SUMMARY:Anime Magic! 2025
DESCRIPTION:Anime Magic! is a convention celebrating anime and Japanese culture with panels and cosplay contests Anime Magic! is on a mission to bring the “magic” back to anime conventions! We’re always pushing the boundaries\, and this year is no different. We’re getting WAY bigger\, better\, and more exciting for.
URL:https://events.stackedgame.com/events/anime-magic-2025/
LOCATION:Hyatt Regency O’Hare & Donald E. Stephens Convention Center\, 9300 W Bryn Mawr Ave\, Rosemont\, IL\, 60018\, United States
CATEGORIES:Anime & Manga,Cosplay
ATTACH;FMTTYPE=image/png:https://cdn1.events.stackedgame.com/wp-content/uploads/anime-magic-2025featured-imagepng.png
ORGANIZER;CN="Anime%20Magic%21":MAILTO:info@animemagic.org
END:VEVENT
BEGIN:VEVENT
DTSTART;VALUE=DATE:20250822
DTEND;VALUE=DATE:20250825
DTSTAMP:20260422T091726
CREATED:20241104T155127Z
LAST-MODIFIED:20241104T163049Z
UID:38046-1755820800-1756079999@events.stackedgame.com
SUMMARY:Anime NYC 2025
DESCRIPTION:Anime NYC is New York City’s anime convention! A showcase of the best of Japanese pop culture in the biggest city in America\, Anime NYC brings anime fans and publishers together for three days of unique exhibits\, exclusive screenings\, extensive panels\, and appearances by some of the biggest creators in Japan. Join us for a celebration of Japanese animation\, manga\, and cosplay in the heart of NYC! \n\n\n\nAnime NYC is a creation of LeftField Media\, a boutique event company made up of dedicated fans and experienced convention organizers.
URL:https://events.stackedgame.com/events/anime-nyc-2025/
LOCATION:Javits Center\, 429 11th Avenue\, New York City\, NY\, 10001\, United States
CATEGORIES:Anime & Manga,Comicon
ATTACH;FMTTYPE=image/jpeg:https://cdn1.events.stackedgame.com/wp-content/uploads/anime-nycfeatured-imagejpg.jpg
ORGANIZER;CN="LeftField%20Media":MAILTO:info@leftfieldmedia.com
GEO:40.7577;-74.0026
X-APPLE-STRUCTURED-LOCATION;VALUE=URI;X-ADDRESS=Javits Center 429 11th Avenue New York City NY 10001 United States;X-APPLE-RADIUS=500;X-TITLE=429 11th Avenue:geo:-74.0026,40.7577
END:VEVENT
END:VCALENDAR