BEGIN:VCALENDAR
VERSION:2.0
PRODID:-//StackedGame.com - ECPv5.14.1//NONSGML v1.0//EN
CALSCALE:GREGORIAN
METHOD:PUBLISH
X-WR-CALNAME:StackedGame.com
X-ORIGINAL-URL:https://events.stackedgame.com
X-WR-CALDESC:Events for StackedGame.com
REFRESH-INTERVAL;VALUE=DURATION:PT1H
X-Robots-Tag:noindex
X-PUBLISHED-TTL:PT1H
BEGIN:VTIMEZONE
TZID:UTC
BEGIN:STANDARD
TZOFFSETFROM:+0000
TZOFFSETTO:+0000
TZNAME:UTC
DTSTART:20250101T000000
END:STANDARD
TZID:America/New_York
BEGIN:DAYLIGHT
TZOFFSETFROM:-0500
TZOFFSETTO:-0400
TZNAME:EDT
DTSTART:20250309T070000
END:DAYLIGHT
BEGIN:STANDARD
TZOFFSETFROM:-0400
TZOFFSETTO:-0500
TZNAME:EST
DTSTART:20251102T060000
END:STANDARD
END:VTIMEZONE
BEGIN:VEVENT
DTSTART;VALUE=DATE:20250707
DTEND;VALUE=DATE:20250725
DTSTAMP:20260422T072822
CREATED:20250619T114819Z
LAST-MODIFIED:20250619T115037Z
UID:39666-1751846400-1753401599@events.stackedgame.com
SUMMARY:Esports World Cup 2025
DESCRIPTION:The 2025 Esports World Cup (EWC) is the world’s largest multi-title esports event\, bringing together over 2\,000 players from more than 200 clubs to compete across 25 tournaments in 24 games. Hosted in Riyadh\, Saudi Arabia\, the EWC features a record-breaking $70 million prize pool and is designed as both a top-tier competitive tournament and a festival-style experience for fans\, creators\, and industry professionals. The event includes major esports titles such as League of Legends\, Dota 2\, Counter-Strike 2\, VALORANT\, Free Fire\, Apex Legends\, and more\, with additional activities like cosplay contests\, fan meetups\, live performances\, and industry summits.
URL:https://events.stackedgame.com/events/esports-event-2025-esports-world-cup/
LOCATION:Boulevard Riyadh City\, SEF Arena\, Boulevard Riyadh City\, SEF Arena\, Riyadh\, Riyadh\, Saudi Arabia
CATEGORIES:Cosplay,Esports,Game Art & Creatives,Game Merchandise,Gaming Awards,Gaming Careers,General Gaming
ATTACH;FMTTYPE=image/png:https://cdn1.events.stackedgame.com/wp-content/uploads/sell/DanAvenger/temp/esportsevent2025esportsworldcuppng.png
ORGANIZER;CN="Esports%20World%20Cup%20Foundation%20%28EWCF%29":MAILTO:ewcfclubprogram@esportsworldcup.com
END:VEVENT
BEGIN:VEVENT
DTSTART;TZID=America/New_York:20250707T100000
DTEND;TZID=America/New_York:20250708T170000
DTSTAMP:20260422T072822
CREATED:20241107T110836Z
LAST-MODIFIED:20241107T110836Z
UID:38116-1751882400-1751994000@events.stackedgame.com
SUMMARY:Rhode Island Anime Con 2025
DESCRIPTION:Rhode Island Anime Con features anime screenings and cosplay contests for fans of all ages.
URL:https://events.stackedgame.com/events/rhode-island-anime-con-2025/
LOCATION:Rhode Island Convention Center\, 1 Sabin St\, Providence\, RI\, 02903\, United States
CATEGORIES:Anime & Manga,Cosplay
ATTACH;FMTTYPE=image/png:https://cdn1.events.stackedgame.com/wp-content/uploads/rhode-island-animecon-2025featured-imagepng-1.png
ORGANIZER;CN="Altered%20Reality%20Entertainment%20LLC":MAILTO:info@rianimecon.com
GEO:41.824;-71.416
X-APPLE-STRUCTURED-LOCATION;VALUE=URI;X-ADDRESS=Rhode Island Convention Center 1 Sabin St Providence RI 02903 United States;X-APPLE-RADIUS=500;X-TITLE=1 Sabin St:geo:-71.416,41.824
END:VEVENT
BEGIN:VEVENT
DTSTART;TZID=UTC:20250708T080000
DTEND;TZID=UTC:20250710T170000
DTSTAMP:20260422T072822
CREATED:20250612T171545Z
LAST-MODIFIED:20250612T171648Z
UID:39588-1751961600-1752166800@events.stackedgame.com
SUMMARY:Develop:Brighton 2025
DESCRIPTION:Develop:Brighton is the UK’s leading games industry conference\, bringing together game developers\, publishers\, and industry professionals for networking\, knowledge-sharing\, and inspiration. The event features keynote speakers\, panel discussions\, workshops\, and networking opportunities designed to support the growth and innovation of the games sector.
URL:https://events.stackedgame.com/events/developbrighton-2025/
LOCATION:Brighton Centre\, Kings Road\, Brighton\, Brighton\, East Sussex\, BN1 2GR\, United Kingdom
CATEGORIES:Game Art & Creatives,Gaming Careers,Game Development,Indie Games
ATTACH;FMTTYPE=image/jpeg:https://cdn1.events.stackedgame.com/wp-content/uploads/sell/DanAvenger/temp/img-virtuos-events-develop-brighton-1jpg.jpg
ORGANIZER;CN="Tandem%20Events":MAILTO:info@tandemevents.co.uk
END:VEVENT
END:VCALENDAR