BEGIN:VCALENDAR
VERSION:2.0
PRODID:-//StackedGame.com - ECPv5.14.1//NONSGML v1.0//EN
CALSCALE:GREGORIAN
METHOD:PUBLISH
X-WR-CALNAME:StackedGame.com
X-ORIGINAL-URL:https://events.stackedgame.com
X-WR-CALDESC:Events for StackedGame.com
REFRESH-INTERVAL;VALUE=DURATION:PT1H
X-Robots-Tag:noindex
X-PUBLISHED-TTL:PT1H
BEGIN:VTIMEZONE
TZID:America/Los_Angeles
BEGIN:DAYLIGHT
TZOFFSETFROM:-0800
TZOFFSETTO:-0700
TZNAME:PDT
DTSTART:20250309T100000
END:DAYLIGHT
BEGIN:STANDARD
TZOFFSETFROM:-0700
TZOFFSETTO:-0800
TZNAME:PST
DTSTART:20251102T090000
END:STANDARD
TZID:America/Chicago
BEGIN:DAYLIGHT
TZOFFSETFROM:-0600
TZOFFSETTO:-0500
TZNAME:CDT
DTSTART:20250309T080000
END:DAYLIGHT
BEGIN:STANDARD
TZOFFSETFROM:-0500
TZOFFSETTO:-0600
TZNAME:CST
DTSTART:20251102T070000
END:STANDARD
TZID:America/New_York
BEGIN:DAYLIGHT
TZOFFSETFROM:-0500
TZOFFSETTO:-0400
TZNAME:EDT
DTSTART:20250309T070000
END:DAYLIGHT
BEGIN:STANDARD
TZOFFSETFROM:-0400
TZOFFSETTO:-0500
TZNAME:EST
DTSTART:20251102T060000
END:STANDARD
END:VTIMEZONE
BEGIN:VEVENT
DTSTART;TZID=America/Los_Angeles:20250307T000000
DTEND;TZID=America/Los_Angeles:20250607T000000
DTSTAMP:20260422T130056
CREATED:20241104T163323Z
LAST-MODIFIED:20241104T163323Z
UID:38051-1741305600-1749254400@events.stackedgame.com
SUMMARY:Anime Expo 2025
DESCRIPTION:Anime expo chibi\, also known as “axc”\, is a smaller-scale spinoff convention that will afford fans an additional\, cozier opportunity to share their love of Japanese anime and pop culture \nThis event serves as a marketplace showcasing the exhibit hall and artist alley. Inspired by the adorable art style\, axc is a convention aimed at celebrating what truly makes Anime Expo so incredible – YOU!
URL:https://events.stackedgame.com/events/anime-expo-2025/
LOCATION:Los Angeles Convention Center\, 1201 South Figueroa St\, Los Angeles\, CA\, 90015\, United States
CATEGORIES:Anime & Manga
ATTACH;FMTTYPE=image/png:https://cdn1.events.stackedgame.com/wp-content/uploads/anime-expo-2025featured-imagepng.png
ORGANIZER;CN="Society%20for%20the%20Promotion%20of%20Japanese%20Animation":MAILTO:info@anime-expo.org
END:VEVENT
BEGIN:VEVENT
DTSTART;VALUE=DATE:20250516
DTEND;VALUE=DATE:20250519
DTSTAMP:20260422T130056
CREATED:20241109T120847Z
LAST-MODIFIED:20241109T120847Z
UID:38060-1747353600-1747612799@events.stackedgame.com
SUMMARY:Anime Central 2025
DESCRIPTION:Anime Central is the largest anime\, manga and Japanese popular culture convention in Chicago and the Midwest. It includes a huge exhibit hall\, video game room\, concerts\, dances\, panels and workshops. \nAnime Central (ACen) is the largest anime\, manga and Japanese popular culture convention in Chicago and the Midwest. Our event is located less than 30 minutes from downtown Chicago\, in Rosemont\, IL. As part of its mission\, ACen brings fans together with guests from the Japanese and US sectors of the anime and manga industry\, as well as gaming\, cinema\, and Asian culture personalities
URL:https://events.stackedgame.com/events/anime-central-2025/
LOCATION:Donald E. Stephens Convention Center & Hyatt Regency O’Hare\, 5555 N River Rd\, Rosemont\, IL\, 60018\, United States
CATEGORIES:Anime & Manga
ATTACH;FMTTYPE=image/png:https://cdn1.events.stackedgame.com/wp-content/uploads/anime-central-2025featured-imagepng.png
ORGANIZER;CN="Anime%20Central":MAILTO:info@acen.org
GEO:41.9786;-87.8617
X-APPLE-STRUCTURED-LOCATION;VALUE=URI;X-ADDRESS=Donald E. Stephens Convention Center & Hyatt Regency O’Hare 5555 N River Rd Rosemont IL 60018 United States;X-APPLE-RADIUS=500;X-TITLE=5555 N River Rd:geo:-87.8617,41.9786
END:VEVENT
BEGIN:VEVENT
DTSTART;TZID=America/New_York:20250516T160000
DTEND;TZID=America/New_York:20250518T170000
DTSTAMP:20260422T130056
CREATED:20240708T070236Z
LAST-MODIFIED:20241112T120112Z
UID:37225-1747411200-1747587600@events.stackedgame.com
SUMMARY:Fan Expo Philadelphia 2025
DESCRIPTION:Fan Expo Philadelphia is a pop culture event featuring comics\, sci-fi\, horror and anime with celebrity guests and interactive experiences. \nExperience the ultimate fandom weekend of celebs\, cosplay\, comics\, anime\, gaming\, and so much more
URL:https://events.stackedgame.com/events/fan-expo-philadelphia-2025/
LOCATION:Philadelphia Convention Center\, 1101 Arch St\, Philadelphia\, PA\, 19107\, United States
CATEGORIES:Anime & Manga,Comicon,Sci-Fi & Fantasy
ATTACH;FMTTYPE=image/png:https://cdn1.events.stackedgame.com/wp-content/uploads/fan-expo-philadelphia-2025featured-imagepng.png
ORGANIZER;CN="Informa%20Connect":MAILTO:events@informacanada.com
END:VEVENT
BEGIN:VEVENT
DTSTART;TZID=America/New_York:20250517T100000
DTEND;TZID=America/New_York:20250517T170000
DTSTAMP:20260422T130056
CREATED:20241112T120414Z
LAST-MODIFIED:20241112T120414Z
UID:38075-1747476000-1747501200@events.stackedgame.com
SUMMARY:Charlie's Anime Con 2025
DESCRIPTION:Charlie’s Anime Con is a one-day event focused on anime fandom with panels and cosplay contests. Going to a Con is full of fun and surprises
URL:https://events.stackedgame.com/events/charlies-anime-con-2025/
LOCATION:Tropical Lodge No. 56\, 10868 Metro Parkway\, Fort Myers\, FL\, 33966\, United States
CATEGORIES:Anime & Manga
ATTACH;FMTTYPE=image/png:https://cdn1.events.stackedgame.com/wp-content/uploads/charlies-anime-con-2025featured-imagepng-1.png
ORGANIZER;CN="Charlie%27s%20Anime%20Con":MAILTO:info@charliesanimecon.com
END:VEVENT
END:VCALENDAR